BEGIN:VCALENDAR
VERSION:2.0
PRODID:-//Friends of Peninsula State Park - ECPv6.15.20//NONSGML v1.0//EN
CALSCALE:GREGORIAN
METHOD:PUBLISH
X-ORIGINAL-URL:https://peninsulastatepark.org
X-WR-CALDESC:Events for Friends of Peninsula State Park
REFRESH-INTERVAL;VALUE=DURATION:PT1H
X-Robots-Tag:noindex
X-PUBLISHED-TTL:PT1H
BEGIN:VTIMEZONE
TZID:America/Chicago
BEGIN:DAYLIGHT
TZOFFSETFROM:-0600
TZOFFSETTO:-0500
TZNAME:CDT
DTSTART:20120311T080000
END:DAYLIGHT
BEGIN:STANDARD
TZOFFSETFROM:-0500
TZOFFSETTO:-0600
TZNAME:CST
DTSTART:20121104T070000
END:STANDARD
BEGIN:DAYLIGHT
TZOFFSETFROM:-0600
TZOFFSETTO:-0500
TZNAME:CDT
DTSTART:20130310T080000
END:DAYLIGHT
BEGIN:STANDARD
TZOFFSETFROM:-0500
TZOFFSETTO:-0600
TZNAME:CST
DTSTART:20131103T070000
END:STANDARD
BEGIN:DAYLIGHT
TZOFFSETFROM:-0600
TZOFFSETTO:-0500
TZNAME:CDT
DTSTART:20140309T080000
END:DAYLIGHT
BEGIN:STANDARD
TZOFFSETFROM:-0500
TZOFFSETTO:-0600
TZNAME:CST
DTSTART:20141102T070000
END:STANDARD
BEGIN:DAYLIGHT
TZOFFSETFROM:-0600
TZOFFSETTO:-0500
TZNAME:CDT
DTSTART:20150308T080000
END:DAYLIGHT
BEGIN:STANDARD
TZOFFSETFROM:-0500
TZOFFSETTO:-0600
TZNAME:CST
DTSTART:20151101T070000
END:STANDARD
BEGIN:DAYLIGHT
TZOFFSETFROM:-0600
TZOFFSETTO:-0500
TZNAME:CDT
DTSTART:20160313T080000
END:DAYLIGHT
BEGIN:STANDARD
TZOFFSETFROM:-0500
TZOFFSETTO:-0600
TZNAME:CST
DTSTART:20161106T070000
END:STANDARD
BEGIN:DAYLIGHT
TZOFFSETFROM:-0600
TZOFFSETTO:-0500
TZNAME:CDT
DTSTART:20170312T080000
END:DAYLIGHT
BEGIN:STANDARD
TZOFFSETFROM:-0500
TZOFFSETTO:-0600
TZNAME:CST
DTSTART:20171105T070000
END:STANDARD
BEGIN:DAYLIGHT
TZOFFSETFROM:-0600
TZOFFSETTO:-0500
TZNAME:CDT
DTSTART:20180311T080000
END:DAYLIGHT
BEGIN:STANDARD
TZOFFSETFROM:-0500
TZOFFSETTO:-0600
TZNAME:CST
DTSTART:20181104T070000
END:STANDARD
BEGIN:DAYLIGHT
TZOFFSETFROM:-0600
TZOFFSETTO:-0500
TZNAME:CDT
DTSTART:20190310T080000
END:DAYLIGHT
BEGIN:STANDARD
TZOFFSETFROM:-0500
TZOFFSETTO:-0600
TZNAME:CST
DTSTART:20191103T070000
END:STANDARD
BEGIN:DAYLIGHT
TZOFFSETFROM:-0600
TZOFFSETTO:-0500
TZNAME:CDT
DTSTART:20200308T080000
END:DAYLIGHT
BEGIN:STANDARD
TZOFFSETFROM:-0500
TZOFFSETTO:-0600
TZNAME:CST
DTSTART:20201101T070000
END:STANDARD
BEGIN:DAYLIGHT
TZOFFSETFROM:-0600
TZOFFSETTO:-0500
TZNAME:CDT
DTSTART:20210314T080000
END:DAYLIGHT
BEGIN:STANDARD
TZOFFSETFROM:-0500
TZOFFSETTO:-0600
TZNAME:CST
DTSTART:20211107T070000
END:STANDARD
BEGIN:DAYLIGHT
TZOFFSETFROM:-0600
TZOFFSETTO:-0500
TZNAME:CDT
DTSTART:20220313T080000
END:DAYLIGHT
BEGIN:STANDARD
TZOFFSETFROM:-0500
TZOFFSETTO:-0600
TZNAME:CST
DTSTART:20221106T070000
END:STANDARD
BEGIN:DAYLIGHT
TZOFFSETFROM:-0600
TZOFFSETTO:-0500
TZNAME:CDT
DTSTART:20230312T080000
END:DAYLIGHT
BEGIN:STANDARD
TZOFFSETFROM:-0500
TZOFFSETTO:-0600
TZNAME:CST
DTSTART:20231105T070000
END:STANDARD
BEGIN:DAYLIGHT
TZOFFSETFROM:-0600
TZOFFSETTO:-0500
TZNAME:CDT
DTSTART:20240310T080000
END:DAYLIGHT
BEGIN:STANDARD
TZOFFSETFROM:-0500
TZOFFSETTO:-0600
TZNAME:CST
DTSTART:20241103T070000
END:STANDARD
BEGIN:DAYLIGHT
TZOFFSETFROM:-0600
TZOFFSETTO:-0500
TZNAME:CDT
DTSTART:20250309T080000
END:DAYLIGHT
BEGIN:STANDARD
TZOFFSETFROM:-0500
TZOFFSETTO:-0600
TZNAME:CST
DTSTART:20251102T070000
END:STANDARD
BEGIN:DAYLIGHT
TZOFFSETFROM:-0600
TZOFFSETTO:-0500
TZNAME:CDT
DTSTART:20260308T080000
END:DAYLIGHT
BEGIN:STANDARD
TZOFFSETFROM:-0500
TZOFFSETTO:-0600
TZNAME:CST
DTSTART:20261101T070000
END:STANDARD
END:VTIMEZONE
BEGIN:VEVENT
DTSTART;TZID=America/Chicago:20250829T073000
DTEND;TZID=America/Chicago:20250829T083000
DTSTAMP:20260424T033417
CREATED:20250606T150744Z
LAST-MODIFIED:20250606T150744Z
UID:12675-1756452600-1756456200@peninsulastatepark.org
SUMMARY:Run with a Ranger
DESCRIPTION:Weekly Run with a Ranger on various trails throughout the park. Come out\, meet new people\, and learn more about what makes Peninsula State Park a special place! Most routes are about 5k (3mi) in distance with cutoffs for shorter routes. \nMeet at the Skyline parking lot!
URL:https://peninsulastatepark.org/event/run-with-a-ranger-3/2025-08-29/
LOCATION:Peninsula State Park\, 9462 Shore Road\, Fish Creek\, WI\, 54212\, United States
END:VEVENT
BEGIN:VEVENT
DTSTART;TZID=America/Chicago:20250627T073000
DTEND;TZID=America/Chicago:20250627T083000
DTSTAMP:20260424T033417
CREATED:20250606T150744Z
LAST-MODIFIED:20250606T150744Z
UID:12674-1751009400-1751013000@peninsulastatepark.org
SUMMARY:Run with a Ranger
DESCRIPTION:Weekly Run with a Ranger on various trails throughout the park. Come out\, meet new people\, and learn more about what makes Peninsula State Park a special place! Most routes are about 5k (3mi) in distance with cutoffs for shorter routes. \nMeet at the Skyline parking lot!
URL:https://peninsulastatepark.org/event/run-with-a-ranger-3/2025-06-27/
LOCATION:Peninsula State Park\, 9462 Shore Road\, Fish Creek\, WI\, 54212\, United States
END:VEVENT
BEGIN:VEVENT
DTSTART;TZID=America/Chicago:20230610T080000
DTEND;TZID=America/Chicago:20230610T130000
DTSTAMP:20260424T033417
CREATED:20230516T190015Z
LAST-MODIFIED:20230516T195129Z
UID:11297-1686384000-1686402000@peninsulastatepark.org
SUMMARY:Leave No Trace Spotlight Stewardship Workday
DESCRIPTION:National Get Outdoors Day Stewardship Workday @ Nelson’s Point\, 8:00 am – 12:00 pm\nAll volunteers meet at Nelson’s Point at 8:00. \nIt has been a few years since Peninsula was able to coordinate a large-scale volunteer event\, so we are thrilled to be organizing the Leave No Trace Spotlight Stewardship Workday. \nWe’re calling on all interested individuals to join us. By blazing a new trail and helping to clean up the park we will be making a positive difference in the community and helping to improve our natural environment\, and access to new areas at the same time. Don’t worry if you’ve never done anything like this before because no experience is necessary. All necessary tools and equipment will be provided\, so all you need to bring is your enthusiasm\, some comfortable clothes\, and a reusable water bottle. \n 
URL:https://peninsulastatepark.org/event/leave-no-trace-spotlight-social-event-%f0%9f%a5%be/
LOCATION:Peninsula State Park\, 9462 Shore Road\, Fish Creek\, WI\, 54212\, United States
END:VEVENT
BEGIN:VEVENT
DTSTART;VALUE=DATE:20230608
DTEND;VALUE=DATE:20230611
DTSTAMP:20260424T033417
CREATED:20230316T141352Z
LAST-MODIFIED:20230429T162326Z
UID:10791-1686182400-1686441599@peninsulastatepark.org
SUMMARY:Leave No Trace Spotlight
DESCRIPTION:Volunteers and Outdoor Enthusiasts – \nDestination Door County has teamed up with Peninsula State Park as a host for the Leave No Trace Center for Outdoor Ethics’ 2023 Spotlight Program (lnt.org). \nThe Spotlight Program is a multiday outreach event to highlight community conservation\, to spread education and to build momentum and inspire involvement for the future. \nPeninsula State Park’s Spotlight is scheduled for June 8-10\, when social\, educational and outreach events will be held throughout Peninsula State Park with support from the Leave No Trace team. \nThe three-day event will culminate in a parkwide stewardship project on Saturday\, June 10\, which is also National Get Outdoors Day. \nHere’s our site for more information: \nLeave No Trace Spotlight Program | Destination Door County
URL:https://peninsulastatepark.org/event/leave-no-trace-spotlight/
LOCATION:Peninsula State Park\, 9462 Shore Road\, Fish Creek\, WI\, 54212\, United States
END:VEVENT
BEGIN:VEVENT
DTSTART;TZID=America/Chicago:20230606T090000
DTEND;TZID=America/Chicago:20230606T103000
DTSTAMP:20260424T033417
CREATED:20230501T215751Z
LAST-MODIFIED:20230501T215751Z
UID:11066-1686042000-1686047400@peninsulastatepark.org
SUMMARY:Trail Run Tuesdays
DESCRIPTION:Join Peninsula Park’s Manager\, Matt Ernst for a run through Peninsula Park.\nRun at your own pace along the trails while we share what makes this place so special to along the way! \nEach week offers one of five 3-mile route options. \nStop by the visitor center for the weekly route. \nRain or Shine! Be sure to wear weather appropriate attire and bring hydration.
URL:https://peninsulastatepark.org/event/trail-run-tuesdays/2023-06-06/
LOCATION:Peninsula State Park\, 9462 Shore Road\, Fish Creek\, WI\, 54212\, United States
END:VEVENT
BEGIN:VEVENT
DTSTART;VALUE=DATE:20230603
DTEND;VALUE=DATE:20230605
DTSTAMP:20260424T033417
CREATED:20230316T140902Z
LAST-MODIFIED:20230316T140902Z
UID:10787-1685750400-1685923199@peninsulastatepark.org
SUMMARY:Free Weekend
DESCRIPTION:Communities and Families – Krista Lutzke\, Nick Legler\, Fisheries\nFor the first weekend every June\, visitors can explore it all with state park admission\nfees\, fishing licenses and trail passes waived. During this event the fisheries fish tank\,\nPeter Perchy author and illustrator\, and more will be in attendance during the event.
URL:https://peninsulastatepark.org/event/free-weekend/
LOCATION:Peninsula State Park\, 9462 Shore Road\, Fish Creek\, WI\, 54212\, United States
END:VEVENT
BEGIN:VEVENT
DTSTART;TZID=America/Chicago:20190202T173000
DTEND;TZID=America/Chicago:20190202T200000
DTSTAMP:20260424T033417
CREATED:20190108T202442Z
LAST-MODIFIED:20191125T202104Z
UID:5485-1549128600-1549137600@peninsulastatepark.org
SUMMARY:Candlelight Ski/Hike - 2019
DESCRIPTION:Peninsula State Park will host a candlelight ski/hike on Saturday\, February 2\, 2019 from 5:30 pm – 8 pm. Skiers and hikers are invited to head out on a one-mile candlelit trail. Snowshoes are also permitted if there is sufficient snow. At the end of the trail\, enjoy a bonfire with refreshments. Participants may wish to bring a small flashlight or headlamp. Pets are not allowed. \nSkiers/hikers should enter at Highland Road (one mile north of Fish Creek at the Highway 42 and County A intersection). The event is free\, but a state park vehicle admission sticker is required. Purchase your sticker at Park Headquarters (open until 7:30 pm)\, the new electronic kiosk at Eagle Terrace\, or the self-registration station on the day of the event. A trail pass is not required for this event. \nThe event will take place even if there is not snow\, but it will be cancelled if there is severe weather such as extreme cold. Access may be restricted if parking capacity is reached. For more information\, or to check the status on the day of the event\, call the park office at 920-868-3258.
URL:https://peninsulastatepark.org/event/candlelight-ski-hike-2019/
LOCATION:Peninsula State Park\, 9462 Shore Road\, Fish Creek\, WI\, 54212\, United States
END:VEVENT
BEGIN:VEVENT
DTSTART;TZID=America/Chicago:20180529T100000
DTEND;TZID=America/Chicago:20180529T120000
DTSTAMP:20260424T033417
CREATED:20180528T145744Z
LAST-MODIFIED:20180528T145744Z
UID:4349-1527588000-1527595200@peninsulastatepark.org
SUMMARY:Eagle Trail Hike
DESCRIPTION:Meet at Eagle Tower parking lot. See 150-foot bluffs\, wildflowers\, and magnificent cedar trees on a naturalist-led hike. Discover park history\, too. Two miles. Difficult hiking. Trail may be muddy.
URL:https://peninsulastatepark.org/event/eagle-trail-hike-2/
LOCATION:Peninsula State Park\, 9462 Shore Road\, Fish Creek\, WI\, 54212\, United States
END:VEVENT
BEGIN:VEVENT
DTSTART;TZID=America/Chicago:20180522T100000
DTEND;TZID=America/Chicago:20180522T113000
DTSTAMP:20260424T033417
CREATED:20180521T152413Z
LAST-MODIFIED:20180521T152413Z
UID:4270-1526983200-1526988600@peninsulastatepark.org
SUMMARY:Sentinel Trail Hike
DESCRIPTION:Join the Peninsula State Park naturalist tomorrow (May 22) from 10-11:30 a.m. for a beautiful walk along woodsy Skyline Trail. Meet at Skyline parking lot on Shore Road. Saunter up to spectacular Sven’s Bluff. Identify trees and flowers along the way\, and learn a bit of park history. About two miles\, rolling terrain. This program is free and open to the public but a state park vehicle sticker is required. If you need additional information call the White Cedar Nature Center at 920-954-5976.
URL:https://peninsulastatepark.org/event/sentinel-trail-hike/
LOCATION:Peninsula State Park\, 9462 Shore Road\, Fish Creek\, WI\, 54212\, United States
END:VEVENT
BEGIN:VEVENT
DTSTART;TZID=America/Chicago:20180422T130000
DTEND;TZID=America/Chicago:20180422T140000
DTSTAMP:20260424T033417
CREATED:20180414T151551Z
LAST-MODIFIED:20180414T184109Z
UID:3994-1524402000-1524405600@peninsulastatepark.org
SUMMARY:EARTH DAY HIKE: Eagle Panorama to Eagle Terrace
DESCRIPTION:Meet at Eagle Panorama\, the overlook south of the site where Eagle Tower once stood. Walk a beech-maple forest\, identifying trees. Learn about forest health issues and the latest news on rebuilding Eagle Tower. Bring binoculars if you have them. Counts as a Like to Hike activity. Moderate hiking\, about a mile\, trail may be muddy. Contact the park office at 920-868-3258 for more information.
URL:https://peninsulastatepark.org/event/earth-day-hike-eagle-panorama-to-eagle-terrace/
LOCATION:Peninsula State Park\, 9462 Shore Road\, Fish Creek\, WI\, 54212\, United States
END:VEVENT
BEGIN:VEVENT
DTSTART;TZID=America/Chicago:20180421T090000
DTEND;TZID=America/Chicago:20180421T120000
DTSTAMP:20260424T033417
CREATED:20180414T145508Z
LAST-MODIFIED:20180419T191303Z
UID:3990-1524301200-1524312000@peninsulastatepark.org
SUMMARY:CANCELED: Work Play Earth Day
DESCRIPTION:Unfortunately\, due to the recent heavy snowfall and wet ground conditions\, the Earth Day work day at Peninsula State Park scheduled for this Saturday\, April 21 has been canceled. The event will not be rescheduled due to other activities in the coming weeks. However\, the campfire story time on Saturday and the Earth Day hike on Sunday are still scheduled to take place. You may want to contact the park office at 920-868-3528 to confirm before coming. \n 
URL:https://peninsulastatepark.org/event/work-play-earth-day/
LOCATION:Peninsula State Park\, 9462 Shore Road\, Fish Creek\, WI\, 54212\, United States
CATEGORIES:Volunteer
END:VEVENT
BEGIN:VEVENT
DTSTART;TZID=America/Chicago:20160723T080000
DTEND;TZID=America/Chicago:20160723T160000
DTSTAMP:20260424T033417
CREATED:20160621T172553Z
LAST-MODIFIED:20160621T173810Z
UID:3220-1469260800-1469289600@peninsulastatepark.org
SUMMARY:IMBA Trail Building Clinic
DESCRIPTION:The Friends of Peninsula State Park\, working in collaboration with the International Mountain Biking Assocation (IMBA)\, is sponsoring a full day trail buildling class for volunteers and those interested in becoming involved with trail building and maintenance at Peninsula State Park. The event will include expert design and building techniques from IMBA trail builders and the opportunity to work on a section of single track in the park. Lunch will be provided. There are 50 spots available for this training. \nRegister Here \nSchedule of events: \n8:00-12:00 – Mandatory Classroom session \n12:00-12:45 – Lunch (provided) \n1:00-4:00 – Trail Buildling session \nIf you are attending please bring a notebook\, wear comfortable clothing for trail building session\, gloves\, hat\, bug spray and safety glasses (if you have them) and plenty of water.  Tools will be provided. \nFor questions please contact Jacque Jadin at 920-606-6702 or email jacquejadin19@gmail.com
URL:https://peninsulastatepark.org/event/3220/
LOCATION:Peninsula State Park\, 9462 Shore Road\, Fish Creek\, WI\, 54212\, United States
END:VEVENT
BEGIN:VEVENT
DTSTART;TZID=America/Chicago:20160512T084500
DTEND;TZID=America/Chicago:20160512T100000
DTSTAMP:20260424T033417
CREATED:20160509T105802Z
LAST-MODIFIED:20160509T105821Z
UID:3196-1463042700-1463047200@peninsulastatepark.org
SUMMARY:Walk with Walker
DESCRIPTION:
URL:https://peninsulastatepark.org/event/walk-with-walker/
LOCATION:Peninsula State Park\, 9462 Shore Road\, Fish Creek\, WI\, 54212\, United States
END:VEVENT
BEGIN:VEVENT
DTSTART;TZID=America/Chicago:20140816T113000
DTEND;TZID=America/Chicago:20140816T133000
DTSTAMP:20260424T033417
CREATED:20140623T105154Z
LAST-MODIFIED:20140730T233336Z
UID:2820-1408188600-1408195800@peninsulastatepark.org
SUMMARY:Friends Annual Meeting and Potlock
DESCRIPTION:Food table at 2013 Annual Meeting\nBeautiful Weborg Point in Peninsula State Park will be the setting for the annual meeting of the Friends of Peninsula State Park\, on Saturday August 16\, at 11:30 AM. A picnic potluck lunch will be followed by a short business meeting\, which will include a report from Park Superintendent Kelli Bruns\, who will share news about the plans for renovation of the historic White Cedar Nature Center. \nThe Friends welcome the public to join them for the informational program\, which begins at 1 PM. Linda Williams\, the Wisconsin Department of Natural Resources Forest Health Specialist\, will speak on “Emerald Ash Borer and Beech Bark Disease in Door County: What to Watch for and What Does it Mean?” Park Superintendent Bruns encourages members of the community to take advantage of this opportunity to learn more about a topic of immediate concern here. “We are fortunate to have such a knowledgeable speaker sharing insights with us\,” she said. \nFriends board president Chris Holicek encourages fellow Friends to attend this always enjoyable event. “This is a chance for all of the Friends to get an overview of the accomplishments of the past year and the exciting plans for the coming year\,” she says. \nFriends members and their guests are asked to bring a dish to pass for the lunch. Drinks and hot dogs will be provided. Please RSVP to Gail Anderson at 920-868-3499 or gnanderson@wildblue.net. \nParking at Weborg shelter is limited.\, and carpooling is recommended. Additional parking is available in the day lot just north of the campground and at Nelson Point\, as well as at the Fish Creek overflow lot. A Park vehicle sticker is required. \nFriends of Peninsula State Park is an organization dedicated to making a meaningful contribution toward the preservation and goals of Peninsula State Park. The Friends provide volunteer services and financial support for the interpretive\, educational\, recreational and visitor service programs at Peninsula State Park. New members are always welcome. A membership form is available on the website or at the park office.
URL:https://peninsulastatepark.org/event/friends-annual-meeting-and-potlock/
LOCATION:Peninsula State Park\, 9462 Shore Road\, Fish Creek\, WI\, 54212\, United States
END:VEVENT
BEGIN:VEVENT
DTSTART;TZID=America/Chicago:20140201T173000
DTEND;TZID=America/Chicago:20140201T200000
DTSTAMP:20260424T033417
CREATED:20131006T174735Z
LAST-MODIFIED:20140130T010253Z
UID:2588-1391275800-1391284800@peninsulastatepark.org
SUMMARY:Annual Candlelight Ski/Hike
DESCRIPTION:Ski or hike a 1-mile candle-lit trail through the Peninsula State Park forest. The Friends of Peninsula State Park will host a bonfire with refreshments at the winter warming shelter. Pets are not allowed. Located at the Lot 5 trailhead; enter at Highland Road at the intersection of Hwy 42 and County Highway A. State park vehicle admission stickers are required and available for purchase at Park Headquarters. For more information call park headquarters 920-868-3258.
URL:https://peninsulastatepark.org/event/8th-annual-candlelight-skihike/
LOCATION:Peninsula State Park\, 9462 Shore Road\, Fish Creek\, WI\, 54212\, United States
END:VEVENT
BEGIN:VEVENT
DTSTART;VALUE=DATE:20131012
DTEND;VALUE=DATE:20131013
DTSTAMP:20260424T033417
CREATED:20130724T152138Z
LAST-MODIFIED:20130917T232827Z
UID:2518-1381536000-1381622399@peninsulastatepark.org
SUMMARY:Smokey Bear’s Spooktacular Forest
DESCRIPTION:Spooktacular Hike 2013
URL:https://peninsulastatepark.org/event/smokey-bears-spooktacular-forest/
LOCATION:Peninsula State Park\, 9462 Shore Road\, Fish Creek\, WI\, 54212\, United States
END:VEVENT
END:VCALENDAR