BEGIN:VCALENDAR
VERSION:2.0
PRODID:-//Friends of Peninsula State Park - ECPv6.15.20//NONSGML v1.0//EN
CALSCALE:GREGORIAN
METHOD:PUBLISH
X-ORIGINAL-URL:https://peninsulastatepark.org
X-WR-CALDESC:Events for Friends of Peninsula State Park
REFRESH-INTERVAL;VALUE=DURATION:PT1H
X-Robots-Tag:noindex
X-PUBLISHED-TTL:PT1H
BEGIN:VTIMEZONE
TZID:America/Chicago
BEGIN:DAYLIGHT
TZOFFSETFROM:-0600
TZOFFSETTO:-0500
TZNAME:CDT
DTSTART:20250309T080000
END:DAYLIGHT
BEGIN:STANDARD
TZOFFSETFROM:-0500
TZOFFSETTO:-0600
TZNAME:CST
DTSTART:20251102T070000
END:STANDARD
BEGIN:DAYLIGHT
TZOFFSETFROM:-0600
TZOFFSETTO:-0500
TZNAME:CDT
DTSTART:20260308T080000
END:DAYLIGHT
BEGIN:STANDARD
TZOFFSETFROM:-0500
TZOFFSETTO:-0600
TZNAME:CST
DTSTART:20261101T070000
END:STANDARD
BEGIN:DAYLIGHT
TZOFFSETFROM:-0600
TZOFFSETTO:-0500
TZNAME:CDT
DTSTART:20270314T080000
END:DAYLIGHT
BEGIN:STANDARD
TZOFFSETFROM:-0500
TZOFFSETTO:-0600
TZNAME:CST
DTSTART:20271107T070000
END:STANDARD
END:VTIMEZONE
BEGIN:VEVENT
DTSTART;TZID=America/Chicago:20260530T093000
DTEND;TZID=America/Chicago:20260530T140000
DTSTAMP:20260423T115632
CREATED:20260331T181706Z
LAST-MODIFIED:20260331T181918Z
UID:13238-1780133400-1780149600@peninsulastatepark.org
SUMMARY:2026 RIDE THE PARK CELEBRATION: Merchandise Sale\, Raffle\, & Refreshments
DESCRIPTION:Details COMING SOON!
URL:https://peninsulastatepark.org/event/2026-ride-the-park-celebration-merchandise-sale/
LOCATION:Peninsula State Park – Winter Warming House (Lot 5)\, 9462 Shore Road\, Fish Creek\, WI\, 54212\, United States
ATTACH;FMTTYPE=image/png:https://peninsulastatepark.org/wp-content/uploads/2024/01/ms-icon-310x310-1.png
END:VEVENT
BEGIN:VEVENT
DTSTART;TZID=America/Chicago:20260530T093000
DTEND;TZID=America/Chicago:20260530T140000
DTSTAMP:20260423T115632
CREATED:20260331T182437Z
LAST-MODIFIED:20260331T182727Z
UID:13246-1780133400-1780149600@peninsulastatepark.org
SUMMARY:2026 RIDE THE PARK CELEBRATION: Bike Safety Exhibit
DESCRIPTION:Details COMING SOON!
URL:https://peninsulastatepark.org/event/2026-ride-the-park-celebration-bike-safety-exhibit/
LOCATION:Peninsula State Park – Winter Warming House (Lot 5)\, 9462 Shore Road\, Fish Creek\, WI\, 54212\, United States
ATTACH;FMTTYPE=image/jpeg:https://peninsulastatepark.org/wp-content/uploads/2026/01/Bike-Rodeo-4-scaled.jpg
END:VEVENT
BEGIN:VEVENT
DTSTART;TZID=America/Chicago:20260530T120000
DTEND;TZID=America/Chicago:20260530T123000
DTSTAMP:20260423T115632
CREATED:20260331T181538Z
LAST-MODIFIED:20260403T185654Z
UID:13236-1780142400-1780144200@peninsulastatepark.org
SUMMARY:2026 RIDE THE PARK CELEBRATION: Mountain Bike Trail Ribbon Cutting
DESCRIPTION:Details COMING SOON!
URL:https://peninsulastatepark.org/event/2026-ride-the-park-celebration-mountain-bike-trail-ribbon-cutting/
LOCATION:Peninsula State Park – Winter Warming House (Lot 5)\, 9462 Shore Road\, Fish Creek\, WI\, 54212\, United States
ATTACH;FMTTYPE=image/jpeg:https://peninsulastatepark.org/wp-content/uploads/2025/12/Rock-Solid-Crew-Peninsula-State-Park-20-S.jpeg
END:VEVENT
BEGIN:VEVENT
DTSTART;TZID=America/Chicago:20260530T123000
DTEND;TZID=America/Chicago:20260530T133000
DTSTAMP:20260423T115632
CREATED:20260403T185918Z
LAST-MODIFIED:20260403T185918Z
UID:13252-1780144200-1780147800@peninsulastatepark.org
SUMMARY:2026 RIDE THE PARK CELEBRATION: Group Bike Ride #1
DESCRIPTION:Details COMING SOON!
URL:https://peninsulastatepark.org/event/2026-ride-the-park-celebration-group-bike-ride-1/
LOCATION:Peninsula State Park – Winter Warming House (Lot 5)\, 9462 Shore Road\, Fish Creek\, WI\, 54212\, United States
ATTACH;FMTTYPE=image/jpeg:https://peninsulastatepark.org/wp-content/uploads/2025/12/Rock-Solid-Crew-Peninsula-State-Park-48-S.jpeg
END:VEVENT
BEGIN:VEVENT
DTSTART;TZID=America/Chicago:20260530T140000
DTEND;TZID=America/Chicago:20260530T150000
DTSTAMP:20260423T115632
CREATED:20260403T190021Z
LAST-MODIFIED:20260403T190021Z
UID:13254-1780149600-1780153200@peninsulastatepark.org
SUMMARY:2026 RIDE THE PARK CELEBRATION: Group Bike Ride #2
DESCRIPTION:Details COMING SOON!
URL:https://peninsulastatepark.org/event/2026-ride-the-park-celebration-group-bike-ride-2/
LOCATION:Peninsula State Park – Winter Warming House (Lot 5)\, 9462 Shore Road\, Fish Creek\, WI\, 54212\, United States
ATTACH;FMTTYPE=image/jpeg:https://peninsulastatepark.org/wp-content/uploads/2025/12/Rock-Solid-Crew-Peninsula-State-Park-48-S.jpeg
END:VEVENT
END:VCALENDAR