BEGIN:VCALENDAR
VERSION:2.0
PRODID:-//Friends of Peninsula State Park - ECPv6.15.20//NONSGML v1.0//EN
CALSCALE:GREGORIAN
METHOD:PUBLISH
X-ORIGINAL-URL:https://peninsulastatepark.org
X-WR-CALDESC:Events for Friends of Peninsula State Park
REFRESH-INTERVAL;VALUE=DURATION:PT1H
X-Robots-Tag:noindex
X-PUBLISHED-TTL:PT1H
BEGIN:VTIMEZONE
TZID:America/Chicago
BEGIN:DAYLIGHT
TZOFFSETFROM:-0600
TZOFFSETTO:-0500
TZNAME:CDT
DTSTART:20230312T080000
END:DAYLIGHT
BEGIN:STANDARD
TZOFFSETFROM:-0500
TZOFFSETTO:-0600
TZNAME:CST
DTSTART:20231105T070000
END:STANDARD
BEGIN:DAYLIGHT
TZOFFSETFROM:-0600
TZOFFSETTO:-0500
TZNAME:CDT
DTSTART:20240310T080000
END:DAYLIGHT
BEGIN:STANDARD
TZOFFSETFROM:-0500
TZOFFSETTO:-0600
TZNAME:CST
DTSTART:20241103T070000
END:STANDARD
BEGIN:DAYLIGHT
TZOFFSETFROM:-0600
TZOFFSETTO:-0500
TZNAME:CDT
DTSTART:20250309T080000
END:DAYLIGHT
BEGIN:STANDARD
TZOFFSETFROM:-0500
TZOFFSETTO:-0600
TZNAME:CST
DTSTART:20251102T070000
END:STANDARD
BEGIN:DAYLIGHT
TZOFFSETFROM:-0600
TZOFFSETTO:-0500
TZNAME:CDT
DTSTART:20260308T080000
END:DAYLIGHT
BEGIN:STANDARD
TZOFFSETFROM:-0500
TZOFFSETTO:-0600
TZNAME:CST
DTSTART:20261101T070000
END:STANDARD
END:VTIMEZONE
BEGIN:VEVENT
DTSTART;TZID=America/Chicago:20250618T110000
DTEND;TZID=America/Chicago:20250618T120000
DTSTAMP:20260424T003212
CREATED:20250605T134154Z
LAST-MODIFIED:20250605T134154Z
UID:12641-1750244400-1750248000@peninsulastatepark.org
SUMMARY:Storytime: Mighty Wings w/the Author 🦋
DESCRIPTION:Both young\, not so young\, and those in between visitors to the Park will enjoy the butterfly facts and stories spun by our own resident educational contributor\, Debbie Clement.  \nJoin us for FREE on Wednesday mornings at 11am in June and July rain or shine at the Nature Center Amphitheater.
URL:https://peninsulastatepark.org/event/storytime-mighty-wings-w-the-author-%f0%9f%a6%8b-2/2025-06-18/
LOCATION:Peninsula State Park – White Cedar Nature Center
ATTACH;FMTTYPE=image/jpeg:https://peninsulastatepark.org/wp-content/uploads/2023/03/monarch.10.meiers-scaled.jpg
END:VEVENT
BEGIN:VEVENT
DTSTART;TZID=America/Chicago:20250617T160000
DTEND;TZID=America/Chicago:20250617T170000
DTSTAMP:20260424T003212
CREATED:20250606T145410Z
LAST-MODIFIED:20250606T145410Z
UID:12653-1750176000-1750179600@peninsulastatepark.org
SUMMARY:Historical Traces Trek
DESCRIPTION:Join Dave Lea\, who has been exploring the park since the 1970’s\, on an exciting\, off-trail adventure finding the park’s historic sites. Wear sturdy boots and long pants to discover traces of the past.
URL:https://peninsulastatepark.org/event/historical-traces-trek/2025-06-17/
LOCATION:Peninsula State Park – White Cedar Nature Center
END:VEVENT
BEGIN:VEVENT
DTSTART;TZID=America/Chicago:20250612T130000
DTEND;TZID=America/Chicago:20250612T140000
DTSTAMP:20260424T003212
CREATED:20250606T151627Z
LAST-MODIFIED:20250606T151627Z
UID:12693-1749733200-1749736800@peninsulastatepark.org
SUMMARY:Raptor Talks: Nature’s Recycler
DESCRIPTION:Join Open Door Bird Sanctuary:  The Turkey Vulture is great at cleaning up the environment.  Ugly?  Heck no! They’re really cute!  (Live animal encounter)
URL:https://peninsulastatepark.org/event/raptor-talks-natures-recycler/
LOCATION:Peninsula State Park – White Cedar Nature Center
ATTACH;FMTTYPE=image/webp:https://peninsulastatepark.org/wp-content/uploads/2024/05/Open-Door-Bird-Sanctuary-LOGO-for-web.webp
END:VEVENT
BEGIN:VEVENT
DTSTART;TZID=America/Chicago:20250611T110000
DTEND;TZID=America/Chicago:20250611T120000
DTSTAMP:20260424T003212
CREATED:20250605T134154Z
LAST-MODIFIED:20250605T134154Z
UID:12639-1749639600-1749643200@peninsulastatepark.org
SUMMARY:Storytime: Mighty Wings w/the Author 🦋
DESCRIPTION:Both young\, not so young\, and those in between visitors to the Park will enjoy the butterfly facts and stories spun by our own resident educational contributor\, Debbie Clement.  \nJoin us for FREE on Wednesday mornings at 11am in June and July rain or shine at the Nature Center Amphitheater.
URL:https://peninsulastatepark.org/event/storytime-mighty-wings-w-the-author-%f0%9f%a6%8b-2/2025-06-11/
LOCATION:Peninsula State Park – White Cedar Nature Center
ATTACH;FMTTYPE=image/jpeg:https://peninsulastatepark.org/wp-content/uploads/2023/03/monarch.10.meiers-scaled.jpg
END:VEVENT
BEGIN:VEVENT
DTSTART;TZID=America/Chicago:20250101T100000
DTEND;TZID=America/Chicago:20250101T110000
DTSTAMP:20260424T003212
CREATED:20241210T174726Z
LAST-MODIFIED:20241210T174815Z
UID:12418-1735725600-1735729200@peninsulastatepark.org
SUMMARY:Ring in 2025 – First Day Hike
DESCRIPTION:The Friends of Peninsula State Park will host their annual First Day Hike\, January 1\, 2025\, at Peninsula State Park. Meet at the White Cedar Nature Center at 10:00am. The guided hike will last about 30-45 minutes. There will also be an outdoor warming fire\, hot beverages and cookies available after the hike.   \nCome Join Us for our New Year tradition!!
URL:https://peninsulastatepark.org/event/ring-in-2025-first-day-hike/
LOCATION:Peninsula State Park – White Cedar Nature Center
ATTACH;FMTTYPE=image/jpeg:https://peninsulastatepark.org/wp-content/uploads/2024/01/1st-Day-Hike-2024.jpeg
END:VEVENT
BEGIN:VEVENT
DTSTART;TZID=America/Chicago:20241026T120000
DTEND;TZID=America/Chicago:20241026T140000
DTSTAMP:20260424T003212
CREATED:20241017T135602Z
LAST-MODIFIED:20241017T135602Z
UID:12326-1729944000-1729951200@peninsulastatepark.org
SUMMARY:Leave No Trace Training
DESCRIPTION:Please consider attending our Leave No Trace training program on Oct. 26 12-2 pm at Peninsula State Park White Cedar Nature Center. The objective of this public program is to encourage and educate on how to be good stewards of our parks.  It is intended for residents and visitors alike. \nFree Lunch included! \nClick HERE for more info and to register!
URL:https://peninsulastatepark.org/event/leave-no-trace-training/
LOCATION:Peninsula State Park – White Cedar Nature Center
ATTACH;FMTTYPE=image/jpeg:https://peninsulastatepark.org/wp-content/uploads/2023/05/LNT-Primary-Logo_Charcoal.jpg
END:VEVENT
BEGIN:VEVENT
DTSTART;TZID=America/Chicago:20240905T130000
DTEND;TZID=America/Chicago:20240905T140000
DTSTAMP:20260424T003212
CREATED:20240531T153213Z
LAST-MODIFIED:20240531T153214Z
UID:11994-1725541200-1725544800@peninsulastatepark.org
SUMMARY:Open Door Bird Sanctuary: Live Animal Encounters!
DESCRIPTION:Join Open Door Bird Sanctuary at the White Cedar Nature Center. These are free\, live animal encounters funded by the Friends of Peninsula State Park. \nFor more information on Open Door Bird Sanctuary\, click HERE!
URL:https://peninsulastatepark.org/event/open-door-bird-sanctuary-live-animal-encounters-8/
LOCATION:Peninsula State Park – White Cedar Nature Center
ATTACH;FMTTYPE=image/webp:https://peninsulastatepark.org/wp-content/uploads/2024/05/Open-Door-Bird-Sanctuary-LOGO-for-web.webp
END:VEVENT
BEGIN:VEVENT
DTSTART;TZID=America/Chicago:20240904T110000
DTEND;TZID=America/Chicago:20240904T120000
DTSTAMP:20260424T003212
CREATED:20240531T153600Z
LAST-MODIFIED:20240531T155648Z
UID:12010-1725447600-1725451200@peninsulastatepark.org
SUMMARY:Storytime: Mighty Wings w/the Author 🦋
DESCRIPTION:Join children’s book author Debbie Clement to sing and dance while learning about Monarch butterflies. \nMeet at 11 a.m. at the Nature Center for this FREE program.
URL:https://peninsulastatepark.org/event/storytime-mighty-wings-w-the-author-%f0%9f%a6%8b/2024-09-04/
LOCATION:Peninsula State Park – White Cedar Nature Center
ATTACH;FMTTYPE=image/jpeg:https://peninsulastatepark.org/wp-content/uploads/2023/03/monarch.10.meiers-scaled.jpg
END:VEVENT
BEGIN:VEVENT
DTSTART;TZID=America/Chicago:20240828T110000
DTEND;TZID=America/Chicago:20240828T120000
DTSTAMP:20260424T003212
CREATED:20240531T153600Z
LAST-MODIFIED:20240531T155648Z
UID:12009-1724842800-1724846400@peninsulastatepark.org
SUMMARY:Storytime: Mighty Wings w/the Author 🦋
DESCRIPTION:Join children’s book author Debbie Clement to sing and dance while learning about Monarch butterflies. \nMeet at 11 a.m. at the Nature Center for this FREE program.
URL:https://peninsulastatepark.org/event/storytime-mighty-wings-w-the-author-%f0%9f%a6%8b/2024-08-28/
LOCATION:Peninsula State Park – White Cedar Nature Center
ATTACH;FMTTYPE=image/jpeg:https://peninsulastatepark.org/wp-content/uploads/2023/03/monarch.10.meiers-scaled.jpg
END:VEVENT
BEGIN:VEVENT
DTSTART;TZID=America/Chicago:20240822T163000
DTEND;TZID=America/Chicago:20240822T190000
DTSTAMP:20260424T003212
CREATED:20240804T012926Z
LAST-MODIFIED:20240804T012926Z
UID:12183-1724344200-1724353200@peninsulastatepark.org
SUMMARY:Friends of Peninsula State Park Annual Meeting
DESCRIPTION:Annual Meeting Flyer for Web 06232024wrs
URL:https://peninsulastatepark.org/event/friends-of-peninsula-state-park-annual-meeting-3/
LOCATION:Peninsula State Park – White Cedar Nature Center
END:VEVENT
BEGIN:VEVENT
DTSTART;TZID=America/Chicago:20240822T130000
DTEND;TZID=America/Chicago:20240822T140000
DTSTAMP:20260424T003212
CREATED:20240531T153130Z
LAST-MODIFIED:20240531T153130Z
UID:11992-1724331600-1724335200@peninsulastatepark.org
SUMMARY:Open Door Bird Sanctuary: Live Animal Encounters!
DESCRIPTION:Join Open Door Bird Sanctuary at the White Cedar Nature Center. These are free\, live animal encounters funded by the Friends of Peninsula State Park. \nFor more information on Open Door Bird Sanctuary\, click HERE!
URL:https://peninsulastatepark.org/event/open-door-bird-sanctuary-live-animal-encounters-7/
LOCATION:Peninsula State Park – White Cedar Nature Center
ATTACH;FMTTYPE=image/webp:https://peninsulastatepark.org/wp-content/uploads/2024/05/Open-Door-Bird-Sanctuary-LOGO-for-web.webp
END:VEVENT
BEGIN:VEVENT
DTSTART;TZID=America/Chicago:20240821T110000
DTEND;TZID=America/Chicago:20240821T120000
DTSTAMP:20260424T003212
CREATED:20240531T153600Z
LAST-MODIFIED:20240531T155648Z
UID:12008-1724238000-1724241600@peninsulastatepark.org
SUMMARY:Storytime: Mighty Wings w/the Author 🦋
DESCRIPTION:Join children’s book author Debbie Clement to sing and dance while learning about Monarch butterflies. \nMeet at 11 a.m. at the Nature Center for this FREE program.
URL:https://peninsulastatepark.org/event/storytime-mighty-wings-w-the-author-%f0%9f%a6%8b/2024-08-21/
LOCATION:Peninsula State Park – White Cedar Nature Center
ATTACH;FMTTYPE=image/jpeg:https://peninsulastatepark.org/wp-content/uploads/2023/03/monarch.10.meiers-scaled.jpg
END:VEVENT
BEGIN:VEVENT
DTSTART;TZID=America/Chicago:20240814T110000
DTEND;TZID=America/Chicago:20240814T120000
DTSTAMP:20260424T003212
CREATED:20240531T153600Z
LAST-MODIFIED:20240531T155645Z
UID:12006-1723633200-1723636800@peninsulastatepark.org
SUMMARY:Storytime: Mighty Wings w/the Author 🦋
DESCRIPTION:Join children’s book author Debbie Clement to sing and dance while learning about Monarch butterflies. \nMeet at 11 a.m. at the Nature Center for this FREE program.
URL:https://peninsulastatepark.org/event/storytime-mighty-wings-w-the-author-%f0%9f%a6%8b/2024-08-14/
LOCATION:Peninsula State Park – White Cedar Nature Center
ATTACH;FMTTYPE=image/jpeg:https://peninsulastatepark.org/wp-content/uploads/2023/03/monarch.10.meiers-scaled.jpg
END:VEVENT
BEGIN:VEVENT
DTSTART;TZID=America/Chicago:20240808T130000
DTEND;TZID=America/Chicago:20240808T140000
DTSTAMP:20260424T003212
CREATED:20240531T153042Z
LAST-MODIFIED:20240531T153042Z
UID:11990-1723122000-1723125600@peninsulastatepark.org
SUMMARY:Open Door Bird Sanctuary: Live Animal Encounters!
DESCRIPTION:Join Open Door Bird Sanctuary at the White Cedar Nature Center. These are free\, live animal encounters funded by the Friends of Peninsula State Park. \nFor more information on Open Door Bird Sanctuary\, click HERE!
URL:https://peninsulastatepark.org/event/open-door-bird-sanctuary-live-animal-encounters-6/
LOCATION:Peninsula State Park – White Cedar Nature Center
ATTACH;FMTTYPE=image/webp:https://peninsulastatepark.org/wp-content/uploads/2024/05/Open-Door-Bird-Sanctuary-LOGO-for-web.webp
END:VEVENT
BEGIN:VEVENT
DTSTART;TZID=America/Chicago:20240807T110000
DTEND;TZID=America/Chicago:20240807T120000
DTSTAMP:20260424T003212
CREATED:20240531T153600Z
LAST-MODIFIED:20240531T155644Z
UID:12005-1723028400-1723032000@peninsulastatepark.org
SUMMARY:Storytime: Mighty Wings w/the Author 🦋
DESCRIPTION:Join children’s book author Debbie Clement to sing and dance while learning about Monarch butterflies. \nMeet at 11 a.m. at the Nature Center for this FREE program.
URL:https://peninsulastatepark.org/event/storytime-mighty-wings-w-the-author-%f0%9f%a6%8b/2024-08-07/
LOCATION:Peninsula State Park – White Cedar Nature Center
ATTACH;FMTTYPE=image/jpeg:https://peninsulastatepark.org/wp-content/uploads/2023/03/monarch.10.meiers-scaled.jpg
END:VEVENT
BEGIN:VEVENT
DTSTART;TZID=America/Chicago:20240731T110000
DTEND;TZID=America/Chicago:20240731T120000
DTSTAMP:20260424T003212
CREATED:20240531T153600Z
LAST-MODIFIED:20240531T155644Z
UID:12004-1722423600-1722427200@peninsulastatepark.org
SUMMARY:Storytime: Mighty Wings w/the Author 🦋
DESCRIPTION:Join children’s book author Debbie Clement to sing and dance while learning about Monarch butterflies. \nMeet at 11 a.m. at the Nature Center for this FREE program.
URL:https://peninsulastatepark.org/event/storytime-mighty-wings-w-the-author-%f0%9f%a6%8b/2024-07-31/
LOCATION:Peninsula State Park – White Cedar Nature Center
ATTACH;FMTTYPE=image/jpeg:https://peninsulastatepark.org/wp-content/uploads/2023/03/monarch.10.meiers-scaled.jpg
END:VEVENT
BEGIN:VEVENT
DTSTART;TZID=America/Chicago:20240725T130000
DTEND;TZID=America/Chicago:20240725T140000
DTSTAMP:20260424T003213
CREATED:20240531T152953Z
LAST-MODIFIED:20240531T152953Z
UID:11988-1721912400-1721916000@peninsulastatepark.org
SUMMARY:Open Door Bird Sanctuary: Live Animal Encounters!
DESCRIPTION:Join Open Door Bird Sanctuary at the White Cedar Nature Center. These are free\, live animal encounters funded by the Friends of Peninsula State Park. \nFor more information on Open Door Bird Sanctuary\, click HERE!
URL:https://peninsulastatepark.org/event/open-door-bird-sanctuary-live-animal-encounters-5/
LOCATION:Peninsula State Park – White Cedar Nature Center
ATTACH;FMTTYPE=image/webp:https://peninsulastatepark.org/wp-content/uploads/2024/05/Open-Door-Bird-Sanctuary-LOGO-for-web.webp
END:VEVENT
BEGIN:VEVENT
DTSTART;TZID=America/Chicago:20240724T110000
DTEND;TZID=America/Chicago:20240724T120000
DTSTAMP:20260424T003213
CREATED:20240531T153600Z
LAST-MODIFIED:20240531T155644Z
UID:12003-1721818800-1721822400@peninsulastatepark.org
SUMMARY:Storytime: Mighty Wings w/the Author 🦋
DESCRIPTION:Join children’s book author Debbie Clement to sing and dance while learning about Monarch butterflies. \nMeet at 11 a.m. at the Nature Center for this FREE program.
URL:https://peninsulastatepark.org/event/storytime-mighty-wings-w-the-author-%f0%9f%a6%8b/2024-07-24/
LOCATION:Peninsula State Park – White Cedar Nature Center
ATTACH;FMTTYPE=image/jpeg:https://peninsulastatepark.org/wp-content/uploads/2023/03/monarch.10.meiers-scaled.jpg
END:VEVENT
BEGIN:VEVENT
DTSTART;TZID=America/Chicago:20240719T110000
DTEND;TZID=America/Chicago:20240719T120000
DTSTAMP:20260424T003213
CREATED:20240531T154547Z
LAST-MODIFIED:20240531T154547Z
UID:12017-1721386800-1721390400@peninsulastatepark.org
SUMMARY:Bay Beach Wildlife Sanctuary: Live Animal Encounters!
DESCRIPTION:Join Bay Beach Wildlife Sanctuary at the White Cedar Nature Center. These are free\, live animal encounters funded by the Friends of Peninsula State Park. \nFor more information on Bay Beach Wildlife Sanctuary\, click HERE!
URL:https://peninsulastatepark.org/event/bay-beach-wildlife-sanctuary-live-animal-encounters/
LOCATION:Peninsula State Park – White Cedar Nature Center
ATTACH;FMTTYPE=image/jpeg:https://peninsulastatepark.org/wp-content/uploads/2024/05/PLPbaqw8_400x400.jpg
END:VEVENT
BEGIN:VEVENT
DTSTART;TZID=America/Chicago:20240717T110000
DTEND;TZID=America/Chicago:20240717T120000
DTSTAMP:20260424T003213
CREATED:20240531T153600Z
LAST-MODIFIED:20240531T155644Z
UID:12002-1721214000-1721217600@peninsulastatepark.org
SUMMARY:Storytime: Mighty Wings w/the Author 🦋
DESCRIPTION:Join children’s book author Debbie Clement to sing and dance while learning about Monarch butterflies. \nMeet at 11 a.m. at the Nature Center for this FREE program.
URL:https://peninsulastatepark.org/event/storytime-mighty-wings-w-the-author-%f0%9f%a6%8b/2024-07-17/
LOCATION:Peninsula State Park – White Cedar Nature Center
ATTACH;FMTTYPE=image/jpeg:https://peninsulastatepark.org/wp-content/uploads/2023/03/monarch.10.meiers-scaled.jpg
END:VEVENT
BEGIN:VEVENT
DTSTART;TZID=America/Chicago:20240711T130000
DTEND;TZID=America/Chicago:20240711T140000
DTSTAMP:20260424T003213
CREATED:20240531T152211Z
LAST-MODIFIED:20240531T152211Z
UID:11986-1720702800-1720706400@peninsulastatepark.org
SUMMARY:Open Door Bird Sanctuary: Live Animal Encounters!
DESCRIPTION:Join Open Door Bird Sanctuary at the White Cedar Nature Center. These are free\, live animal encounters funded by the Friends of Peninsula State Park. \nFor more information on Open Door Bird Sanctuary\, click HERE!
URL:https://peninsulastatepark.org/event/open-door-bird-sanctuary-live-animal-encounters-4/
LOCATION:Peninsula State Park – White Cedar Nature Center
ATTACH;FMTTYPE=image/webp:https://peninsulastatepark.org/wp-content/uploads/2024/05/Open-Door-Bird-Sanctuary-LOGO-for-web.webp
END:VEVENT
BEGIN:VEVENT
DTSTART;TZID=America/Chicago:20240710T110000
DTEND;TZID=America/Chicago:20240710T120000
DTSTAMP:20260424T003213
CREATED:20240531T153600Z
LAST-MODIFIED:20240531T155644Z
UID:12001-1720609200-1720612800@peninsulastatepark.org
SUMMARY:Storytime: Mighty Wings w/the Author 🦋
DESCRIPTION:Join children’s book author Debbie Clement to sing and dance while learning about Monarch butterflies. \nMeet at 11 a.m. at the Nature Center for this FREE program.
URL:https://peninsulastatepark.org/event/storytime-mighty-wings-w-the-author-%f0%9f%a6%8b/2024-07-10/
LOCATION:Peninsula State Park – White Cedar Nature Center
ATTACH;FMTTYPE=image/jpeg:https://peninsulastatepark.org/wp-content/uploads/2023/03/monarch.10.meiers-scaled.jpg
END:VEVENT
BEGIN:VEVENT
DTSTART;TZID=America/Chicago:20240703T110000
DTEND;TZID=America/Chicago:20240703T120000
DTSTAMP:20260424T003213
CREATED:20240531T153600Z
LAST-MODIFIED:20240531T155644Z
UID:12000-1720004400-1720008000@peninsulastatepark.org
SUMMARY:Storytime: Mighty Wings w/the Author 🦋
DESCRIPTION:Join children’s book author Debbie Clement to sing and dance while learning about Monarch butterflies. \nMeet at 11 a.m. at the Nature Center for this FREE program.
URL:https://peninsulastatepark.org/event/storytime-mighty-wings-w-the-author-%f0%9f%a6%8b/2024-07-03/
LOCATION:Peninsula State Park – White Cedar Nature Center
ATTACH;FMTTYPE=image/jpeg:https://peninsulastatepark.org/wp-content/uploads/2023/03/monarch.10.meiers-scaled.jpg
END:VEVENT
BEGIN:VEVENT
DTSTART;TZID=America/Chicago:20240627T130000
DTEND;TZID=America/Chicago:20240627T140000
DTSTAMP:20260424T003213
CREATED:20240531T152049Z
LAST-MODIFIED:20240531T152049Z
UID:11984-1719493200-1719496800@peninsulastatepark.org
SUMMARY:Open Door Bird Sanctuary: Live Animal Encounters!
DESCRIPTION:Join Open Door Bird Sanctuary at the White Cedar Nature Center. These are free\, live animal encounters funded by the Friends of Peninsula State Park. \nFor more information on Open Door Bird Sanctuary\, click HERE!
URL:https://peninsulastatepark.org/event/open-door-bird-sanctuary-live-animal-encounters-3/
LOCATION:Peninsula State Park – White Cedar Nature Center
ATTACH;FMTTYPE=image/webp:https://peninsulastatepark.org/wp-content/uploads/2024/05/Open-Door-Bird-Sanctuary-LOGO-for-web.webp
END:VEVENT
BEGIN:VEVENT
DTSTART;TZID=America/Chicago:20240626T110000
DTEND;TZID=America/Chicago:20240626T120000
DTSTAMP:20260424T003213
CREATED:20240531T153600Z
LAST-MODIFIED:20240531T155643Z
UID:11999-1719399600-1719403200@peninsulastatepark.org
SUMMARY:Storytime: Mighty Wings w/the Author 🦋
DESCRIPTION:Join children’s book author Debbie Clement to sing and dance while learning about Monarch butterflies. \nMeet at 11 a.m. at the Nature Center for this FREE program.
URL:https://peninsulastatepark.org/event/storytime-mighty-wings-w-the-author-%f0%9f%a6%8b/2024-06-26/
LOCATION:Peninsula State Park – White Cedar Nature Center
ATTACH;FMTTYPE=image/jpeg:https://peninsulastatepark.org/wp-content/uploads/2023/03/monarch.10.meiers-scaled.jpg
END:VEVENT
BEGIN:VEVENT
DTSTART;TZID=America/Chicago:20240621T110000
DTEND;TZID=America/Chicago:20240621T120000
DTSTAMP:20260424T003213
CREATED:20240531T154317Z
LAST-MODIFIED:20240531T154437Z
UID:12011-1718967600-1718971200@peninsulastatepark.org
SUMMARY:Bay Beach Wildlife Sanctuary: Live Animal Encounters!
DESCRIPTION:Join Bay Beach Wildlife Sanctuary at the White Cedar Nature Center. These are free\, live animal encounters funded by the Friends of Peninsula State Park. \nFor more information on Bay Beach Wildlife Sanctuary\, click HERE!
URL:https://peninsulastatepark.org/event/bay-beach-wildlife-refuge-live-animal-encounters/
LOCATION:Peninsula State Park – White Cedar Nature Center
ATTACH;FMTTYPE=image/jpeg:https://peninsulastatepark.org/wp-content/uploads/2024/05/PLPbaqw8_400x400.jpg
END:VEVENT
BEGIN:VEVENT
DTSTART;TZID=America/Chicago:20240619T110000
DTEND;TZID=America/Chicago:20240619T120000
DTSTAMP:20260424T003213
CREATED:20240531T153600Z
LAST-MODIFIED:20240531T155643Z
UID:11998-1718794800-1718798400@peninsulastatepark.org
SUMMARY:Storytime: Mighty Wings w/the Author 🦋
DESCRIPTION:Join children’s book author Debbie Clement to sing and dance while learning about Monarch butterflies. \nMeet at 11 a.m. at the Nature Center for this FREE program.
URL:https://peninsulastatepark.org/event/storytime-mighty-wings-w-the-author-%f0%9f%a6%8b/2024-06-19/
LOCATION:Peninsula State Park – White Cedar Nature Center
ATTACH;FMTTYPE=image/jpeg:https://peninsulastatepark.org/wp-content/uploads/2023/03/monarch.10.meiers-scaled.jpg
END:VEVENT
BEGIN:VEVENT
DTSTART;TZID=America/Chicago:20240613T130000
DTEND;TZID=America/Chicago:20240613T140000
DTSTAMP:20260424T003213
CREATED:20240531T152000Z
LAST-MODIFIED:20240531T152000Z
UID:11982-1718283600-1718287200@peninsulastatepark.org
SUMMARY:Open Door Bird Sanctuary: Live Animal Encounters!
DESCRIPTION:Join Open Door Bird Sanctuary at the White Cedar Nature Center. These are free\, live animal encounters funded by the Friends of Peninsula State Park. \nFor more information on Open Door Bird Sanctuary\, click HERE!
URL:https://peninsulastatepark.org/event/open-door-bird-sanctuary-live-animal-encounters-2/
LOCATION:Peninsula State Park – White Cedar Nature Center
ATTACH;FMTTYPE=image/webp:https://peninsulastatepark.org/wp-content/uploads/2024/05/Open-Door-Bird-Sanctuary-LOGO-for-web.webp
END:VEVENT
BEGIN:VEVENT
DTSTART;TZID=America/Chicago:20240612T110000
DTEND;TZID=America/Chicago:20240612T120000
DTSTAMP:20260424T003213
CREATED:20240531T153600Z
LAST-MODIFIED:20240531T155643Z
UID:11997-1718190000-1718193600@peninsulastatepark.org
SUMMARY:Storytime: Mighty Wings w/the Author 🦋
DESCRIPTION:Join children’s book author Debbie Clement to sing and dance while learning about Monarch butterflies. \nMeet at 11 a.m. at the Nature Center for this FREE program.
URL:https://peninsulastatepark.org/event/storytime-mighty-wings-w-the-author-%f0%9f%a6%8b/2024-06-12/
LOCATION:Peninsula State Park – White Cedar Nature Center
ATTACH;FMTTYPE=image/jpeg:https://peninsulastatepark.org/wp-content/uploads/2023/03/monarch.10.meiers-scaled.jpg
END:VEVENT
BEGIN:VEVENT
DTSTART;TZID=America/Chicago:20240605T110000
DTEND;TZID=America/Chicago:20240605T120000
DTSTAMP:20260424T003213
CREATED:20240531T153600Z
LAST-MODIFIED:20240531T155643Z
UID:11996-1717585200-1717588800@peninsulastatepark.org
SUMMARY:Storytime: Mighty Wings w/the Author 🦋
DESCRIPTION:Join children’s book author Debbie Clement to sing and dance while learning about Monarch butterflies. \nMeet at 11 a.m. at the Nature Center for this FREE program.
URL:https://peninsulastatepark.org/event/storytime-mighty-wings-w-the-author-%f0%9f%a6%8b/2024-06-05/
LOCATION:Peninsula State Park – White Cedar Nature Center
ATTACH;FMTTYPE=image/jpeg:https://peninsulastatepark.org/wp-content/uploads/2023/03/monarch.10.meiers-scaled.jpg
END:VEVENT
END:VCALENDAR