BEGIN:VCALENDAR
VERSION:2.0
PRODID:-//Friends of Peninsula State Park - ECPv6.15.20//NONSGML v1.0//EN
CALSCALE:GREGORIAN
METHOD:PUBLISH
X-ORIGINAL-URL:https://peninsulastatepark.org
X-WR-CALDESC:Events for Friends of Peninsula State Park
REFRESH-INTERVAL;VALUE=DURATION:PT1H
X-Robots-Tag:noindex
X-PUBLISHED-TTL:PT1H
BEGIN:VTIMEZONE
TZID:America/Chicago
BEGIN:DAYLIGHT
TZOFFSETFROM:-0600
TZOFFSETTO:-0500
TZNAME:CDT
DTSTART:20130310T080000
END:DAYLIGHT
BEGIN:STANDARD
TZOFFSETFROM:-0500
TZOFFSETTO:-0600
TZNAME:CST
DTSTART:20131103T070000
END:STANDARD
BEGIN:DAYLIGHT
TZOFFSETFROM:-0600
TZOFFSETTO:-0500
TZNAME:CDT
DTSTART:20140309T080000
END:DAYLIGHT
BEGIN:STANDARD
TZOFFSETFROM:-0500
TZOFFSETTO:-0600
TZNAME:CST
DTSTART:20141102T070000
END:STANDARD
BEGIN:DAYLIGHT
TZOFFSETFROM:-0600
TZOFFSETTO:-0500
TZNAME:CDT
DTSTART:20150308T080000
END:DAYLIGHT
BEGIN:STANDARD
TZOFFSETFROM:-0500
TZOFFSETTO:-0600
TZNAME:CST
DTSTART:20151101T070000
END:STANDARD
BEGIN:DAYLIGHT
TZOFFSETFROM:-0600
TZOFFSETTO:-0500
TZNAME:CDT
DTSTART:20160313T080000
END:DAYLIGHT
BEGIN:STANDARD
TZOFFSETFROM:-0500
TZOFFSETTO:-0600
TZNAME:CST
DTSTART:20161106T070000
END:STANDARD
BEGIN:DAYLIGHT
TZOFFSETFROM:-0600
TZOFFSETTO:-0500
TZNAME:CDT
DTSTART:20170312T080000
END:DAYLIGHT
BEGIN:STANDARD
TZOFFSETFROM:-0500
TZOFFSETTO:-0600
TZNAME:CST
DTSTART:20171105T070000
END:STANDARD
BEGIN:DAYLIGHT
TZOFFSETFROM:-0600
TZOFFSETTO:-0500
TZNAME:CDT
DTSTART:20180311T080000
END:DAYLIGHT
BEGIN:STANDARD
TZOFFSETFROM:-0500
TZOFFSETTO:-0600
TZNAME:CST
DTSTART:20181104T070000
END:STANDARD
BEGIN:DAYLIGHT
TZOFFSETFROM:-0600
TZOFFSETTO:-0500
TZNAME:CDT
DTSTART:20190310T080000
END:DAYLIGHT
BEGIN:STANDARD
TZOFFSETFROM:-0500
TZOFFSETTO:-0600
TZNAME:CST
DTSTART:20191103T070000
END:STANDARD
END:VTIMEZONE
BEGIN:VEVENT
DTSTART;TZID=America/Chicago:20180421T110000
DTEND;TZID=America/Chicago:20180421T120000
DTSTAMP:20260424T195139
CREATED:20180414T151910Z
LAST-MODIFIED:20180414T183935Z
UID:4001-1524308400-1524312000@peninsulastatepark.org
SUMMARY:Earth Day Campfire Storytime: The Lorax
DESCRIPTION:Gather round the campfire to hear the classic Dr. Seuss story about taking care of the trees and animals. Create a Lorax wind-sock to keep\, decorated with truffula trees and swomee swans. All ages welcome! Nature Center. Contact the park office at 920-868-3258 for more information.
URL:https://peninsulastatepark.org/event/earth-day-campfire-storytime-the-lorax/
LOCATION:Peninsula State Park – White Cedar Nature Center
END:VEVENT
BEGIN:VEVENT
DTSTART;TZID=America/Chicago:20140516T200000
DTEND;TZID=America/Chicago:20140516T210000
DTSTAMP:20260424T195139
CREATED:20140513T235141Z
LAST-MODIFIED:20140513T235141Z
UID:2789-1400270400-1400274000@peninsulastatepark.org
SUMMARY:Bat Monitoring Workshop at Peninsula this Friday
DESCRIPTION:Curious about Door County bats? Interested in surveying bats with a GPS device for ongoing state research? Then join the Peninsula State Park Naturalist on Friday\, May 16\, from 8 – 8:45 PM at the park’s nature center for a free ANABAT workshop.  A brief talk about Door County bat species will be followed by instruction using a GPS tracking device. Weather permitting\, participants will take a stroll in Peninsula at 8:45 PM using the ANABAT device\, which records species data for DNR biologists. The workshop is free but a state park vehicle sticker is required. If you need additional information call Naturalist Kathleen Harris at 920-854-5976 or email her atkathleen.harris@wisconsin.gov. \n 
URL:https://peninsulastatepark.org/event/bat-monitoring-workshop-at-peninsula-this-friday/
LOCATION:Peninsula State Park – White Cedar Nature Center
END:VEVENT
END:VCALENDAR