BEGIN:VCALENDAR
VERSION:2.0
PRODID:-//Friends of Peninsula State Park - ECPv6.15.20//NONSGML v1.0//EN
CALSCALE:GREGORIAN
METHOD:PUBLISH
X-ORIGINAL-URL:https://peninsulastatepark.org
X-WR-CALDESC:Events for Friends of Peninsula State Park
REFRESH-INTERVAL;VALUE=DURATION:PT1H
X-Robots-Tag:noindex
X-PUBLISHED-TTL:PT1H
BEGIN:VTIMEZONE
TZID:America/Chicago
BEGIN:DAYLIGHT
TZOFFSETFROM:-0600
TZOFFSETTO:-0500
TZNAME:CDT
DTSTART:20120311T080000
END:DAYLIGHT
BEGIN:STANDARD
TZOFFSETFROM:-0500
TZOFFSETTO:-0600
TZNAME:CST
DTSTART:20121104T070000
END:STANDARD
BEGIN:DAYLIGHT
TZOFFSETFROM:-0600
TZOFFSETTO:-0500
TZNAME:CDT
DTSTART:20130310T080000
END:DAYLIGHT
BEGIN:STANDARD
TZOFFSETFROM:-0500
TZOFFSETTO:-0600
TZNAME:CST
DTSTART:20131103T070000
END:STANDARD
BEGIN:DAYLIGHT
TZOFFSETFROM:-0600
TZOFFSETTO:-0500
TZNAME:CDT
DTSTART:20140309T080000
END:DAYLIGHT
BEGIN:STANDARD
TZOFFSETFROM:-0500
TZOFFSETTO:-0600
TZNAME:CST
DTSTART:20141102T070000
END:STANDARD
BEGIN:DAYLIGHT
TZOFFSETFROM:-0600
TZOFFSETTO:-0500
TZNAME:CDT
DTSTART:20150308T080000
END:DAYLIGHT
BEGIN:STANDARD
TZOFFSETFROM:-0500
TZOFFSETTO:-0600
TZNAME:CST
DTSTART:20151101T070000
END:STANDARD
BEGIN:DAYLIGHT
TZOFFSETFROM:-0600
TZOFFSETTO:-0500
TZNAME:CDT
DTSTART:20160313T080000
END:DAYLIGHT
BEGIN:STANDARD
TZOFFSETFROM:-0500
TZOFFSETTO:-0600
TZNAME:CST
DTSTART:20161106T070000
END:STANDARD
BEGIN:DAYLIGHT
TZOFFSETFROM:-0600
TZOFFSETTO:-0500
TZNAME:CDT
DTSTART:20170312T080000
END:DAYLIGHT
BEGIN:STANDARD
TZOFFSETFROM:-0500
TZOFFSETTO:-0600
TZNAME:CST
DTSTART:20171105T070000
END:STANDARD
BEGIN:DAYLIGHT
TZOFFSETFROM:-0600
TZOFFSETTO:-0500
TZNAME:CDT
DTSTART:20180311T080000
END:DAYLIGHT
BEGIN:STANDARD
TZOFFSETFROM:-0500
TZOFFSETTO:-0600
TZNAME:CST
DTSTART:20181104T070000
END:STANDARD
BEGIN:DAYLIGHT
TZOFFSETFROM:-0600
TZOFFSETTO:-0500
TZNAME:CDT
DTSTART:20190310T080000
END:DAYLIGHT
BEGIN:STANDARD
TZOFFSETFROM:-0500
TZOFFSETTO:-0600
TZNAME:CST
DTSTART:20191103T070000
END:STANDARD
END:VTIMEZONE
BEGIN:VEVENT
DTSTART;TZID=America/Chicago:20180501T080000
DTEND;TZID=America/Chicago:20180501T090000
DTSTAMP:20260423T212742
CREATED:20180425T140015Z
LAST-MODIFIED:20180425T140015Z
UID:4086-1525161600-1525165200@peninsulastatepark.org
SUMMARY:Migrate to Peninsula for Spring Bird Walks
DESCRIPTION:Migrate to Peninsula State Park the first two Tuesdays in May for spring bird walks. Meet at 8 a.m. at Weborg Shelter on May 1 and May 8 for a casual walk with Naturalist Kathleen Harris.  Look for palm\, yellow-rumped\, and other warblers as well as shorebirds on an hour-long\, naturalist-led walk. Will bloodroot be blooming? Limited binoculars available for free loan or bring your own. Easy walking\, less than a half-mile. This program is free and open to the public but a state park vehicle sticker is required. Program cancelled in inclement weather. If you need more information call the park nature center at 920 854-5976 or park headquarters at 920-868-3258.
URL:https://peninsulastatepark.org/event/migrate-to-peninsula-for-spring-bird-walks/
LOCATION:Peninsula State Park – Weborg Point\, 9462 Shore Road\, Fish Creek\, 54212\, United States
END:VEVENT
BEGIN:VEVENT
DTSTART;TZID=America/Chicago:20180101T100000
DTEND;TZID=America/Chicago:20180101T120000
DTSTAMP:20260423T212742
CREATED:20171128T184519Z
LAST-MODIFIED:20171128T185227Z
UID:3476-1514800800-1514808000@peninsulastatepark.org
SUMMARY:Peninsula State Park Celebrates the New Year with a First Day Hike
DESCRIPTION:On the trail for the 2016 First Day Hike. Photo by Kelli Bruns\nOn January 1\, Peninsula State Park will sponsor a First Day Hike\, offering visitors the opportunity to rejuvenate by taking a family friendly trek led by Friends of Peninsula State Park. “This is a great way for the whole family to start off the new year with a healthy activity\,” says Chris Holicek\, Friends president. \nFirst Day hikers will meet at the Weborg picnic shelter at 10 AM on January 1. The easy one- to three-mile hike will follow the Sunset Bike Route and Weborg Marsh. There will be an opportunity to warm up in the shelter afterwards with hot chocolate and cookies until noon. \nChildren are welcome with adult supervision\, but pets are not allowed. Participants are advised to bring a water bottle\, binoculars\, and field guide\, and to dress for the weather\, with hiking boots or snowshoes. A state park vehicle sticker is required. \n“We are excited to host a First Day Hike as part of the national effort to showcase state parks as close to home places for connecting people to nature\, promoting year-round recreation and fostering healthy outdoor lifestyles\,” says Brian Markowski\, Peninsula State Park Superintendent. \nThis year will be the sixth time Peninsula State Park has participated in America’s State Parks’ First Day Hikes. Last year nearly 55\,000 people across the U.S. rang in the New Year by collectively hiking over 133\,000 miles on guided hikes.  Numerous others hiked state park trails on their own throughout the day. \nFor cancellation information\, please call the park office at (920) 868-3258\, or refer to the Friends of Peninsula State Park web page. For more information about Friends of Peninsula State Park\, visit their web page at peninsulastatepark.org or on Facebook at https://www.facebook.com/peninsulafriends/. \n  \nContact:  \nSteve Strucely\, Business Manager \nFriends of Peninsula State Park \nOffice: (920) 868-6256 \nMobile: (262) 293-6853 \nfpspmgr@gmail.com \n 
URL:https://peninsulastatepark.org/event/peninsula-state-park-celebrates-the-new-year-with-a-first-day-hike/
LOCATION:Peninsula State Park – Weborg Point\, 9462 Shore Road\, Fish Creek\, 54212\, United States
END:VEVENT
BEGIN:VEVENT
DTSTART;TZID=America/Chicago:20170826T113000
DTEND;TZID=America/Chicago:20170826T140000
DTSTAMP:20260423T212742
CREATED:20170723T170423Z
LAST-MODIFIED:20170723T170500Z
UID:3412-1503747000-1503756000@peninsulastatepark.org
SUMMARY:Friends of Peninsula State Park Annual Meeting
DESCRIPTION:Please join the Friends of Peninsula State Park for a potluck picnic lunch.  Our new park Superintendent\, Brian Markowski and Assistant Superintendent\, Jennifer Birkholz will discuss what is new in the park & what is planned for the future. \nWhere:  Weborg Shelter \nWhen:  Saturday\, August 26\, 2017 \nTime:  11:30am – Picnic lunch followed by a short business meeting. \nPlease bring a dish to pass.  Soft drinks and hot dogs will be provided by the Friends.  Parking at Weborg is limited.  Additional parking is available just north of the campground at Nelson Point.  A park sticker is required.
URL:https://peninsulastatepark.org/event/3412/
LOCATION:Peninsula State Park – Weborg Point\, 9462 Shore Road\, Fish Creek\, 54212\, United States
END:VEVENT
BEGIN:VEVENT
DTSTART;TZID=America/Chicago:20160827T113000
DTEND;TZID=America/Chicago:20160827T140000
DTSTAMP:20260423T212742
CREATED:20160715T010333Z
LAST-MODIFIED:20160715T010333Z
UID:3261-1472297400-1472306400@peninsulastatepark.org
SUMMARY:Friends of Peninsula State Park Annual Meeting
DESCRIPTION:
URL:https://peninsulastatepark.org/event/friends-of-peninsula-state-park-annual-meeting/
LOCATION:Peninsula State Park – Weborg Point\, 9462 Shore Road\, Fish Creek\, 54212\, United States
END:VEVENT
BEGIN:VEVENT
DTSTART;TZID=America/Chicago:20160101T100000
DTEND;TZID=America/Chicago:20160101T120000
DTSTAMP:20260423T212742
CREATED:20151014T124820Z
LAST-MODIFIED:20151014T125052Z
UID:3063-1451642400-1451649600@peninsulastatepark.org
SUMMARY:First Day Hike
DESCRIPTION:Join Park Naturalist Kathleen Harris and Friends of Peninsula State Park for our annual New Year’s Day hike. Snack and beverages will be provided.
URL:https://peninsulastatepark.org/event/first-day-hike-3/
LOCATION:Peninsula State Park – Weborg Point\, 9462 Shore Road\, Fish Creek\, 54212\, United States
END:VEVENT
BEGIN:VEVENT
DTSTART;TZID=America/Chicago:20150829T113000
DTEND;TZID=America/Chicago:20150829T140000
DTSTAMP:20260423T212742
CREATED:20150811T012750Z
LAST-MODIFIED:20150811T012750Z
UID:3035-1440847800-1440856800@peninsulastatepark.org
SUMMARY:2015 Friends Annual Meeting
DESCRIPTION:Beautiful Weborg Point in Peninsula State Park will be the setting for the annual meeting of the Friends of Peninsula State Park\, on Saturday August 29\, at 11:30 AM. A picnic potluck lunch will be followed by a short business meeting\, which will include a report from Assistant Park Superintendent Erin Brown. She will provide updates on visitation\, staffing\, and Eagle Tower\, as well as the plans for renovation of the historic White Cedar Nature Center. \nThe Friends welcome the public to join them for the informational program\, which begins at 1 PM. Josh Martinez\, Wisconsin Department of Resources Wildlife Biologist\, will speak about wildlife management in Door County\, and how citizens can become involved in wildlife surveys. Park Superintendent Kelli Bruns encourages members of the community to take advantage of this opportunity to learn more about what wildlife management means\, and how they can become involved. “We are fortunate to have such a knowledgeable speaker sharing insights with us\,” she said. \nFriends board president Chris Holicek encourages fellow Friends to attend this always enjoyable event. “This is a chance for all of the Friends to get an overview of the accomplishments of the past year and the exciting plans for the coming year\,” she says. \nFriends members and their guests are asked to bring a dish to pass for the lunch. Drinks and hot dogs will be provided. Please RSVP to Gail Anderson at 920-868-3499 or gnanderson@wildblue.net. \nParking at Weborg shelter is limited.\, and carpooling is recommended. Additional parking is available in the day lot just north of the campground and at Nelson Point\, as well as at the Fish Creek overflow lot. A Park vehicle sticker is required.
URL:https://peninsulastatepark.org/event/2015-friends-annual-meeting/
LOCATION:Peninsula State Park – Weborg Point\, 9462 Shore Road\, Fish Creek\, 54212\, United States
END:VEVENT
BEGIN:VEVENT
DTSTART;TZID=America/Chicago:20150101T100000
DTEND;TZID=America/Chicago:20150101T120000
DTSTAMP:20260423T212742
CREATED:20141105T132914Z
LAST-MODIFIED:20141216T041640Z
UID:2865-1420106400-1420113600@peninsulastatepark.org
SUMMARY:First Day Hike
DESCRIPTION:Meet at the Weborg picnic shelter at 10 a.m. Join the Friends on a three mile hike along the Sunset bike trail and Weborg marsh. Come back to the shelter to enjoy a cup of hot cider or cocoa around a warming fire. \n2015 First Day Hike
URL:https://peninsulastatepark.org/event/first-day-hike-2/
LOCATION:Peninsula State Park – Weborg Point\, 9462 Shore Road\, Fish Creek\, 54212\, United States
END:VEVENT
BEGIN:VEVENT
DTSTART;TZID=America/Chicago:20140101T100000
DTEND;TZID=America/Chicago:20140101T120000
DTSTAMP:20260423T212742
CREATED:20131006T174340Z
LAST-MODIFIED:20131207T010940Z
UID:2585-1388570400-1388577600@peninsulastatepark.org
SUMMARY:First Day Hike
DESCRIPTION:On January 1\, Peninsula State Park will sponsor a First Day Hike\, offering visitors the opportunity to start the year off with a family friendly trek led by Friends of Peninsula State Park. Chris Holicek\, president of the Friends\, says\, “Think of it as the start of a new and healthy lifestyle\, for the whole family.” \nFirst Day hikers will meet at the Weborg picnic shelter\, at 10 AM on January 1. They will walk an easy one to three mile route along the Sunset bike trail and Weborg marsh. During the hike\, the hike leader will help members of the group to identify a variety of bird species. The event will conclude about noon\, after hikers have warmed up in the shelter with hot chocolate and cookies. \nChildren are welcome\, with adult supervision\, but pets are not allowed. Participants are advised to bring a water bottle\, binoculars\, and field guide\, and to dress for the weather\, with hiking boots or snowshoes. A state park vehicle sticker is required. \n“We are excited to host a First Day Hike as part of the national effort to showcase state parks as close to home places for connecting people to nature\, promoting year-round recreation and fostering healthy outdoor lifestyles\,” says Kelli Bruns\, Peninsula State Park Superintendent. \nThis year will be the third time Peninsula State Park has participated in America’s State Parks’ First Day Hikes. On January 1\, 2013\, over 700 hikes and more than 22\,000 people in all 50 states participated in the First Day Hikes. \n\nDegree of Difficulty: – Easy\nTrail name(s): Sunset Trail – Weborg Marsh\nMinimum age for kids: Must be accompanied by an adult\nAny restrictions?: No Pets. Park Admission Sticker is required.\nLength of trail/hike: 1-3 mile option\nThings to Bring: Water\, binoculars\, field guide\, appropriate outdoor dress\nCancellation Information: Call park office at 920-868-3258
URL:https://peninsulastatepark.org/event/first-day-hike/
LOCATION:Peninsula State Park – Weborg Point\, 9462 Shore Road\, Fish Creek\, 54212\, United States
END:VEVENT
BEGIN:VEVENT
DTSTART;TZID=America/Chicago:20130824T113000
DTEND;TZID=America/Chicago:20130824T150000
DTSTAMP:20260423T212742
CREATED:20130724T153248Z
LAST-MODIFIED:20130808T170130Z
UID:2520-1377343800-1377356400@peninsulastatepark.org
SUMMARY:Friends Annual Meeting
DESCRIPTION:Beautiful Weborg Point in Peninsula State Park will be the setting for the annual meeting of the Friends of Peninsula State Park\, on Saturday August 24\, at 11:30 AM. A picnic potluck lunch will be followed by a short business meeting\, which will include a report from Park Superintendent Kelli Bruns. \nFriends board president Chris Holicek encourages fellow Friends to take advantage of this opportunity to be together. “This is a special opportunity for all of the Friends to get an overview of the accomplishments of the past year and the exciting plans for the coming year\,” she says. \nThe Friends welcome the public to join them for the program beginning at 1:15 PM. Jerry Leiterman\, the new Northeast District Park Supervisor for the Wisconsin Department of Natural Resources\, will speak about the important relationship between the Friends\, the Park\, and new initiatives in the Wisconsin state park system. Allison Perrigoue\, recipient of the Friends 2013 research grant\, will discuss the surprising results of her survey of the dwarf lake iris microhabitat within the park. \nFriends members and their guests are asked to bring a dish to pass for the lunch. Drinks will be provided. RSVP to Gail Anderson at 920-868-3499 or gnanderson@wildblue.net. \nParking at Weborg shelter is limited. Carpooling is recommended. Additional parking will be available in the day lot just north of the campground and at Nelson Point. Additional parking is also available at the Fish Creek overflow lot. A Park vehicle sticker is required.
URL:https://peninsulastatepark.org/event/friends-annual-meeting/
LOCATION:Peninsula State Park – Weborg Point\, 9462 Shore Road\, Fish Creek\, 54212\, United States
END:VEVENT
END:VCALENDAR