BEGIN:VCALENDAR
VERSION:2.0
PRODID:-//Friends of Peninsula State Park - ECPv6.15.20//NONSGML v1.0//EN
CALSCALE:GREGORIAN
METHOD:PUBLISH
X-WR-CALNAME:Friends of Peninsula State Park
X-ORIGINAL-URL:https://peninsulastatepark.org
X-WR-CALDESC:Events for Friends of Peninsula State Park
REFRESH-INTERVAL;VALUE=DURATION:PT1H
X-Robots-Tag:noindex
X-PUBLISHED-TTL:PT1H
BEGIN:VTIMEZONE
TZID:America/Chicago
BEGIN:DAYLIGHT
TZOFFSETFROM:-0600
TZOFFSETTO:-0500
TZNAME:CDT
DTSTART:20220313T080000
END:DAYLIGHT
BEGIN:STANDARD
TZOFFSETFROM:-0500
TZOFFSETTO:-0600
TZNAME:CST
DTSTART:20221106T070000
END:STANDARD
BEGIN:DAYLIGHT
TZOFFSETFROM:-0600
TZOFFSETTO:-0500
TZNAME:CDT
DTSTART:20230312T080000
END:DAYLIGHT
BEGIN:STANDARD
TZOFFSETFROM:-0500
TZOFFSETTO:-0600
TZNAME:CST
DTSTART:20231105T070000
END:STANDARD
BEGIN:DAYLIGHT
TZOFFSETFROM:-0600
TZOFFSETTO:-0500
TZNAME:CDT
DTSTART:20240310T080000
END:DAYLIGHT
BEGIN:STANDARD
TZOFFSETFROM:-0500
TZOFFSETTO:-0600
TZNAME:CST
DTSTART:20241103T070000
END:STANDARD
END:VTIMEZONE
BEGIN:VEVENT
DTSTART;TZID=America/Chicago:20230616T140000
DTEND;TZID=America/Chicago:20230616T180000
DTSTAMP:20260424T125921
CREATED:20230330T184206Z
LAST-MODIFIED:20230420T162310Z
UID:10882-1686924000-1686938400@peninsulastatepark.org
SUMMARY:Boating Welcome Center 🛥️
DESCRIPTION:What’s your water way?\nA day on the water a is a great way to enjoy Peninsula State Park. We want to be sure that you’re enjoying your time with us safely\, so you can see us again and again. \nJoin Peninsula State Park’s Natural Resources Educator and Public Safety and Resource Protection Outdoor Skills Trainer at Nicolet Boat Launch to learn which life jacket works best for your favorite water sport. \nWe’ll also have our local Clean Boats Clean Water’s team on hand to share more about what invasive species you’ll find below the surface.
URL:https://peninsulastatepark.org/event/boating-welcome-center-with-r3-educators-nicolet-boat-launch/
LOCATION:Peninsula State Park- Nicolet Boat Lauch
END:VEVENT
END:VCALENDAR