BEGIN:VCALENDAR
VERSION:2.0
PRODID:-//Friends of Peninsula State Park - ECPv6.15.20//NONSGML v1.0//EN
CALSCALE:GREGORIAN
METHOD:PUBLISH
X-ORIGINAL-URL:https://peninsulastatepark.org
X-WR-CALDESC:Events for Friends of Peninsula State Park
REFRESH-INTERVAL;VALUE=DURATION:PT1H
X-Robots-Tag:noindex
X-PUBLISHED-TTL:PT1H
BEGIN:VTIMEZONE
TZID:America/Chicago
BEGIN:DAYLIGHT
TZOFFSETFROM:-0600
TZOFFSETTO:-0500
TZNAME:CDT
DTSTART:20150308T080000
END:DAYLIGHT
BEGIN:STANDARD
TZOFFSETFROM:-0500
TZOFFSETTO:-0600
TZNAME:CST
DTSTART:20151101T070000
END:STANDARD
BEGIN:DAYLIGHT
TZOFFSETFROM:-0600
TZOFFSETTO:-0500
TZNAME:CDT
DTSTART:20160313T080000
END:DAYLIGHT
BEGIN:STANDARD
TZOFFSETFROM:-0500
TZOFFSETTO:-0600
TZNAME:CST
DTSTART:20161106T070000
END:STANDARD
BEGIN:DAYLIGHT
TZOFFSETFROM:-0600
TZOFFSETTO:-0500
TZNAME:CDT
DTSTART:20170312T080000
END:DAYLIGHT
BEGIN:STANDARD
TZOFFSETFROM:-0500
TZOFFSETTO:-0600
TZNAME:CST
DTSTART:20171105T070000
END:STANDARD
END:VTIMEZONE
BEGIN:VEVENT
DTSTART;TZID=America/Chicago:20160125T143000
DTEND;TZID=America/Chicago:20160125T153000
DTSTAMP:20260423T210957
CREATED:20160111T231306Z
LAST-MODIFIED:20160113T215603Z
UID:3142-1453732200-1453735800@peninsulastatepark.org
SUMMARY:Eagle Tower Meeting with Senator Lasee
DESCRIPTION:Senator Lasee has scheduled a meeting to discuss this the future of Eagle Tower and what might be done to save the tower for future generations to enjoy. We hope that everyone will come out and show your support by attending this meeting if possible.
URL:https://peninsulastatepark.org/event/tower-meeting-with-senator-lasee/
LOCATION:Gibralter Town Hall\, 4097 Main St\, Fish Creek\, WI\, 54212\, United States
END:VEVENT
END:VCALENDAR