BEGIN:VCALENDAR
VERSION:2.0
PRODID:-//Friends of Peninsula State Park - ECPv6.15.20//NONSGML v1.0//EN
CALSCALE:GREGORIAN
METHOD:PUBLISH
X-ORIGINAL-URL:https://peninsulastatepark.org
X-WR-CALDESC:Events for Friends of Peninsula State Park
REFRESH-INTERVAL;VALUE=DURATION:PT1H
X-Robots-Tag:noindex
X-PUBLISHED-TTL:PT1H
BEGIN:VTIMEZONE
TZID:America/Chicago
BEGIN:DAYLIGHT
TZOFFSETFROM:-0600
TZOFFSETTO:-0500
TZNAME:CDT
DTSTART:20170312T080000
END:DAYLIGHT
BEGIN:STANDARD
TZOFFSETFROM:-0500
TZOFFSETTO:-0600
TZNAME:CST
DTSTART:20171105T070000
END:STANDARD
BEGIN:DAYLIGHT
TZOFFSETFROM:-0600
TZOFFSETTO:-0500
TZNAME:CDT
DTSTART:20180311T080000
END:DAYLIGHT
BEGIN:STANDARD
TZOFFSETFROM:-0500
TZOFFSETTO:-0600
TZNAME:CST
DTSTART:20181104T070000
END:STANDARD
BEGIN:DAYLIGHT
TZOFFSETFROM:-0600
TZOFFSETTO:-0500
TZNAME:CDT
DTSTART:20190310T080000
END:DAYLIGHT
BEGIN:STANDARD
TZOFFSETFROM:-0500
TZOFFSETTO:-0600
TZNAME:CST
DTSTART:20191103T070000
END:STANDARD
END:VTIMEZONE
BEGIN:VEVENT
DTSTART;TZID=America/Chicago:20180620T130000
DTEND;TZID=America/Chicago:20180620T140000
DTSTAMP:20260423T181035
CREATED:20180614T003357Z
LAST-MODIFIED:20180614T004010Z
UID:4464-1529499600-1529503200@peninsulastatepark.org
SUMMARY:Sentinel Trail Hike
DESCRIPTION:Sky high bluffs and tall trees are featured at two separate Peninsula State Park hikes. \nMeet at Eagle Tower parking lot on Tuesday\, June 19\, at 10 a.m. for a two-hour hike along spectacular Eagle Trail. Learn about the rocks beneath your feet and identify wildflowers along the way. This trail may be slippery and challenging so wear sturdy footwear. Pack water for a rest stop along the way. \nOn Wednesday\, June 20\, join the naturalist for a leisurely stroll along gently rolling Sentinel Trail. Discover tree facts and folklore from 1-2 p.m. Meet at Eagle Tower parking lot. Both programs are free and open to the public\, but a state park vehicle sticker is required. If you need additional information call the White Cedar Nature Center at 854-5976.
URL:https://peninsulastatepark.org/event/peninsula-hikes-feature-niagara-escarpment-2/
LOCATION:Peninsula State Park – Eagle Tower\, 45.163211456809854\,-87.19849467431641
END:VEVENT
BEGIN:VEVENT
DTSTART;TZID=America/Chicago:20180619T100000
DTEND;TZID=America/Chicago:20180619T120000
DTSTAMP:20260423T181035
CREATED:20180614T003052Z
LAST-MODIFIED:20180614T003905Z
UID:4460-1529402400-1529409600@peninsulastatepark.org
SUMMARY:Eagle Trail Hike
DESCRIPTION:Sky high bluffs and tall trees are featured at two separate Peninsula State Park hikes. \nMeet at Eagle Tower parking lot on Tuesday\, June 19\, at 10 a.m. for a two-hour hike along spectacular Eagle Trail. Learn about the rocks beneath your feet and identify wildflowers along the way. This trail may be slippery and challenging so wear sturdy footwear. Pack water for a rest stop along the way. \nOn Wednesday\, June 20\, join the naturalist for a leisurely stroll along gently rolling Sentinel Trail. Discover tree facts and folklore from 1-2 p.m. Meet at Eagle Tower parking lot. Both programs are free and open to the public\, but a state park vehicle sticker is required. If you need additional information call the White Cedar Nature Center at 854-5976.
URL:https://peninsulastatepark.org/event/peninsula-hikes-feature-niagara-escarpment/
LOCATION:Peninsula State Park – Eagle Tower\, 45.163211456809854\,-87.19849467431641
END:VEVENT
END:VCALENDAR