BEGIN:VCALENDAR
VERSION:2.0
PRODID:-//Friends of Peninsula State Park - ECPv6.15.20//NONSGML v1.0//EN
CALSCALE:GREGORIAN
METHOD:PUBLISH
X-ORIGINAL-URL:https://peninsulastatepark.org
X-WR-CALDESC:Events for Friends of Peninsula State Park
REFRESH-INTERVAL;VALUE=DURATION:PT1H
X-Robots-Tag:noindex
X-PUBLISHED-TTL:PT1H
BEGIN:VTIMEZONE
TZID:America/Chicago
BEGIN:DAYLIGHT
TZOFFSETFROM:-0600
TZOFFSETTO:-0500
TZNAME:CDT
DTSTART:20170312T080000
END:DAYLIGHT
BEGIN:STANDARD
TZOFFSETFROM:-0500
TZOFFSETTO:-0600
TZNAME:CST
DTSTART:20171105T070000
END:STANDARD
BEGIN:DAYLIGHT
TZOFFSETFROM:-0600
TZOFFSETTO:-0500
TZNAME:CDT
DTSTART:20180311T080000
END:DAYLIGHT
BEGIN:STANDARD
TZOFFSETFROM:-0500
TZOFFSETTO:-0600
TZNAME:CST
DTSTART:20181104T070000
END:STANDARD
BEGIN:DAYLIGHT
TZOFFSETFROM:-0600
TZOFFSETTO:-0500
TZNAME:CDT
DTSTART:20190310T080000
END:DAYLIGHT
BEGIN:STANDARD
TZOFFSETFROM:-0500
TZOFFSETTO:-0600
TZNAME:CST
DTSTART:20191103T070000
END:STANDARD
END:VTIMEZONE
BEGIN:VEVENT
DTSTART;TZID=America/Chicago:20180603T100000
DTEND;TZID=America/Chicago:20180603T160000
DTSTAMP:20260423T181126
CREATED:20180528T150925Z
LAST-MODIFIED:20180528T150925Z
UID:4357-1528020000-1528041600@peninsulastatepark.org
SUMMARY:Fish Tank at the Nature Center
DESCRIPTION:Want to get up close and personal with a smallmouth bass or bowfin? Visit the Peninsula State Park Nature Center on Saturday and Sunday\, June 2 & 3\, from 10 a.m. to 4 p.m. Department of Natural Resources fisheries biologists have stocked and set up a six-hundred gallon fish tank. Professional natural resources educators will be on hand to share fishy facts. Drop-in kids activities related to fishing are on the docket\, too. This program is free and open to the public. For complete program information phone the White Cedar Nature Center at 920-854-5976. (Photos courtesy of Allan Meyer)
URL:https://peninsulastatepark.org/event/fish-tank-at-the-nature-center-2/
LOCATION:Peninsula State Park – White Cedar Nature Center
END:VEVENT
BEGIN:VEVENT
DTSTART;TZID=America/Chicago:20180602T100000
DTEND;TZID=America/Chicago:20180602T160000
DTSTAMP:20260423T181126
CREATED:20180528T150609Z
LAST-MODIFIED:20180528T150707Z
UID:4352-1527933600-1527955200@peninsulastatepark.org
SUMMARY:Fish Tank at the Nature Center
DESCRIPTION:Want to get up close and personal with a smallmouth bass or bowfin? Visit the Peninsula State Park Nature Center on Saturday and Sunday\, June 2 & 3\, from 10 a.m. to 4 p.m. Department of Natural Resources fisheries biologists have stocked and set up a six-hundred gallon fish tank. Professional natural resources educators will be on hand to share fishy facts. Drop-in kids activities related to fishing are on the docket\, too. This program is free and open to the public. For complete program information phone the White Cedar Nature Center at 920-854-5976. (Photos courtesy of Allan Meyer)
URL:https://peninsulastatepark.org/event/fish-tank-at-the-nature-center/
LOCATION:Peninsula State Park – White Cedar Nature Center
END:VEVENT
BEGIN:VEVENT
DTSTART;TZID=America/Chicago:20180529T100000
DTEND;TZID=America/Chicago:20180529T120000
DTSTAMP:20260423T181126
CREATED:20180528T145744Z
LAST-MODIFIED:20180528T145744Z
UID:4349-1527588000-1527595200@peninsulastatepark.org
SUMMARY:Eagle Trail Hike
DESCRIPTION:Meet at Eagle Tower parking lot. See 150-foot bluffs\, wildflowers\, and magnificent cedar trees on a naturalist-led hike. Discover park history\, too. Two miles. Difficult hiking. Trail may be muddy.
URL:https://peninsulastatepark.org/event/eagle-trail-hike-2/
LOCATION:Peninsula State Park\, 9462 Shore Road\, Fish Creek\, WI\, 54212\, United States
END:VEVENT
BEGIN:VEVENT
DTSTART;TZID=America/Chicago:20180522T100000
DTEND;TZID=America/Chicago:20180522T113000
DTSTAMP:20260423T181126
CREATED:20180521T152413Z
LAST-MODIFIED:20180521T152413Z
UID:4270-1526983200-1526988600@peninsulastatepark.org
SUMMARY:Sentinel Trail Hike
DESCRIPTION:Join the Peninsula State Park naturalist tomorrow (May 22) from 10-11:30 a.m. for a beautiful walk along woodsy Skyline Trail. Meet at Skyline parking lot on Shore Road. Saunter up to spectacular Sven’s Bluff. Identify trees and flowers along the way\, and learn a bit of park history. About two miles\, rolling terrain. This program is free and open to the public but a state park vehicle sticker is required. If you need additional information call the White Cedar Nature Center at 920-954-5976.
URL:https://peninsulastatepark.org/event/sentinel-trail-hike/
LOCATION:Peninsula State Park\, 9462 Shore Road\, Fish Creek\, WI\, 54212\, United States
END:VEVENT
BEGIN:VEVENT
DTSTART;TZID=America/Chicago:20180515T093000
DTEND;TZID=America/Chicago:20180515T103000
DTSTAMP:20260423T181126
CREATED:20180514T010850Z
LAST-MODIFIED:20180514T010850Z
UID:4152-1526376600-1526380200@peninsulastatepark.org
SUMMARY:Lend a Hand at Pen Park
DESCRIPTION:Lend a hand protecting beautiful Sven’s Bluff on Tuesday\, May 15\, at Peninsula State Park. Pull garlic mustard at a Door County Invasive Team (DCIST) Work Day. Meet at Park Headquarters at 9:30 then car-pool about a mile. Help pull garlic mustard. Stay 30 minutes or longer. Bring gloves if you have them (provided for those who don’t) and wear sturdy shoes for walking on uneven terrain. Long pants recommended. Snacks provided by DCIST. Bring binoculars if you have them for bird watching. Rain date Tuesday May 22. A volunteer courtesy pass will be provided for those without state park vehicle stickers. If you need additional information email kathleen.harris@wisconsin.gov.
URL:https://peninsulastatepark.org/event/lend-a-hand-at-pen-park/
LOCATION:Peninsula State Park – Park Headquarters\, 9462 Shore Road\, Fish Creek\, WI\, 54212\, United States
END:VEVENT
BEGIN:VEVENT
DTSTART;TZID=America/Chicago:20180511T140000
DTEND;TZID=America/Chicago:20180511T150000
DTSTAMP:20260423T181126
CREATED:20180507T141048Z
LAST-MODIFIED:20180507T144431Z
UID:4130-1526047200-1526050800@peninsulastatepark.org
SUMMARY:Nicolet Trail Hike
DESCRIPTION:Meet at Nicolet Beach to hike the Nicolet Trail via “Shanty Bay”. A sawmill\, fishing shanties\, and a summer estate were part of the beach landscape one hundred years ago. Enjoy Peninsula stories while walking along a beach and forest trail. Gently rolling terrain\, with muddy spots. \nProgram is free and open to the public but a state park sticker is required. Bring binoculars if you wish. If you need additional information call Peninsula Park Headquarters at 920-868-3258 or email kathleen.harris@wisconsin.gov.
URL:https://peninsulastatepark.org/event/nicolet-trail-hike/
LOCATION:Peninsula State Park – Nicolet Beach\, 45.16459063279326\,-87.22407221948242
END:VEVENT
BEGIN:VEVENT
DTSTART;TZID=America/Chicago:20180510T100000
DTEND;TZID=America/Chicago:20180510T113000
DTSTAMP:20260423T181126
CREATED:20180507T140545Z
LAST-MODIFIED:20180507T143941Z
UID:4126-1525946400-1525951800@peninsulastatepark.org
SUMMARY:Eagle Trail Hike
DESCRIPTION:Experience Peninsula’s most spectacular trail. Meet at Eagle Tower (dismantled) parking lot then walk a two-mile route seeing sky-high bluffs of the Niagara Escarpment\, watching for trilliums\, and discovering park history. Eagle Trail will be muddy and slippery; this is a difficult trail. \nProgram is free and open to the public but a state park sticker is required. Bring binoculars if you wish. If you need additional information call Peninsula Park Headquarters at 920-868-3258 or email kathleen.harris@wisconsin.gov.
URL:https://peninsulastatepark.org/event/eagle-trail-hike/
LOCATION:Peninsula State Park – Eagle Tower\, 45.163211456809854\,-87.19849467431641
END:VEVENT
BEGIN:VEVENT
DTSTART;TZID=America/Chicago:20180508T080000
DTEND;TZID=America/Chicago:20180508T090000
DTSTAMP:20260423T181126
CREATED:20180425T141104Z
LAST-MODIFIED:20180507T143520Z
UID:4091-1525766400-1525770000@peninsulastatepark.org
SUMMARY:Migrate to Peninsula for Spring Bird Walk
DESCRIPTION:Spring sunshine has ushered in migrating birds: warblers\, orioles\, great egrets and many others. Join Peninsula’s Naturalist for an easy stroll at Weborg Point on Tuesday\, May 8\, from 8 – 9 a.m. Meet at Weborg Shelter and park at the day use lot next to Weborg Campground. In addition to birds\, we’ll also look for bloodroot and invasive forget-me-not. Bring binoculars if you have them. Limited binoculars available for free loan. Easy walking. This program is free and open to the public but a state park vehicle sticker is required. If you need additional information call Peninsula at 920-868-3258.
URL:https://peninsulastatepark.org/event/migrate-to-peninsula-for-spring-bird-walks-2/
LOCATION:Peninsula State Park – Weborg Point\, 9462 Shore Road\, Fish Creek\, 54212\, United States
END:VEVENT
BEGIN:VEVENT
DTSTART;TZID=America/Chicago:20180501T080000
DTEND;TZID=America/Chicago:20180501T090000
DTSTAMP:20260423T181126
CREATED:20180425T140015Z
LAST-MODIFIED:20180425T140015Z
UID:4086-1525161600-1525165200@peninsulastatepark.org
SUMMARY:Migrate to Peninsula for Spring Bird Walks
DESCRIPTION:Migrate to Peninsula State Park the first two Tuesdays in May for spring bird walks. Meet at 8 a.m. at Weborg Shelter on May 1 and May 8 for a casual walk with Naturalist Kathleen Harris.  Look for palm\, yellow-rumped\, and other warblers as well as shorebirds on an hour-long\, naturalist-led walk. Will bloodroot be blooming? Limited binoculars available for free loan or bring your own. Easy walking\, less than a half-mile. This program is free and open to the public but a state park vehicle sticker is required. Program cancelled in inclement weather. If you need more information call the park nature center at 920 854-5976 or park headquarters at 920-868-3258.
URL:https://peninsulastatepark.org/event/migrate-to-peninsula-for-spring-bird-walks/
LOCATION:Peninsula State Park – Weborg Point\, 9462 Shore Road\, Fish Creek\, 54212\, United States
END:VEVENT
BEGIN:VEVENT
DTSTART;TZID=America/Chicago:20180428T100000
DTEND;TZID=America/Chicago:20180428T110000
DTSTAMP:20260423T181126
CREATED:20180423T162322Z
LAST-MODIFIED:20180423T162820Z
UID:4041-1524909600-1524913200@peninsulastatepark.org
SUMMARY:Like to Hike: Spring Walk to the Black Ash Swamp
DESCRIPTION:Tucked behind Peninsula’s Nature Center\, fed by spring water oozing from the bluff edges\, is a temporal wetland. Sturdy black ash trees rise up from a forest floor carpeted with ferns. Despite recent “Snowstorm Evelyn” the swamp is greening up. Join Peninsula’s naturalist on Saturday\, April 28\, from 10 – 11 a.m. for a peek at this oft overlooked natural gem. Less than half-a-mile\, easy walking. We will avoid getting our feet wet\, but swamp edges will be muddy. This site is showing signs of dreaded emerald ash borer. Learn the key to this site’s survival\, and which species already stake a claim here. This program is free and open to the public\, but a state park vehicle sticker is required. If you need additional information email kathleen.harris@wisconsin.gov or phone Peninsula State Park Headquarters at 920-868-3258.
URL:https://peninsulastatepark.org/event/like-to-hike-spring-walk-to-the-black-ash-swamp/
LOCATION:Peninsula State Park – White Cedar Nature Center
END:VEVENT
END:VCALENDAR