BEGIN:VCALENDAR
VERSION:2.0
PRODID:-//Friends of Peninsula State Park - ECPv6.15.20//NONSGML v1.0//EN
CALSCALE:GREGORIAN
METHOD:PUBLISH
X-ORIGINAL-URL:https://peninsulastatepark.org
X-WR-CALDESC:Events for Friends of Peninsula State Park
REFRESH-INTERVAL;VALUE=DURATION:PT1H
X-Robots-Tag:noindex
X-PUBLISHED-TTL:PT1H
BEGIN:VTIMEZONE
TZID:America/Chicago
BEGIN:DAYLIGHT
TZOFFSETFROM:-0600
TZOFFSETTO:-0500
TZNAME:CDT
DTSTART:20250309T080000
END:DAYLIGHT
BEGIN:STANDARD
TZOFFSETFROM:-0500
TZOFFSETTO:-0600
TZNAME:CST
DTSTART:20251102T070000
END:STANDARD
BEGIN:DAYLIGHT
TZOFFSETFROM:-0600
TZOFFSETTO:-0500
TZNAME:CDT
DTSTART:20260308T080000
END:DAYLIGHT
BEGIN:STANDARD
TZOFFSETFROM:-0500
TZOFFSETTO:-0600
TZNAME:CST
DTSTART:20261101T070000
END:STANDARD
BEGIN:DAYLIGHT
TZOFFSETFROM:-0600
TZOFFSETTO:-0500
TZNAME:CDT
DTSTART:20270314T080000
END:DAYLIGHT
BEGIN:STANDARD
TZOFFSETFROM:-0500
TZOFFSETTO:-0600
TZNAME:CST
DTSTART:20271107T070000
END:STANDARD
END:VTIMEZONE
BEGIN:VEVENT
DTSTART;TZID=America/Chicago:20260207T170000
DTEND;TZID=America/Chicago:20260207T200000
DTSTAMP:20260423T131842
CREATED:20250113T183307Z
LAST-MODIFIED:20260116T150320Z
UID:12464-1770483600-1770494400@peninsulastatepark.org
SUMMARY:Annual Candlelight Hike
DESCRIPTION:Winter is a magical time in Peninsula State Park. Enjoy the serenity of hiking the Park in winter on the evening of Saturday\, February 7th. That’s the same night as the Fish Creek Winterfest! \nThe annual Candlelight Hike will start at 5:00pm\, beginning from the parking lot just past the Fish Creek main park entrance.  \n \nWe will also need volunteers to help with candle-lighting\, refreshments\, parking\, candle re-lighting and supplying food for guests and volunteers. \nIf you are interested in helping out\, please contact:​\nSally Pfeifer\n920-421-0808
URL:https://peninsulastatepark.org/event/annual-candlelight-hike/
LOCATION:Fish Creek Parking Lot /Picnic Area\, 9462 Shore Rd\, Fish Creek\, WI\, 54212\, United States
ATTACH;FMTTYPE=image/png:https://peninsulastatepark.org/wp-content/uploads/2017/01/CandlelightSkiPressPhoto.png
END:VEVENT
END:VCALENDAR