BEGIN:VCALENDAR
VERSION:2.0
PRODID:-//Friends of Peninsula State Park - ECPv6.15.20//NONSGML v1.0//EN
CALSCALE:GREGORIAN
METHOD:PUBLISH
X-ORIGINAL-URL:https://peninsulastatepark.org
X-WR-CALDESC:Events for Friends of Peninsula State Park
REFRESH-INTERVAL;VALUE=DURATION:PT1H
X-Robots-Tag:noindex
X-PUBLISHED-TTL:PT1H
BEGIN:VTIMEZONE
TZID:America/Chicago
BEGIN:DAYLIGHT
TZOFFSETFROM:-0600
TZOFFSETTO:-0500
TZNAME:CDT
DTSTART:20230312T080000
END:DAYLIGHT
BEGIN:STANDARD
TZOFFSETFROM:-0500
TZOFFSETTO:-0600
TZNAME:CST
DTSTART:20231105T070000
END:STANDARD
BEGIN:DAYLIGHT
TZOFFSETFROM:-0600
TZOFFSETTO:-0500
TZNAME:CDT
DTSTART:20240310T080000
END:DAYLIGHT
BEGIN:STANDARD
TZOFFSETFROM:-0500
TZOFFSETTO:-0600
TZNAME:CST
DTSTART:20241103T070000
END:STANDARD
BEGIN:DAYLIGHT
TZOFFSETFROM:-0600
TZOFFSETTO:-0500
TZNAME:CDT
DTSTART:20250309T080000
END:DAYLIGHT
BEGIN:STANDARD
TZOFFSETFROM:-0500
TZOFFSETTO:-0600
TZNAME:CST
DTSTART:20251102T070000
END:STANDARD
END:VTIMEZONE
BEGIN:VEVENT
DTSTART;TZID=America/Chicago:20240903T080000
DTEND;TZID=America/Chicago:20240903T090000
DTSTAMP:20260425T100145
CREATED:20240531T151000Z
LAST-MODIFIED:20240531T151039Z
UID:11938-1725350400-1725354000@peninsulastatepark.org
SUMMARY:Yoga in the Park!
DESCRIPTION:Janet from Kind Soul Yoga will be offering park yoga practices again this summer! Per Janet\, “Similar structure to last year. Easy peasy is the theme\, this should not be stressful. Easy flowing yoga practice. This is a practice for all – it’s not a place for specific mudras and pranayama and things that many haven’t heard of – it’s a yoga practice for all – regardless of lineage\, physical conditioning – it’s meant to gather\, breathe and move alongside other sweet people – in a beautiful setting.” \nPark practices are taking place Tuesdays and Saturdays (June 11th – September 28th) at 8am! Meet at the Nicolet Bay Beach area\, near the water\, just north of the Camp Store. The cost for this class is $10. A few mats are available\, first come\, first served (the grassy area and a towel work just fine as well). No need to register. \n*The first Saturday of every month\, Kind Soul will donate 50% of the funds to the Friends of Peninsula State Park!!!
URL:https://peninsulastatepark.org/event/11913/2024-09-03/
LOCATION:WI
ATTACH;FMTTYPE=image/png:https://peninsulastatepark.org/wp-content/uploads/2023/05/Kind-Soul-Yoga2.png
END:VEVENT
BEGIN:VEVENT
DTSTART;TZID=America/Chicago:20240904T110000
DTEND;TZID=America/Chicago:20240904T120000
DTSTAMP:20260425T100145
CREATED:20240531T153600Z
LAST-MODIFIED:20240531T155648Z
UID:12010-1725447600-1725451200@peninsulastatepark.org
SUMMARY:Storytime: Mighty Wings w/the Author 🦋
DESCRIPTION:Join children’s book author Debbie Clement to sing and dance while learning about Monarch butterflies. \nMeet at 11 a.m. at the Nature Center for this FREE program.
URL:https://peninsulastatepark.org/event/storytime-mighty-wings-w-the-author-%f0%9f%a6%8b/2024-09-04/
LOCATION:Peninsula State Park – White Cedar Nature Center
ATTACH;FMTTYPE=image/jpeg:https://peninsulastatepark.org/wp-content/uploads/2023/03/monarch.10.meiers-scaled.jpg
END:VEVENT
BEGIN:VEVENT
DTSTART;TZID=America/Chicago:20240905T130000
DTEND;TZID=America/Chicago:20240905T140000
DTSTAMP:20260425T100145
CREATED:20240531T153213Z
LAST-MODIFIED:20240531T153214Z
UID:11994-1725541200-1725544800@peninsulastatepark.org
SUMMARY:Open Door Bird Sanctuary: Live Animal Encounters!
DESCRIPTION:Join Open Door Bird Sanctuary at the White Cedar Nature Center. These are free\, live animal encounters funded by the Friends of Peninsula State Park. \nFor more information on Open Door Bird Sanctuary\, click HERE!
URL:https://peninsulastatepark.org/event/open-door-bird-sanctuary-live-animal-encounters-8/
LOCATION:Peninsula State Park – White Cedar Nature Center
ATTACH;FMTTYPE=image/webp:https://peninsulastatepark.org/wp-content/uploads/2024/05/Open-Door-Bird-Sanctuary-LOGO-for-web.webp
END:VEVENT
BEGIN:VEVENT
DTSTART;TZID=America/Chicago:20240907T080000
DTEND;TZID=America/Chicago:20240907T090000
DTSTAMP:20260425T100145
CREATED:20240531T151000Z
LAST-MODIFIED:20240531T151040Z
UID:11939-1725696000-1725699600@peninsulastatepark.org
SUMMARY:Yoga in the Park!
DESCRIPTION:Janet from Kind Soul Yoga will be offering park yoga practices again this summer! Per Janet\, “Similar structure to last year. Easy peasy is the theme\, this should not be stressful. Easy flowing yoga practice. This is a practice for all – it’s not a place for specific mudras and pranayama and things that many haven’t heard of – it’s a yoga practice for all – regardless of lineage\, physical conditioning – it’s meant to gather\, breathe and move alongside other sweet people – in a beautiful setting.” \nPark practices are taking place Tuesdays and Saturdays (June 11th – September 28th) at 8am! Meet at the Nicolet Bay Beach area\, near the water\, just north of the Camp Store. The cost for this class is $10. A few mats are available\, first come\, first served (the grassy area and a towel work just fine as well). No need to register. \n*The first Saturday of every month\, Kind Soul will donate 50% of the funds to the Friends of Peninsula State Park!!!
URL:https://peninsulastatepark.org/event/11913/2024-09-07/
LOCATION:WI
ATTACH;FMTTYPE=image/png:https://peninsulastatepark.org/wp-content/uploads/2023/05/Kind-Soul-Yoga2.png
END:VEVENT
BEGIN:VEVENT
DTSTART;TZID=America/Chicago:20240910T080000
DTEND;TZID=America/Chicago:20240910T090000
DTSTAMP:20260425T100145
CREATED:20240531T151000Z
LAST-MODIFIED:20240531T151040Z
UID:11940-1725955200-1725958800@peninsulastatepark.org
SUMMARY:Yoga in the Park!
DESCRIPTION:Janet from Kind Soul Yoga will be offering park yoga practices again this summer! Per Janet\, “Similar structure to last year. Easy peasy is the theme\, this should not be stressful. Easy flowing yoga practice. This is a practice for all – it’s not a place for specific mudras and pranayama and things that many haven’t heard of – it’s a yoga practice for all – regardless of lineage\, physical conditioning – it’s meant to gather\, breathe and move alongside other sweet people – in a beautiful setting.” \nPark practices are taking place Tuesdays and Saturdays (June 11th – September 28th) at 8am! Meet at the Nicolet Bay Beach area\, near the water\, just north of the Camp Store. The cost for this class is $10. A few mats are available\, first come\, first served (the grassy area and a towel work just fine as well). No need to register. \n*The first Saturday of every month\, Kind Soul will donate 50% of the funds to the Friends of Peninsula State Park!!!
URL:https://peninsulastatepark.org/event/11913/2024-09-10/
LOCATION:WI
ATTACH;FMTTYPE=image/png:https://peninsulastatepark.org/wp-content/uploads/2023/05/Kind-Soul-Yoga2.png
END:VEVENT
BEGIN:VEVENT
DTSTART;TZID=America/Chicago:20240914T080000
DTEND;TZID=America/Chicago:20240914T090000
DTSTAMP:20260425T100145
CREATED:20240531T151000Z
LAST-MODIFIED:20240531T151040Z
UID:11941-1726300800-1726304400@peninsulastatepark.org
SUMMARY:Yoga in the Park!
DESCRIPTION:Janet from Kind Soul Yoga will be offering park yoga practices again this summer! Per Janet\, “Similar structure to last year. Easy peasy is the theme\, this should not be stressful. Easy flowing yoga practice. This is a practice for all – it’s not a place for specific mudras and pranayama and things that many haven’t heard of – it’s a yoga practice for all – regardless of lineage\, physical conditioning – it’s meant to gather\, breathe and move alongside other sweet people – in a beautiful setting.” \nPark practices are taking place Tuesdays and Saturdays (June 11th – September 28th) at 8am! Meet at the Nicolet Bay Beach area\, near the water\, just north of the Camp Store. The cost for this class is $10. A few mats are available\, first come\, first served (the grassy area and a towel work just fine as well). No need to register. \n*The first Saturday of every month\, Kind Soul will donate 50% of the funds to the Friends of Peninsula State Park!!!
URL:https://peninsulastatepark.org/event/11913/2024-09-14/
LOCATION:WI
ATTACH;FMTTYPE=image/png:https://peninsulastatepark.org/wp-content/uploads/2023/05/Kind-Soul-Yoga2.png
END:VEVENT
BEGIN:VEVENT
DTSTART;TZID=America/Chicago:20240917T080000
DTEND;TZID=America/Chicago:20240917T090000
DTSTAMP:20260425T100145
CREATED:20240531T151000Z
LAST-MODIFIED:20240531T151040Z
UID:11942-1726560000-1726563600@peninsulastatepark.org
SUMMARY:Yoga in the Park!
DESCRIPTION:Janet from Kind Soul Yoga will be offering park yoga practices again this summer! Per Janet\, “Similar structure to last year. Easy peasy is the theme\, this should not be stressful. Easy flowing yoga practice. This is a practice for all – it’s not a place for specific mudras and pranayama and things that many haven’t heard of – it’s a yoga practice for all – regardless of lineage\, physical conditioning – it’s meant to gather\, breathe and move alongside other sweet people – in a beautiful setting.” \nPark practices are taking place Tuesdays and Saturdays (June 11th – September 28th) at 8am! Meet at the Nicolet Bay Beach area\, near the water\, just north of the Camp Store. The cost for this class is $10. A few mats are available\, first come\, first served (the grassy area and a towel work just fine as well). No need to register. \n*The first Saturday of every month\, Kind Soul will donate 50% of the funds to the Friends of Peninsula State Park!!!
URL:https://peninsulastatepark.org/event/11913/2024-09-17/
LOCATION:WI
ATTACH;FMTTYPE=image/png:https://peninsulastatepark.org/wp-content/uploads/2023/05/Kind-Soul-Yoga2.png
END:VEVENT
BEGIN:VEVENT
DTSTART;TZID=America/Chicago:20240921T080000
DTEND;TZID=America/Chicago:20240921T090000
DTSTAMP:20260425T100145
CREATED:20240531T151000Z
LAST-MODIFIED:20240531T151040Z
UID:11943-1726905600-1726909200@peninsulastatepark.org
SUMMARY:Yoga in the Park!
DESCRIPTION:Janet from Kind Soul Yoga will be offering park yoga practices again this summer! Per Janet\, “Similar structure to last year. Easy peasy is the theme\, this should not be stressful. Easy flowing yoga practice. This is a practice for all – it’s not a place for specific mudras and pranayama and things that many haven’t heard of – it’s a yoga practice for all – regardless of lineage\, physical conditioning – it’s meant to gather\, breathe and move alongside other sweet people – in a beautiful setting.” \nPark practices are taking place Tuesdays and Saturdays (June 11th – September 28th) at 8am! Meet at the Nicolet Bay Beach area\, near the water\, just north of the Camp Store. The cost for this class is $10. A few mats are available\, first come\, first served (the grassy area and a towel work just fine as well). No need to register. \n*The first Saturday of every month\, Kind Soul will donate 50% of the funds to the Friends of Peninsula State Park!!!
URL:https://peninsulastatepark.org/event/11913/2024-09-21/
LOCATION:WI
ATTACH;FMTTYPE=image/png:https://peninsulastatepark.org/wp-content/uploads/2023/05/Kind-Soul-Yoga2.png
END:VEVENT
BEGIN:VEVENT
DTSTART;TZID=America/Chicago:20240924T080000
DTEND;TZID=America/Chicago:20240924T090000
DTSTAMP:20260425T100145
CREATED:20240531T151000Z
LAST-MODIFIED:20240531T151040Z
UID:11944-1727164800-1727168400@peninsulastatepark.org
SUMMARY:Yoga in the Park!
DESCRIPTION:Janet from Kind Soul Yoga will be offering park yoga practices again this summer! Per Janet\, “Similar structure to last year. Easy peasy is the theme\, this should not be stressful. Easy flowing yoga practice. This is a practice for all – it’s not a place for specific mudras and pranayama and things that many haven’t heard of – it’s a yoga practice for all – regardless of lineage\, physical conditioning – it’s meant to gather\, breathe and move alongside other sweet people – in a beautiful setting.” \nPark practices are taking place Tuesdays and Saturdays (June 11th – September 28th) at 8am! Meet at the Nicolet Bay Beach area\, near the water\, just north of the Camp Store. The cost for this class is $10. A few mats are available\, first come\, first served (the grassy area and a towel work just fine as well). No need to register. \n*The first Saturday of every month\, Kind Soul will donate 50% of the funds to the Friends of Peninsula State Park!!!
URL:https://peninsulastatepark.org/event/11913/2024-09-24/
LOCATION:WI
ATTACH;FMTTYPE=image/png:https://peninsulastatepark.org/wp-content/uploads/2023/05/Kind-Soul-Yoga2.png
END:VEVENT
BEGIN:VEVENT
DTSTART;TZID=America/Chicago:20240928T080000
DTEND;TZID=America/Chicago:20240928T090000
DTSTAMP:20260425T100145
CREATED:20240531T151000Z
LAST-MODIFIED:20240531T151041Z
UID:11945-1727510400-1727514000@peninsulastatepark.org
SUMMARY:Yoga in the Park!
DESCRIPTION:Janet from Kind Soul Yoga will be offering park yoga practices again this summer! Per Janet\, “Similar structure to last year. Easy peasy is the theme\, this should not be stressful. Easy flowing yoga practice. This is a practice for all – it’s not a place for specific mudras and pranayama and things that many haven’t heard of – it’s a yoga practice for all – regardless of lineage\, physical conditioning – it’s meant to gather\, breathe and move alongside other sweet people – in a beautiful setting.” \nPark practices are taking place Tuesdays and Saturdays (June 11th – September 28th) at 8am! Meet at the Nicolet Bay Beach area\, near the water\, just north of the Camp Store. The cost for this class is $10. A few mats are available\, first come\, first served (the grassy area and a towel work just fine as well). No need to register. \n*The first Saturday of every month\, Kind Soul will donate 50% of the funds to the Friends of Peninsula State Park!!!
URL:https://peninsulastatepark.org/event/11913/2024-09-28/
LOCATION:WI
ATTACH;FMTTYPE=image/png:https://peninsulastatepark.org/wp-content/uploads/2023/05/Kind-Soul-Yoga2.png
END:VEVENT
BEGIN:VEVENT
DTSTART;TZID=America/Chicago:20240928T080000
DTEND;TZID=America/Chicago:20240928T163000
DTSTAMP:20260425T100145
CREATED:20240718T150532Z
LAST-MODIFIED:20240718T150532Z
UID:12140-1727510400-1727541000@peninsulastatepark.org
SUMMARY:CHAINSAW TRAINING AT PENINSULA STATE PARK FOR  VOLUNTEERS
DESCRIPTION:
URL:https://peninsulastatepark.org/event/chainsaw-training-at-peninsula-state-park-for-volunteers-2/
LOCATION:WI
END:VEVENT
END:VCALENDAR