BEGIN:VCALENDAR
VERSION:2.0
PRODID:-//Friends of Peninsula State Park - ECPv6.15.20//NONSGML v1.0//EN
CALSCALE:GREGORIAN
METHOD:PUBLISH
X-WR-CALNAME:Friends of Peninsula State Park
X-ORIGINAL-URL:https://peninsulastatepark.org
X-WR-CALDESC:Events for Friends of Peninsula State Park
REFRESH-INTERVAL;VALUE=DURATION:PT1H
X-Robots-Tag:noindex
X-PUBLISHED-TTL:PT1H
BEGIN:VTIMEZONE
TZID:America/Chicago
BEGIN:DAYLIGHT
TZOFFSETFROM:-0600
TZOFFSETTO:-0500
TZNAME:CDT
DTSTART:20230312T080000
END:DAYLIGHT
BEGIN:STANDARD
TZOFFSETFROM:-0500
TZOFFSETTO:-0600
TZNAME:CST
DTSTART:20231105T070000
END:STANDARD
BEGIN:DAYLIGHT
TZOFFSETFROM:-0600
TZOFFSETTO:-0500
TZNAME:CDT
DTSTART:20240310T080000
END:DAYLIGHT
BEGIN:STANDARD
TZOFFSETFROM:-0500
TZOFFSETTO:-0600
TZNAME:CST
DTSTART:20241103T070000
END:STANDARD
BEGIN:DAYLIGHT
TZOFFSETFROM:-0600
TZOFFSETTO:-0500
TZNAME:CDT
DTSTART:20250309T080000
END:DAYLIGHT
BEGIN:STANDARD
TZOFFSETFROM:-0500
TZOFFSETTO:-0600
TZNAME:CST
DTSTART:20251102T070000
END:STANDARD
END:VTIMEZONE
BEGIN:VEVENT
DTSTART;TZID=America/Chicago:20240203T170000
DTEND;TZID=America/Chicago:20240203T200000
DTSTAMP:20260425T202410
CREATED:20240108T194204Z
LAST-MODIFIED:20240130T190935Z
UID:11699-1706979600-1706990400@peninsulastatepark.org
SUMMARY:*Event Update* Candlelight Hike Moved to Main Fish Creek Entrance Area
DESCRIPTION:Please see the above graphic for changes to the candlelight hike/ski on Saturday\, February 3rd. Due to conditions in Lot 5 and the ski trails\, the ski portion of the event will be cancelled. However\, we will still have the hike portion at a different location! \nWe will have the hike commencing from Lot 1 so folks can walk-in from Hwy 42 or park in Lot 1. There is no need to preregister\, please feel free to come anytime between 5-8pm. \nEvent Contact: \nSally Pfeifer: salpfeifer@hotmail.com or \n920-421-0808 \n 
URL:https://peninsulastatepark.org/event/candlelight-at-the-park/
LOCATION:Fish Creek Parking Lot /Picnic Area\, 9462 Shore Rd\, Fish Creek\, WI\, 54212\, United States
END:VEVENT
END:VCALENDAR