BEGIN:VCALENDAR
VERSION:2.0
PRODID:-//Friends of Peninsula State Park - ECPv6.15.20//NONSGML v1.0//EN
CALSCALE:GREGORIAN
METHOD:PUBLISH
X-WR-CALNAME:Friends of Peninsula State Park
X-ORIGINAL-URL:https://peninsulastatepark.org
X-WR-CALDESC:Events for Friends of Peninsula State Park
REFRESH-INTERVAL;VALUE=DURATION:PT1H
X-Robots-Tag:noindex
X-PUBLISHED-TTL:PT1H
BEGIN:VTIMEZONE
TZID:America/Chicago
BEGIN:DAYLIGHT
TZOFFSETFROM:-0600
TZOFFSETTO:-0500
TZNAME:CDT
DTSTART:20240310T080000
END:DAYLIGHT
BEGIN:STANDARD
TZOFFSETFROM:-0500
TZOFFSETTO:-0600
TZNAME:CST
DTSTART:20241103T070000
END:STANDARD
BEGIN:DAYLIGHT
TZOFFSETFROM:-0600
TZOFFSETTO:-0500
TZNAME:CDT
DTSTART:20250309T080000
END:DAYLIGHT
BEGIN:STANDARD
TZOFFSETFROM:-0500
TZOFFSETTO:-0600
TZNAME:CST
DTSTART:20251102T070000
END:STANDARD
BEGIN:DAYLIGHT
TZOFFSETFROM:-0600
TZOFFSETTO:-0500
TZNAME:CDT
DTSTART:20260308T080000
END:DAYLIGHT
BEGIN:STANDARD
TZOFFSETFROM:-0500
TZOFFSETTO:-0600
TZNAME:CST
DTSTART:20261101T070000
END:STANDARD
END:VTIMEZONE
BEGIN:VEVENT
DTSTART;TZID=America/Chicago:20250904T130000
DTEND;TZID=America/Chicago:20250904T140000
DTSTAMP:20260423T180856
CREATED:20250606T152249Z
LAST-MODIFIED:20250606T152249Z
UID:12705-1756990800-1756994400@peninsulastatepark.org
SUMMARY:Raptor Talks: City Slickers
DESCRIPTION:Join Open Door Bird Sanctuary for:  Urban Raptors?  Learn about the raptors that you don’t normally think of as living in the city.  (Live animal encounter)
URL:https://peninsulastatepark.org/event/raptor-talks-city-slickers/
LOCATION:Peninsula State Park – White Cedar Nature Center
ATTACH;FMTTYPE=image/webp:https://peninsulastatepark.org/wp-content/uploads/2024/05/Open-Door-Bird-Sanctuary-LOGO-for-web.webp
END:VEVENT
BEGIN:VEVENT
DTSTART;TZID=America/Chicago:20250902T080000
DTEND;TZID=America/Chicago:20250902T090000
DTSTAMP:20260423T180856
CREATED:20250509T144804Z
LAST-MODIFIED:20250509T144815Z
UID:12601-1756800000-1756803600@peninsulastatepark.org
SUMMARY:Yoga in the Park
DESCRIPTION:Janet from Kind Soul Yoga will be offering park yoga practices again this summer! Per Janet\, “I’m looking forward to another beautiful summer in the park with thee most incredible yogis from around the world!!!! (last year we had 3 from Germany and England!!!)” \nPark practices are taking place Tuesdays and Saturdays (June 14th – September 30th) at 8am! Meet at the Nicolet Bay Beach area\, near the water\, just north of the Camp Store. The cost for this class is $10/cash & $12/credit. Mats can be rented for $3 or purchased new for $50. NO PRIOR REGISTRATION needed – just sign in when you arrive!  \n*The first Saturday of every month\, Kind Soul will donate 50% of the funds to the Friends of Peninsula State Park!!!
URL:https://peninsulastatepark.org/event/yoga-in-the-park/2025-09-02/
LOCATION:Peninsula State Park – Nicolet Beach\, 45.16459063279326\,-87.22407221948242
ATTACH;FMTTYPE=image/png:https://peninsulastatepark.org/wp-content/uploads/2023/05/Kind-Soul-Yoga2.png
END:VEVENT
BEGIN:VEVENT
DTSTART;TZID=America/Chicago:20250830T080000
DTEND;TZID=America/Chicago:20250830T090000
DTSTAMP:20260423T180856
CREATED:20250509T144804Z
LAST-MODIFIED:20250509T144814Z
UID:12600-1756540800-1756544400@peninsulastatepark.org
SUMMARY:Yoga in the Park
DESCRIPTION:Janet from Kind Soul Yoga will be offering park yoga practices again this summer! Per Janet\, “I’m looking forward to another beautiful summer in the park with thee most incredible yogis from around the world!!!! (last year we had 3 from Germany and England!!!)” \nPark practices are taking place Tuesdays and Saturdays (June 14th – September 30th) at 8am! Meet at the Nicolet Bay Beach area\, near the water\, just north of the Camp Store. The cost for this class is $10/cash & $12/credit. Mats can be rented for $3 or purchased new for $50. NO PRIOR REGISTRATION needed – just sign in when you arrive!  \n*The first Saturday of every month\, Kind Soul will donate 50% of the funds to the Friends of Peninsula State Park!!!
URL:https://peninsulastatepark.org/event/yoga-in-the-park/2025-08-30/
LOCATION:Peninsula State Park – Nicolet Beach\, 45.16459063279326\,-87.22407221948242
ATTACH;FMTTYPE=image/png:https://peninsulastatepark.org/wp-content/uploads/2023/05/Kind-Soul-Yoga2.png
END:VEVENT
BEGIN:VEVENT
DTSTART;TZID=America/Chicago:20250829T110000
DTEND;TZID=America/Chicago:20250829T120000
DTSTAMP:20260423T180856
CREATED:20250606T152457Z
LAST-MODIFIED:20250606T152458Z
UID:12711-1756465200-1756468800@peninsulastatepark.org
SUMMARY:Wild Friends
DESCRIPTION:Join Bay Beach Wildlife Sanctuary naturalists to learn about and meet some of their wild friends with a live animal encounter.  Bay Beach Wildlife Sanctuary is a 535-acre urban wildlife refuge located in nearby Green Bay that houses a rehabilitation program for sick and injured animals.  Those on display in their exhibits and visiting our park are non-releasable due to injuries they sustained in the wild.
URL:https://peninsulastatepark.org/event/wild-friends/2025-08-29/
LOCATION:Peninsula State Park – White Cedar Nature Center
ATTACH;FMTTYPE=image/jpeg:https://peninsulastatepark.org/wp-content/uploads/2024/05/Bay-Beach-Wildlife-Sanctuary.jpg
END:VEVENT
BEGIN:VEVENT
DTSTART;TZID=America/Chicago:20250829T073000
DTEND;TZID=America/Chicago:20250829T083000
DTSTAMP:20260423T180856
CREATED:20250606T150744Z
LAST-MODIFIED:20250606T150744Z
UID:12675-1756452600-1756456200@peninsulastatepark.org
SUMMARY:Run with a Ranger
DESCRIPTION:Weekly Run with a Ranger on various trails throughout the park. Come out\, meet new people\, and learn more about what makes Peninsula State Park a special place! Most routes are about 5k (3mi) in distance with cutoffs for shorter routes. \nMeet at the Skyline parking lot!
URL:https://peninsulastatepark.org/event/run-with-a-ranger-3/2025-08-29/
LOCATION:Peninsula State Park\, 9462 Shore Road\, Fish Creek\, WI\, 54212\, United States
END:VEVENT
BEGIN:VEVENT
DTSTART;TZID=America/Chicago:20250826T160000
DTEND;TZID=America/Chicago:20250826T170000
DTSTAMP:20260423T180856
CREATED:20250606T145410Z
LAST-MODIFIED:20250810T182036Z
UID:12657-1756224000-1756227600@peninsulastatepark.org
SUMMARY:Historical Traces Trek
DESCRIPTION:Join Dave Lea\, who has been exploring the park since the 1970’s\, on an exciting\, off-trail adventure finding the park’s historic sites. Wear sturdy boots and long pants to discover traces of the past.
URL:https://peninsulastatepark.org/event/historical-traces-trek-2025-08-19/
LOCATION:Peninsula State Park – White Cedar Nature Center
END:VEVENT
BEGIN:VEVENT
DTSTART;TZID=America/Chicago:20250826T080000
DTEND;TZID=America/Chicago:20250826T090000
DTSTAMP:20260423T180856
CREATED:20250509T144804Z
LAST-MODIFIED:20250509T144814Z
UID:12599-1756195200-1756198800@peninsulastatepark.org
SUMMARY:Yoga in the Park
DESCRIPTION:Janet from Kind Soul Yoga will be offering park yoga practices again this summer! Per Janet\, “I’m looking forward to another beautiful summer in the park with thee most incredible yogis from around the world!!!! (last year we had 3 from Germany and England!!!)” \nPark practices are taking place Tuesdays and Saturdays (June 14th – September 30th) at 8am! Meet at the Nicolet Bay Beach area\, near the water\, just north of the Camp Store. The cost for this class is $10/cash & $12/credit. Mats can be rented for $3 or purchased new for $50. NO PRIOR REGISTRATION needed – just sign in when you arrive!  \n*The first Saturday of every month\, Kind Soul will donate 50% of the funds to the Friends of Peninsula State Park!!!
URL:https://peninsulastatepark.org/event/yoga-in-the-park/2025-08-26/
LOCATION:Peninsula State Park – Nicolet Beach\, 45.16459063279326\,-87.22407221948242
ATTACH;FMTTYPE=image/png:https://peninsulastatepark.org/wp-content/uploads/2023/05/Kind-Soul-Yoga2.png
END:VEVENT
BEGIN:VEVENT
DTSTART;TZID=America/Chicago:20250823T080000
DTEND;TZID=America/Chicago:20250823T090000
DTSTAMP:20260423T180856
CREATED:20250509T144804Z
LAST-MODIFIED:20250509T144813Z
UID:12598-1755936000-1755939600@peninsulastatepark.org
SUMMARY:Yoga in the Park
DESCRIPTION:Janet from Kind Soul Yoga will be offering park yoga practices again this summer! Per Janet\, “I’m looking forward to another beautiful summer in the park with thee most incredible yogis from around the world!!!! (last year we had 3 from Germany and England!!!)” \nPark practices are taking place Tuesdays and Saturdays (June 14th – September 30th) at 8am! Meet at the Nicolet Bay Beach area\, near the water\, just north of the Camp Store. The cost for this class is $10/cash & $12/credit. Mats can be rented for $3 or purchased new for $50. NO PRIOR REGISTRATION needed – just sign in when you arrive!  \n*The first Saturday of every month\, Kind Soul will donate 50% of the funds to the Friends of Peninsula State Park!!!
URL:https://peninsulastatepark.org/event/yoga-in-the-park/2025-08-23/
LOCATION:Peninsula State Park – Nicolet Beach\, 45.16459063279326\,-87.22407221948242
ATTACH;FMTTYPE=image/png:https://peninsulastatepark.org/wp-content/uploads/2023/05/Kind-Soul-Yoga2.png
END:VEVENT
BEGIN:VEVENT
DTSTART;TZID=America/Chicago:20250822T073000
DTEND;TZID=America/Chicago:20250822T083000
DTSTAMP:20260423T180856
CREATED:20250606T150610Z
LAST-MODIFIED:20250606T150611Z
UID:12672-1755847800-1755851400@peninsulastatepark.org
SUMMARY:Run with a Ranger
DESCRIPTION:Weekly Run with a Ranger on various trails throughout the park. Come out\, meet new people\, and learn more about what makes Peninsula State Park a special place! Most routes are about 5k (3mi) in distance with cutoffs for shorter routes.
URL:https://peninsulastatepark.org/event/run-with-a-ranger-2/2025-08-22/
LOCATION:Peninsula State Park – Nicolet Beach\, 45.16459063279326\,-87.22407221948242
END:VEVENT
BEGIN:VEVENT
DTSTART;TZID=America/Chicago:20250821T190000
DTEND;TZID=America/Chicago:20250821T200000
DTSTAMP:20260423T180856
CREATED:20250606T151340Z
LAST-MODIFIED:20250606T151340Z
UID:12689-1755802800-1755806400@peninsulastatepark.org
SUMMARY:Campfire with the Warden
DESCRIPTION:Welcker Campground – Camp Host Site 525 \nJoin our State Park Wardens at the camp host site and learn more about campfire building and how you can be safe in and around the park.
URL:https://peninsulastatepark.org/event/campfire-with-the-warden-3/2025-08-21/
ATTACH;FMTTYPE=image/jpeg:https://peninsulastatepark.org/wp-content/uploads/2018/04/fire.jpg
END:VEVENT
BEGIN:VEVENT
DTSTART;TZID=America/Chicago:20250821T130000
DTEND;TZID=America/Chicago:20250821T140000
DTSTAMP:20260423T180856
CREATED:20250606T152159Z
LAST-MODIFIED:20250606T152159Z
UID:12703-1755781200-1755784800@peninsulastatepark.org
SUMMARY:Raptor Talks: Avian Acoustics
DESCRIPTION:Join Open Door Bird Sanctuary for:  How do birds talk?  Learn how raptors make their vocalizations.  It’s different than ours!  (Live animal encounter)
URL:https://peninsulastatepark.org/event/raptor-talks-avian-acoustics/
LOCATION:Peninsula State Park – White Cedar Nature Center
ATTACH;FMTTYPE=image/webp:https://peninsulastatepark.org/wp-content/uploads/2024/05/Open-Door-Bird-Sanctuary-LOGO-for-web.webp
END:VEVENT
BEGIN:VEVENT
DTSTART;TZID=America/Chicago:20250819T150000
DTEND;TZID=America/Chicago:20250819T160000
DTSTAMP:20260423T180856
CREATED:20250808T171524Z
LAST-MODIFIED:20250808T171524Z
UID:12842-1755615600-1755619200@peninsulastatepark.org
SUMMARY:Peninsula State Park Artist In Residence: “Homecoming - A pep rally for the planet”
DESCRIPTION:Our second annual Peninsula State Park Artist In Residence program kicks off on August 16th in various Park locations.  This artistic series is hosted through the cooperative effort of Peninsula School of Art\, Friends of Peninsula State Park and the WI-DNR.  Join Amanda Lovelee\, our Resident Artist\, for summer fun and creativity as she shows you how “art meets science”.  \nOn Tuesday\, August 19th Amanda will be at the Nicolet Beach Lot from 3:00pm to 4:00pm to showcase her big “Homecoming – A pep rally for the planet” event. \nLearn more about Amanda HERE!
URL:https://peninsulastatepark.org/event/peninsula-state-park-artist-in-residence-homecoming-a-pep-rally-for-the-planet/
LOCATION:Peninsula State Park – Nicolet Beach\, 45.16459063279326\,-87.22407221948242
END:VEVENT
BEGIN:VEVENT
DTSTART;TZID=America/Chicago:20250819T080000
DTEND;TZID=America/Chicago:20250819T090000
DTSTAMP:20260423T180856
CREATED:20250509T144804Z
LAST-MODIFIED:20250509T144812Z
UID:12597-1755590400-1755594000@peninsulastatepark.org
SUMMARY:Yoga in the Park
DESCRIPTION:Janet from Kind Soul Yoga will be offering park yoga practices again this summer! Per Janet\, “I’m looking forward to another beautiful summer in the park with thee most incredible yogis from around the world!!!! (last year we had 3 from Germany and England!!!)” \nPark practices are taking place Tuesdays and Saturdays (June 14th – September 30th) at 8am! Meet at the Nicolet Bay Beach area\, near the water\, just north of the Camp Store. The cost for this class is $10/cash & $12/credit. Mats can be rented for $3 or purchased new for $50. NO PRIOR REGISTRATION needed – just sign in when you arrive!  \n*The first Saturday of every month\, Kind Soul will donate 50% of the funds to the Friends of Peninsula State Park!!!
URL:https://peninsulastatepark.org/event/yoga-in-the-park/2025-08-19/
LOCATION:Peninsula State Park – Nicolet Beach\, 45.16459063279326\,-87.22407221948242
ATTACH;FMTTYPE=image/png:https://peninsulastatepark.org/wp-content/uploads/2023/05/Kind-Soul-Yoga2.png
END:VEVENT
BEGIN:VEVENT
DTSTART;TZID=America/Chicago:20250816T100000
DTEND;TZID=America/Chicago:20250816T120000
DTSTAMP:20260423T180856
CREATED:20250808T171040Z
LAST-MODIFIED:20250808T171248Z
UID:12837-1755338400-1755345600@peninsulastatepark.org
SUMMARY:Peninsula State Park Artist In Residence: Cyanotype Prints
DESCRIPTION:Our second annual Peninsula State Park Artist In Residence program kicks off on August 16th in various Park locations.  This artistic series is hosted through the cooperative effort of Peninsula School of Art\, Friends of Peninsula State Park and the WI-DNR.  Join Amanda Lovelee\, our Resident Artist\, for summer fun and creativity as she shows you how “art meets science”.  \nOn Saturday August 16th Amanda will create cyanotype prints to show us how plants in the Park are magical.  The session runs from 10:00am until Noon at the Nature Center.  \nLearn more about Amanda HERE!
URL:https://peninsulastatepark.org/event/peninsula-state-park-artist-in-residence-cyanotype-prints/
LOCATION:Peninsula State Park – White Cedar Nature Center
END:VEVENT
BEGIN:VEVENT
DTSTART;TZID=America/Chicago:20250816T080000
DTEND;TZID=America/Chicago:20250816T090000
DTSTAMP:20260423T180856
CREATED:20250509T144804Z
LAST-MODIFIED:20250509T144812Z
UID:12596-1755331200-1755334800@peninsulastatepark.org
SUMMARY:Yoga in the Park
DESCRIPTION:Janet from Kind Soul Yoga will be offering park yoga practices again this summer! Per Janet\, “I’m looking forward to another beautiful summer in the park with thee most incredible yogis from around the world!!!! (last year we had 3 from Germany and England!!!)” \nPark practices are taking place Tuesdays and Saturdays (June 14th – September 30th) at 8am! Meet at the Nicolet Bay Beach area\, near the water\, just north of the Camp Store. The cost for this class is $10/cash & $12/credit. Mats can be rented for $3 or purchased new for $50. NO PRIOR REGISTRATION needed – just sign in when you arrive!  \n*The first Saturday of every month\, Kind Soul will donate 50% of the funds to the Friends of Peninsula State Park!!!
URL:https://peninsulastatepark.org/event/yoga-in-the-park/2025-08-16/
LOCATION:Peninsula State Park – Nicolet Beach\, 45.16459063279326\,-87.22407221948242
ATTACH;FMTTYPE=image/png:https://peninsulastatepark.org/wp-content/uploads/2023/05/Kind-Soul-Yoga2.png
END:VEVENT
BEGIN:VEVENT
DTSTART;TZID=America/Chicago:20250815T110000
DTEND;TZID=America/Chicago:20250815T120000
DTSTAMP:20260423T180856
CREATED:20250606T152457Z
LAST-MODIFIED:20250606T152457Z
UID:12710-1755255600-1755259200@peninsulastatepark.org
SUMMARY:Wild Friends
DESCRIPTION:Join Bay Beach Wildlife Sanctuary naturalists to learn about and meet some of their wild friends with a live animal encounter.  Bay Beach Wildlife Sanctuary is a 535-acre urban wildlife refuge located in nearby Green Bay that houses a rehabilitation program for sick and injured animals.  Those on display in their exhibits and visiting our park are non-releasable due to injuries they sustained in the wild.
URL:https://peninsulastatepark.org/event/wild-friends/2025-08-15/
LOCATION:Peninsula State Park – White Cedar Nature Center
ATTACH;FMTTYPE=image/jpeg:https://peninsulastatepark.org/wp-content/uploads/2024/05/Bay-Beach-Wildlife-Sanctuary.jpg
END:VEVENT
BEGIN:VEVENT
DTSTART;TZID=America/Chicago:20250814T163000
DTEND;TZID=America/Chicago:20250814T190000
DTSTAMP:20260423T180856
CREATED:20250806T160037Z
LAST-MODIFIED:20250806T162841Z
UID:12834-1755189000-1755198000@peninsulastatepark.org
SUMMARY:Friends of Peninsula State Park Annual Meeting and Picnic
DESCRIPTION:
URL:https://peninsulastatepark.org/event/friends-of-peninsula-state-park-annual-meeting-and-picnic/
LOCATION:Peninsula State Park – White Cedar Nature Center
ATTACH;FMTTYPE=image/jpeg:https://peninsulastatepark.org/wp-content/uploads/2025/08/Annual-Meeting-Flyer-for-Web-08062025wrs-scaled.jpg
END:VEVENT
BEGIN:VEVENT
DTSTART;TZID=America/Chicago:20250812T080000
DTEND;TZID=America/Chicago:20250812T090000
DTSTAMP:20260423T180856
CREATED:20250509T144804Z
LAST-MODIFIED:20250509T144812Z
UID:12595-1754985600-1754989200@peninsulastatepark.org
SUMMARY:Yoga in the Park
DESCRIPTION:Janet from Kind Soul Yoga will be offering park yoga practices again this summer! Per Janet\, “I’m looking forward to another beautiful summer in the park with thee most incredible yogis from around the world!!!! (last year we had 3 from Germany and England!!!)” \nPark practices are taking place Tuesdays and Saturdays (June 14th – September 30th) at 8am! Meet at the Nicolet Bay Beach area\, near the water\, just north of the Camp Store. The cost for this class is $10/cash & $12/credit. Mats can be rented for $3 or purchased new for $50. NO PRIOR REGISTRATION needed – just sign in when you arrive!  \n*The first Saturday of every month\, Kind Soul will donate 50% of the funds to the Friends of Peninsula State Park!!!
URL:https://peninsulastatepark.org/event/yoga-in-the-park/2025-08-12/
LOCATION:Peninsula State Park – Nicolet Beach\, 45.16459063279326\,-87.22407221948242
ATTACH;FMTTYPE=image/png:https://peninsulastatepark.org/wp-content/uploads/2023/05/Kind-Soul-Yoga2.png
END:VEVENT
BEGIN:VEVENT
DTSTART;TZID=America/Chicago:20250810T110000
DTEND;TZID=America/Chicago:20250810T130000
DTSTAMP:20260423T180856
CREATED:20250606T145642Z
LAST-MODIFIED:20250606T145642Z
UID:12661-1754823600-1754830800@peninsulastatepark.org
SUMMARY:Exploring Your Parks & Camping 101
DESCRIPTION:Drop on by and learn some tips on how to enjoy our parks whether you are a regular visitor or newbie.  We will help you determine the best trails\, show you different types of outdoor activities available\, camping basics and how to set up a tent\, what to pack for the day and some camping necessities\, and staying safe while having a fun adventure.
URL:https://peninsulastatepark.org/event/exploring-your-parks-camping-101/2025-08-10/
LOCATION:Peninsula State Park – Park Headquarters\, 9462 Shore Road\, Fish Creek\, WI\, 54212\, United States
ATTACH;FMTTYPE=image/jpeg:https://peninsulastatepark.org/wp-content/uploads/2020/06/20200604_father_and_son_camping.jpg
END:VEVENT
BEGIN:VEVENT
DTSTART;TZID=America/Chicago:20250809T130000
DTEND;TZID=America/Chicago:20250809T140000
DTSTAMP:20260423T180856
CREATED:20250606T152727Z
LAST-MODIFIED:20250606T152727Z
UID:12715-1754744400-1754748000@peninsulastatepark.org
SUMMARY:Reptile Hour
DESCRIPTION:Join Archie’s Angels’ volunteers to learn about and meet some of their animal ambassadors with a live animal encounter. Archie’s Angels: Reptile Education\, Rescue & Rehabilitation is an organization dedicated to providing education about proper herpetological (reptile and amphibian) care and rescuing and rehabilitating reptiles and amphibians in need.
URL:https://peninsulastatepark.org/event/reptile-hour/2025-08-09/
LOCATION:Peninsula State Park – White Cedar Nature Center
ATTACH;FMTTYPE=image/jpeg:https://peninsulastatepark.org/wp-content/uploads/2025/06/ARCHIES-ANGELS-INC_-3.jpg
END:VEVENT
BEGIN:VEVENT
DTSTART;TZID=America/Chicago:20250809T080000
DTEND;TZID=America/Chicago:20250809T090000
DTSTAMP:20260423T180856
CREATED:20250509T144804Z
LAST-MODIFIED:20250509T144812Z
UID:12594-1754726400-1754730000@peninsulastatepark.org
SUMMARY:Yoga in the Park
DESCRIPTION:Janet from Kind Soul Yoga will be offering park yoga practices again this summer! Per Janet\, “I’m looking forward to another beautiful summer in the park with thee most incredible yogis from around the world!!!! (last year we had 3 from Germany and England!!!)” \nPark practices are taking place Tuesdays and Saturdays (June 14th – September 30th) at 8am! Meet at the Nicolet Bay Beach area\, near the water\, just north of the Camp Store. The cost for this class is $10/cash & $12/credit. Mats can be rented for $3 or purchased new for $50. NO PRIOR REGISTRATION needed – just sign in when you arrive!  \n*The first Saturday of every month\, Kind Soul will donate 50% of the funds to the Friends of Peninsula State Park!!!
URL:https://peninsulastatepark.org/event/yoga-in-the-park/2025-08-09/
LOCATION:Peninsula State Park – Nicolet Beach\, 45.16459063279326\,-87.22407221948242
ATTACH;FMTTYPE=image/png:https://peninsulastatepark.org/wp-content/uploads/2023/05/Kind-Soul-Yoga2.png
END:VEVENT
BEGIN:VEVENT
DTSTART;TZID=America/Chicago:20250808T073000
DTEND;TZID=America/Chicago:20250808T083000
DTSTAMP:20260423T180856
CREATED:20250606T150843Z
LAST-MODIFIED:20250606T150843Z
UID:12678-1754638200-1754641800@peninsulastatepark.org
SUMMARY:Run with a Ranger
DESCRIPTION:Weekly Run with a Ranger on various trails throughout the park. Come out\, meet new people\, and learn more about what makes Peninsula State Park a special place! Most routes are about 5k (3mi) in distance with cutoffs for shorter routes.
URL:https://peninsulastatepark.org/event/run-with-a-ranger-4/2025-08-08/
LOCATION:Peninsula State Park – White Cedar Nature Center
END:VEVENT
BEGIN:VEVENT
DTSTART;TZID=America/Chicago:20250807T190000
DTEND;TZID=America/Chicago:20250807T200000
DTSTAMP:20260423T180856
CREATED:20250606T151115Z
LAST-MODIFIED:20250606T151115Z
UID:12683-1754593200-1754596800@peninsulastatepark.org
SUMMARY:Campfire with the Warden
DESCRIPTION:South Nicolet Campground – Camp Host Site 783 \nJoin our State Park Wardens at the camp host site and learn more about campfire building and how you can be safe in and around the park.
URL:https://peninsulastatepark.org/event/campfire-with-the-warden/2025-08-07/
ATTACH;FMTTYPE=image/jpeg:https://peninsulastatepark.org/wp-content/uploads/2018/04/fire.jpg
END:VEVENT
BEGIN:VEVENT
DTSTART;TZID=America/Chicago:20250807T130000
DTEND;TZID=America/Chicago:20250807T140000
DTSTAMP:20260423T180856
CREATED:20250606T152104Z
LAST-MODIFIED:20250606T152104Z
UID:12701-1754571600-1754575200@peninsulastatepark.org
SUMMARY:Raptor Talks: Weird by Nature
DESCRIPTION:Join Open Door Bird Sanctuary:  Meet a couple raptors that march to the beat of their own drum but are WAY different from all their cousins.  (Live animal encounter)
URL:https://peninsulastatepark.org/event/raptor-talks-weird-by-nature/
LOCATION:Peninsula State Park – White Cedar Nature Center
ATTACH;FMTTYPE=image/webp:https://peninsulastatepark.org/wp-content/uploads/2024/05/Open-Door-Bird-Sanctuary-LOGO-for-web.webp
END:VEVENT
BEGIN:VEVENT
DTSTART;TZID=America/Chicago:20250805T160000
DTEND;TZID=America/Chicago:20250805T170000
DTSTAMP:20260423T180856
CREATED:20250606T145410Z
LAST-MODIFIED:20250606T145411Z
UID:12656-1754409600-1754413200@peninsulastatepark.org
SUMMARY:Historical Traces Trek
DESCRIPTION:Join Dave Lea\, who has been exploring the park since the 1970’s\, on an exciting\, off-trail adventure finding the park’s historic sites. Wear sturdy boots and long pants to discover traces of the past.
URL:https://peninsulastatepark.org/event/historical-traces-trek/2025-08-05/
LOCATION:Peninsula State Park – White Cedar Nature Center
END:VEVENT
BEGIN:VEVENT
DTSTART;TZID=America/Chicago:20250805T080000
DTEND;TZID=America/Chicago:20250805T090000
DTSTAMP:20260423T180856
CREATED:20250509T144804Z
LAST-MODIFIED:20250509T144812Z
UID:12593-1754380800-1754384400@peninsulastatepark.org
SUMMARY:Yoga in the Park
DESCRIPTION:Janet from Kind Soul Yoga will be offering park yoga practices again this summer! Per Janet\, “I’m looking forward to another beautiful summer in the park with thee most incredible yogis from around the world!!!! (last year we had 3 from Germany and England!!!)” \nPark practices are taking place Tuesdays and Saturdays (June 14th – September 30th) at 8am! Meet at the Nicolet Bay Beach area\, near the water\, just north of the Camp Store. The cost for this class is $10/cash & $12/credit. Mats can be rented for $3 or purchased new for $50. NO PRIOR REGISTRATION needed – just sign in when you arrive!  \n*The first Saturday of every month\, Kind Soul will donate 50% of the funds to the Friends of Peninsula State Park!!!
URL:https://peninsulastatepark.org/event/yoga-in-the-park/2025-08-05/
LOCATION:Peninsula State Park – Nicolet Beach\, 45.16459063279326\,-87.22407221948242
ATTACH;FMTTYPE=image/png:https://peninsulastatepark.org/wp-content/uploads/2023/05/Kind-Soul-Yoga2.png
END:VEVENT
BEGIN:VEVENT
DTSTART;TZID=America/Chicago:20250802T080000
DTEND;TZID=America/Chicago:20250802T090000
DTSTAMP:20260423T180856
CREATED:20250509T144804Z
LAST-MODIFIED:20250509T144812Z
UID:12592-1754121600-1754125200@peninsulastatepark.org
SUMMARY:Yoga in the Park
DESCRIPTION:Janet from Kind Soul Yoga will be offering park yoga practices again this summer! Per Janet\, “I’m looking forward to another beautiful summer in the park with thee most incredible yogis from around the world!!!! (last year we had 3 from Germany and England!!!)” \nPark practices are taking place Tuesdays and Saturdays (June 14th – September 30th) at 8am! Meet at the Nicolet Bay Beach area\, near the water\, just north of the Camp Store. The cost for this class is $10/cash & $12/credit. Mats can be rented for $3 or purchased new for $50. NO PRIOR REGISTRATION needed – just sign in when you arrive!  \n*The first Saturday of every month\, Kind Soul will donate 50% of the funds to the Friends of Peninsula State Park!!!
URL:https://peninsulastatepark.org/event/yoga-in-the-park/2025-08-02/
LOCATION:Peninsula State Park – Nicolet Beach\, 45.16459063279326\,-87.22407221948242
ATTACH;FMTTYPE=image/png:https://peninsulastatepark.org/wp-content/uploads/2023/05/Kind-Soul-Yoga2.png
END:VEVENT
BEGIN:VEVENT
DTSTART;TZID=America/Chicago:20250801T110000
DTEND;TZID=America/Chicago:20250801T120000
DTSTAMP:20260423T180856
CREATED:20250606T152457Z
LAST-MODIFIED:20250606T152457Z
UID:12709-1754046000-1754049600@peninsulastatepark.org
SUMMARY:Wild Friends
DESCRIPTION:Join Bay Beach Wildlife Sanctuary naturalists to learn about and meet some of their wild friends with a live animal encounter.  Bay Beach Wildlife Sanctuary is a 535-acre urban wildlife refuge located in nearby Green Bay that houses a rehabilitation program for sick and injured animals.  Those on display in their exhibits and visiting our park are non-releasable due to injuries they sustained in the wild.
URL:https://peninsulastatepark.org/event/wild-friends/2025-08-01/
LOCATION:Peninsula State Park – White Cedar Nature Center
ATTACH;FMTTYPE=image/jpeg:https://peninsulastatepark.org/wp-content/uploads/2024/05/Bay-Beach-Wildlife-Sanctuary.jpg
END:VEVENT
BEGIN:VEVENT
DTSTART;TZID=America/Chicago:20250801T073000
DTEND;TZID=America/Chicago:20250801T083000
DTSTAMP:20260423T180856
CREATED:20250606T150924Z
LAST-MODIFIED:20250606T150924Z
UID:12680-1754033400-1754037000@peninsulastatepark.org
SUMMARY:Run with a Ranger
DESCRIPTION:Weekly Run with a Ranger on various trails throughout the park. Come out\, meet new people\, and learn more about what makes Peninsula State Park a special place! Most routes are about 5k (3mi) in distance with cutoffs for shorter routes.
URL:https://peninsulastatepark.org/event/run-with-a-ranger-5/
LOCATION:Fish Creek Parking Lot /Picnic Area\, 9462 Shore Rd\, Fish Creek\, WI\, 54212\, United States
END:VEVENT
BEGIN:VEVENT
DTSTART;TZID=America/Chicago:20250730T110000
DTEND;TZID=America/Chicago:20250730T120000
DTSTAMP:20260423T180856
CREATED:20250605T134154Z
LAST-MODIFIED:20250605T134155Z
UID:12647-1753873200-1753876800@peninsulastatepark.org
SUMMARY:Storytime: Mighty Wings w/the Author 🦋
DESCRIPTION:Both young\, not so young\, and those in between visitors to the Park will enjoy the butterfly facts and stories spun by our own resident educational contributor\, Debbie Clement.  \nJoin us for FREE on Wednesday mornings at 11am in June and July rain or shine at the Nature Center Amphitheater.
URL:https://peninsulastatepark.org/event/storytime-mighty-wings-w-the-author-%f0%9f%a6%8b-2/2025-07-30/
LOCATION:Peninsula State Park – White Cedar Nature Center
ATTACH;FMTTYPE=image/jpeg:https://peninsulastatepark.org/wp-content/uploads/2023/03/monarch.10.meiers-scaled.jpg
END:VEVENT
END:VCALENDAR