BEGIN:VCALENDAR
VERSION:2.0
PRODID:-//Friends of Peninsula State Park - ECPv6.15.20//NONSGML v1.0//EN
CALSCALE:GREGORIAN
METHOD:PUBLISH
X-WR-CALNAME:Friends of Peninsula State Park
X-ORIGINAL-URL:https://peninsulastatepark.org
X-WR-CALDESC:Events for Friends of Peninsula State Park
REFRESH-INTERVAL;VALUE=DURATION:PT1H
X-Robots-Tag:noindex
X-PUBLISHED-TTL:PT1H
BEGIN:VTIMEZONE
TZID:America/Chicago
BEGIN:DAYLIGHT
TZOFFSETFROM:-0600
TZOFFSETTO:-0500
TZNAME:CDT
DTSTART:20220313T080000
END:DAYLIGHT
BEGIN:STANDARD
TZOFFSETFROM:-0500
TZOFFSETTO:-0600
TZNAME:CST
DTSTART:20221106T070000
END:STANDARD
BEGIN:DAYLIGHT
TZOFFSETFROM:-0600
TZOFFSETTO:-0500
TZNAME:CDT
DTSTART:20230312T080000
END:DAYLIGHT
BEGIN:STANDARD
TZOFFSETFROM:-0500
TZOFFSETTO:-0600
TZNAME:CST
DTSTART:20231105T070000
END:STANDARD
BEGIN:DAYLIGHT
TZOFFSETFROM:-0600
TZOFFSETTO:-0500
TZNAME:CDT
DTSTART:20240310T080000
END:DAYLIGHT
BEGIN:STANDARD
TZOFFSETFROM:-0500
TZOFFSETTO:-0600
TZNAME:CST
DTSTART:20241103T070000
END:STANDARD
BEGIN:DAYLIGHT
TZOFFSETFROM:-0600
TZOFFSETTO:-0500
TZNAME:CDT
DTSTART:20250309T080000
END:DAYLIGHT
BEGIN:STANDARD
TZOFFSETFROM:-0500
TZOFFSETTO:-0600
TZNAME:CST
DTSTART:20251102T070000
END:STANDARD
END:VTIMEZONE
BEGIN:VEVENT
DTSTART;TZID=America/Chicago:20240615T080000
DTEND;TZID=America/Chicago:20240615T090000
DTSTAMP:20260425T224742
CREATED:20240531T151000Z
LAST-MODIFIED:20240531T151032Z
UID:11914-1718438400-1718442000@peninsulastatepark.org
SUMMARY:Yoga in the Park!
DESCRIPTION:Janet from Kind Soul Yoga will be offering park yoga practices again this summer! Per Janet\, “Similar structure to last year. Easy peasy is the theme\, this should not be stressful. Easy flowing yoga practice. This is a practice for all – it’s not a place for specific mudras and pranayama and things that many haven’t heard of – it’s a yoga practice for all – regardless of lineage\, physical conditioning – it’s meant to gather\, breathe and move alongside other sweet people – in a beautiful setting.” \nPark practices are taking place Tuesdays and Saturdays (June 11th – September 28th) at 8am! Meet at the Nicolet Bay Beach area\, near the water\, just north of the Camp Store. The cost for this class is $10. A few mats are available\, first come\, first served (the grassy area and a towel work just fine as well). No need to register. \n*The first Saturday of every month\, Kind Soul will donate 50% of the funds to the Friends of Peninsula State Park!!!
URL:https://peninsulastatepark.org/event/11913/2024-06-15/
ATTACH;FMTTYPE=image/png:https://peninsulastatepark.org/wp-content/uploads/2023/05/Kind-Soul-Yoga2.png
END:VEVENT
BEGIN:VEVENT
DTSTART;TZID=America/Chicago:20240613T130000
DTEND;TZID=America/Chicago:20240613T140000
DTSTAMP:20260425T224742
CREATED:20240531T152000Z
LAST-MODIFIED:20240531T152000Z
UID:11982-1718283600-1718287200@peninsulastatepark.org
SUMMARY:Open Door Bird Sanctuary: Live Animal Encounters!
DESCRIPTION:Join Open Door Bird Sanctuary at the White Cedar Nature Center. These are free\, live animal encounters funded by the Friends of Peninsula State Park. \nFor more information on Open Door Bird Sanctuary\, click HERE!
URL:https://peninsulastatepark.org/event/open-door-bird-sanctuary-live-animal-encounters-2/
LOCATION:Peninsula State Park – White Cedar Nature Center
ATTACH;FMTTYPE=image/webp:https://peninsulastatepark.org/wp-content/uploads/2024/05/Open-Door-Bird-Sanctuary-LOGO-for-web.webp
END:VEVENT
BEGIN:VEVENT
DTSTART;TZID=America/Chicago:20240612T110000
DTEND;TZID=America/Chicago:20240612T120000
DTSTAMP:20260425T224742
CREATED:20240531T153600Z
LAST-MODIFIED:20240531T155643Z
UID:11997-1718190000-1718193600@peninsulastatepark.org
SUMMARY:Storytime: Mighty Wings w/the Author 🦋
DESCRIPTION:Join children’s book author Debbie Clement to sing and dance while learning about Monarch butterflies. \nMeet at 11 a.m. at the Nature Center for this FREE program.
URL:https://peninsulastatepark.org/event/storytime-mighty-wings-w-the-author-%f0%9f%a6%8b/2024-06-12/
LOCATION:Peninsula State Park – White Cedar Nature Center
ATTACH;FMTTYPE=image/jpeg:https://peninsulastatepark.org/wp-content/uploads/2023/03/monarch.10.meiers-scaled.jpg
END:VEVENT
BEGIN:VEVENT
DTSTART;TZID=America/Chicago:20240611T080000
DTEND;TZID=America/Chicago:20240611T090000
DTSTAMP:20260425T224742
CREATED:20240531T151000Z
LAST-MODIFIED:20240531T151032Z
UID:11913-1718092800-1718096400@peninsulastatepark.org
SUMMARY:Yoga in the Park!
DESCRIPTION:Janet from Kind Soul Yoga will be offering park yoga practices again this summer! Per Janet\, “Similar structure to last year. Easy peasy is the theme\, this should not be stressful. Easy flowing yoga practice. This is a practice for all – it’s not a place for specific mudras and pranayama and things that many haven’t heard of – it’s a yoga practice for all – regardless of lineage\, physical conditioning – it’s meant to gather\, breathe and move alongside other sweet people – in a beautiful setting.” \nPark practices are taking place Tuesdays and Saturdays (June 11th – September 28th) at 8am! Meet at the Nicolet Bay Beach area\, near the water\, just north of the Camp Store. The cost for this class is $10. A few mats are available\, first come\, first served (the grassy area and a towel work just fine as well). No need to register. \n*The first Saturday of every month\, Kind Soul will donate 50% of the funds to the Friends of Peninsula State Park!!!
URL:https://peninsulastatepark.org/event/11913/2024-06-11/
ATTACH;FMTTYPE=image/png:https://peninsulastatepark.org/wp-content/uploads/2023/05/Kind-Soul-Yoga2.png
END:VEVENT
BEGIN:VEVENT
DTSTART;TZID=America/Chicago:20240607T190000
DTEND;TZID=America/Chicago:20240607T200000
DTSTAMP:20260425T224742
CREATED:20240531T145843Z
LAST-MODIFIED:20240531T160027Z
UID:11899-1717786800-1717790400@peninsulastatepark.org
SUMMARY:Campfire w/the Warden @ South Nicolet Bay Host Site
DESCRIPTION:Join the Warden for a fun and engaging campfire to share useful information about your stay and any future stays you may have. The main objective of the program is to give all guests\, both kids & adults alike\, awareness of the rules within a state park and also an awareness of safety in a state park and around a campfire.
URL:https://peninsulastatepark.org/event/campfire-w-the-warden-south-nicolet-bay-host-site/
ATTACH;FMTTYPE=image/jpeg:https://peninsulastatepark.org/wp-content/uploads/2018/04/fire.jpg
END:VEVENT
BEGIN:VEVENT
DTSTART;TZID=America/Chicago:20240605T110000
DTEND;TZID=America/Chicago:20240605T120000
DTSTAMP:20260425T224742
CREATED:20240531T153600Z
LAST-MODIFIED:20240531T155643Z
UID:11996-1717585200-1717588800@peninsulastatepark.org
SUMMARY:Storytime: Mighty Wings w/the Author 🦋
DESCRIPTION:Join children’s book author Debbie Clement to sing and dance while learning about Monarch butterflies. \nMeet at 11 a.m. at the Nature Center for this FREE program.
URL:https://peninsulastatepark.org/event/storytime-mighty-wings-w-the-author-%f0%9f%a6%8b/2024-06-05/
LOCATION:Peninsula State Park – White Cedar Nature Center
ATTACH;FMTTYPE=image/jpeg:https://peninsulastatepark.org/wp-content/uploads/2023/03/monarch.10.meiers-scaled.jpg
END:VEVENT
BEGIN:VEVENT
DTSTART;TZID=America/Chicago:20240530T130000
DTEND;TZID=America/Chicago:20240530T140000
DTSTAMP:20260425T224742
CREATED:20240531T151820Z
LAST-MODIFIED:20240531T151820Z
UID:11978-1717074000-1717077600@peninsulastatepark.org
SUMMARY:Open Door Bird Sanctuary: Live Animal Encounters!
DESCRIPTION:Join Open Door Bird Sanctuary at the White Cedar Nature Center. These are free\, live animal encounters funded by the Friends of Peninsula State Park. \nFor more information on Open Door Bird Sanctuary\, click HERE!
URL:https://peninsulastatepark.org/event/open-door-bird-sanctuary-live-animal-encounters/
LOCATION:Peninsula State Park – White Cedar Nature Center
ATTACH;FMTTYPE=image/webp:https://peninsulastatepark.org/wp-content/uploads/2024/05/Open-Door-Bird-Sanctuary-LOGO-for-web.webp
END:VEVENT
BEGIN:VEVENT
DTSTART;TZID=America/Chicago:20240203T170000
DTEND;TZID=America/Chicago:20240203T200000
DTSTAMP:20260425T224742
CREATED:20240108T194204Z
LAST-MODIFIED:20240130T190935Z
UID:11699-1706979600-1706990400@peninsulastatepark.org
SUMMARY:*Event Update* Candlelight Hike Moved to Main Fish Creek Entrance Area
DESCRIPTION:Please see the above graphic for changes to the candlelight hike/ski on Saturday\, February 3rd. Due to conditions in Lot 5 and the ski trails\, the ski portion of the event will be cancelled. However\, we will still have the hike portion at a different location! \nWe will have the hike commencing from Lot 1 so folks can walk-in from Hwy 42 or park in Lot 1. There is no need to preregister\, please feel free to come anytime between 5-8pm. \nEvent Contact: \nSally Pfeifer: salpfeifer@hotmail.com or \n920-421-0808 \n 
URL:https://peninsulastatepark.org/event/candlelight-at-the-park/
LOCATION:Fish Creek Parking Lot /Picnic Area\, 9462 Shore Rd\, Fish Creek\, WI\, 54212\, United States
END:VEVENT
BEGIN:VEVENT
DTSTART;TZID=America/Chicago:20240101T100000
DTEND;TZID=America/Chicago:20240101T120000
DTSTAMP:20260425T224742
CREATED:20231224T164404Z
LAST-MODIFIED:20231224T175622Z
UID:11680-1704103200-1704110400@peninsulastatepark.org
SUMMARY:First Day Hike from Nature Center 10:00am
DESCRIPTION:
URL:https://peninsulastatepark.org/event/first-day-hike-from-nature-center-1000am/
LOCATION:Peninsula State Park – White Cedar Nature Center
ORGANIZER;CN="Friends of Peninsula State Park":MAILTO:manager@peninsulafriends.org
END:VEVENT
BEGIN:VEVENT
DTSTART;TZID=America/Chicago:20231028T080000
DTEND;TZID=America/Chicago:20231028T090000
DTSTAMP:20260425T224742
CREATED:20230404T185553Z
LAST-MODIFIED:20230418T182058Z
UID:10998-1698480000-1698483600@peninsulastatepark.org
SUMMARY:Yoga on the Beach w/Kind Soul Yoga
DESCRIPTION:Surrounded by the beautiful setting of Nicolet Bay and Beach\, Janet will guide you with slow flowing yoga movements that incorporate several modifications\, longer holds and controlled breathwork.  This style is suited to most levels of physical ability as participants can comfortably adjust movements to their own capabilities. \nClasses will be held at Nicolet Beach from 8:00am until 9:00am\, weather permitting. \n*The June 3rd date is special in that Janet will be donating 50% of her yoga session proceeds to the Friends of Peninsula State Park.  The Friends will use this donation to help fund Park improvements as 100% of all donations are used right in Peninsula State Park. \nThe cost of the one-hour class is $10 per participant.  Bring your own mat and hydration.  A limited number of mats will be available for rent. \nIn case of inclement weather Janet will hold the session at her studio (limited to the first 10 participants) located in the Top of the Hill Shops 9331 Spring Rd B24 in Fish Creek. http://www.kindsoulyoga.com
URL:https://peninsulastatepark.org/event/yoga-on-the-beach-16/
LOCATION:Peninsula State Park – Nicolet Beach\, 45.16459063279326\,-87.22407221948242
END:VEVENT
BEGIN:VEVENT
DTSTART;TZID=America/Chicago:20231017T100000
DTEND;TZID=America/Chicago:20231017T113000
DTSTAMP:20260425T224742
CREATED:20230330T190941Z
LAST-MODIFIED:20230415T185847Z
UID:10955-1697536800-1697542200@peninsulastatepark.org
SUMMARY:Mushroom Foray w/Charlotte Lukes: Watch calendar for trail locations
DESCRIPTION:Door County’s mushroom expert will lead us through the fascinating world of fungi. Charlotte has been studying wild mushrooms for over 40 years and loves sharing her knowledge through classes and programs throughout Door County. \nWatch here for any updates in meeting site.
URL:https://peninsulastatepark.org/event/mushroom-foray-w-charlotte-lukes-watch-calendar-for-trail-locations-4/
LOCATION:Peninsula State Park – White Cedar Nature Center
END:VEVENT
BEGIN:VEVENT
DTSTART;TZID=America/Chicago:20231014T080000
DTEND;TZID=America/Chicago:20231014T090000
DTSTAMP:20260425T224742
CREATED:20230404T185508Z
LAST-MODIFIED:20230418T182039Z
UID:10996-1697270400-1697274000@peninsulastatepark.org
SUMMARY:Yoga on the Beach w/Kind Soul Yoga
DESCRIPTION:Surrounded by the beautiful setting of Nicolet Bay and Beach\, Janet will guide you with slow flowing yoga movements that incorporate several modifications\, longer holds and controlled breathwork.  This style is suited to most levels of physical ability as participants can comfortably adjust movements to their own capabilities. \nClasses will be held at Nicolet Beach from 8:00am until 9:00am\, weather permitting. \nThe cost of the one-hour class is $10 per participant.  Bring your own mat and hydration.  A limited number of mats will be available for rent. \nIn case of inclement weather Janet will hold the session at her studio (limited to the first 10 participants) located in the Top of the Hill Shops 9331 Spring Rd B24 in Fish Creek. http://www.kindsoulyoga.com
URL:https://peninsulastatepark.org/event/yoga-on-the-beach-15/
LOCATION:Peninsula State Park – Nicolet Beach\, 45.16459063279326\,-87.22407221948242
END:VEVENT
BEGIN:VEVENT
DTSTART;TZID=America/Chicago:20231013T150000
DTEND;TZID=America/Chicago:20231013T160000
DTSTAMP:20260425T224742
CREATED:20230330T190909Z
LAST-MODIFIED:20230330T190909Z
UID:10953-1697209200-1697212800@peninsulastatepark.org
SUMMARY:Meet the Warden
DESCRIPTION:
URL:https://peninsulastatepark.org/event/meet-the-warden/
END:VEVENT
BEGIN:VEVENT
DTSTART;TZID=America/Chicago:20231010T100000
DTEND;TZID=America/Chicago:20231010T113000
DTSTAMP:20260425T224742
CREATED:20230330T190841Z
LAST-MODIFIED:20230415T190259Z
UID:10951-1696932000-1696937400@peninsulastatepark.org
SUMMARY:Mushroom Foray w/Charlotte Lukes: Watch calendar for trail locations
DESCRIPTION:Door County’s mushroom expert will lead us through the fascinating world of fungi. Charlotte has been studying wild mushrooms for over 40 years and loves sharing her knowledge through classes and programs throughout Door County. \nWatch here for any updates in meeting site.
URL:https://peninsulastatepark.org/event/mushroom-foray-w-charlotte-lukes-watch-calendar-for-trail-locations-3/
END:VEVENT
BEGIN:VEVENT
DTSTART;TZID=America/Chicago:20231007T080000
DTEND;TZID=America/Chicago:20231007T090000
DTSTAMP:20260425T224742
CREATED:20230404T185448Z
LAST-MODIFIED:20230418T182016Z
UID:10994-1696665600-1696669200@peninsulastatepark.org
SUMMARY:Yoga on the Beach w/Kind Soul Yoga
DESCRIPTION:Surrounded by the beautiful setting of Nicolet Bay and Beach\, Janet will guide you with slow flowing yoga movements that incorporate several modifications\, longer holds and controlled breathwork.  This style is suited to most levels of physical ability as participants can comfortably adjust movements to their own capabilities. \nClasses will be held at Nicolet Beach from 8:00am until 9:00am\, weather permitting. \nThe cost of the one-hour class is $10 per participant.  Bring your own mat and hydration.  A limited number of mats will be available for rent. \nIn case of inclement weather Janet will hold the session at her studio (limited to the first 10 participants) located in the Top of the Hill Shops 9331 Spring Rd B24 in Fish Creek. http://www.kindsoulyoga.com
URL:https://peninsulastatepark.org/event/yoga-on-the-beach-14/
LOCATION:Peninsula State Park – Nicolet Beach\, 45.16459063279326\,-87.22407221948242
END:VEVENT
BEGIN:VEVENT
DTSTART;VALUE=DATE:20231007
DTEND;VALUE=DATE:20231008
DTSTAMP:20260425T224742
CREATED:20230330T190810Z
LAST-MODIFIED:20230330T190810Z
UID:10949-1696636800-1696723199@peninsulastatepark.org
SUMMARY:Butchering Workshop (watch calendar for time and locations)
DESCRIPTION:TBA!
URL:https://peninsulastatepark.org/event/butchering-workshop-watch-calendar-for-time-and-locations/
END:VEVENT
BEGIN:VEVENT
DTSTART;TZID=America/Chicago:20230930T080000
DTEND;TZID=America/Chicago:20230930T090000
DTSTAMP:20260425T224742
CREATED:20230404T185427Z
LAST-MODIFIED:20230418T182000Z
UID:10991-1696060800-1696064400@peninsulastatepark.org
SUMMARY:Yoga on the Beach w/Kind Soul Yoga
DESCRIPTION:Surrounded by the beautiful setting of Nicolet Bay and Beach\, Janet will guide you with slow flowing yoga movements that incorporate several modifications\, longer holds and controlled breathwork.  This style is suited to most levels of physical ability as participants can comfortably adjust movements to their own capabilities. \nClasses will be held at Nicolet Beach from 8:00am until 9:00am\, weather permitting. \nThe cost of the one-hour class is $10 per participant.  Bring your own mat and hydration.  A limited number of mats will be available for rent. \nIn case of inclement weather Janet will hold the session at her studio (limited to the first 10 participants) located in the Top of the Hill Shops 9331 Spring Rd B24 in Fish Creek. http://www.kindsoulyoga.com
URL:https://peninsulastatepark.org/event/yoga-on-the-beach-13/
LOCATION:Peninsula State Park – Nicolet Beach\, 45.16459063279326\,-87.22407221948242
END:VEVENT
BEGIN:VEVENT
DTSTART;TZID=America/Chicago:20230927T100000
DTEND;TZID=America/Chicago:20230927T110000
DTSTAMP:20260425T224742
CREATED:20230330T190745Z
LAST-MODIFIED:20230415T190345Z
UID:10947-1695808800-1695812400@peninsulastatepark.org
SUMMARY:Mushroom Foray w/Charlotte Lukes: Watch calendar for trail locations
DESCRIPTION:Door County’s mushroom expert will lead us through the fascinating world of fungi. Charlotte has been studying wild mushrooms for over 40 years and loves sharing her knowledge through classes and programs throughout Door County. \nWatch here for any updates in meeting site.
URL:https://peninsulastatepark.org/event/mushroom-foray-w-charlotte-lukes-watch-calendar-for-trail-locations-2/
END:VEVENT
BEGIN:VEVENT
DTSTART;TZID=America/Chicago:20230923T080000
DTEND;TZID=America/Chicago:20230923T090000
DTSTAMP:20260425T224742
CREATED:20230404T185410Z
LAST-MODIFIED:20230418T181923Z
UID:10989-1695456000-1695459600@peninsulastatepark.org
SUMMARY:Yoga on the Beach w/Kind Soul Yoga
DESCRIPTION:Surrounded by the beautiful setting of Nicolet Bay and Beach\, Janet will guide you with slow flowing yoga movements that incorporate several modifications\, longer holds and controlled breathwork.  This style is suited to most levels of physical ability as participants can comfortably adjust movements to their own capabilities. \nClasses will be held at Nicolet Beach from 8:00am until 9:00am\, weather permitting. \nThe cost of the one-hour class is $10 per participant.  Bring your own mat and hydration.  A limited number of mats will be available for rent. \nIn case of inclement weather Janet will hold the session at her studio (limited to the first 10 participants) located in the Top of the Hill Shops 9331 Spring Rd B24 in Fish Creek. http://www.kindsoulyoga.com
URL:https://peninsulastatepark.org/event/yoga-on-the-beach-12/
LOCATION:Peninsula State Park – Nicolet Beach\, 45.16459063279326\,-87.22407221948242
END:VEVENT
BEGIN:VEVENT
DTSTART;TZID=America/Chicago:20230919T100000
DTEND;TZID=America/Chicago:20230919T110000
DTSTAMP:20260425T224742
CREATED:20230330T190722Z
LAST-MODIFIED:20230415T192456Z
UID:10945-1695117600-1695121200@peninsulastatepark.org
SUMMARY:Mushroom Foray w/Charlotte Lukes: Watch calendar for trail locations
DESCRIPTION:Door County’s mushroom expert will lead us through the fascinating world of fungi. Charlotte has been studying wild mushrooms for over 40 years and loves sharing her knowledge through classes and programs throughout Door County. \nWatch here for any updates in meeting site.
URL:https://peninsulastatepark.org/event/mushroom-foray-w-charlotte-lukes-watch-calendar-for-trail-locations/
END:VEVENT
BEGIN:VEVENT
DTSTART;TZID=America/Chicago:20230916T080000
DTEND;TZID=America/Chicago:20230916T090000
DTSTAMP:20260425T224742
CREATED:20230404T185352Z
LAST-MODIFIED:20230418T182337Z
UID:10986-1694851200-1694854800@peninsulastatepark.org
SUMMARY:Yoga on the Beach w/Kind Soul Yoga
DESCRIPTION:Surrounded by the beautiful setting of Nicolet Bay and Beach\, Janet will guide you with slow flowing yoga movements that incorporate several modifications\, longer holds and controlled breathwork.  This style is suited to most levels of physical ability as participants can comfortably adjust movements to their own capabilities. \nClasses will be held at Nicolet Beach from 8:00am until 9:00am\, weather permitting. \nThe cost of the one-hour class is $10 per participant.  Bring your own mat and hydration.  A limited number of mats will be available for rent. \nIn case of inclement weather Janet will hold the session at her studio (limited to the first 10 participants) located in the Top of the Hill Shops 9331 Spring Rd B24 in Fish Creek. http://www.kindsoulyoga.com
URL:https://peninsulastatepark.org/event/yoga-on-the-beach-11/
LOCATION:Peninsula State Park – Nicolet Beach\, 45.16459063279326\,-87.22407221948242
END:VEVENT
BEGIN:VEVENT
DTSTART;VALUE=DATE:20230915
DTEND;VALUE=DATE:20230916
DTSTAMP:20260425T224742
CREATED:20230330T190647Z
LAST-MODIFIED:20230330T190647Z
UID:10943-1694736000-1694822399@peninsulastatepark.org
SUMMARY:Woodsy Owl's Birthday
DESCRIPTION:
URL:https://peninsulastatepark.org/event/woodsy-owls-birthday/
END:VEVENT
BEGIN:VEVENT
DTSTART;TZID=America/Chicago:20230909T080000
DTEND;TZID=America/Chicago:20230909T090000
DTSTAMP:20260425T224742
CREATED:20230404T185332Z
LAST-MODIFIED:20230418T182522Z
UID:10984-1694246400-1694250000@peninsulastatepark.org
SUMMARY:Yoga on the Beach w/Kind Soul Yoga
DESCRIPTION:Surrounded by the beautiful setting of Nicolet Bay and Beach\, Janet will guide you with slow flowing yoga movements that incorporate several modifications\, longer holds and controlled breathwork.  This style is suited to most levels of physical ability as participants can comfortably adjust movements to their own capabilities. \nClasses will be held at Nicolet Beach from 8:00am until 9:00am\, weather permitting. \nThe cost of the one-hour class is $10 per participant.  Bring your own mat and hydration.  A limited number of mats will be available for rent. \nIn case of inclement weather Janet will hold the session at her studio (limited to the first 10 participants) located in the Top of the Hill Shops 9331 Spring Rd B24 in Fish Creek. http://www.kindsoulyoga.com
URL:https://peninsulastatepark.org/event/yoga-on-the-beach-10/
LOCATION:Peninsula State Park – Nicolet Beach\, 45.16459063279326\,-87.22407221948242
END:VEVENT
BEGIN:VEVENT
DTSTART;TZID=America/Chicago:20230907T130000
DTEND;TZID=America/Chicago:20230907T140000
DTSTAMP:20260425T224742
CREATED:20230330T190629Z
LAST-MODIFIED:20230415T204752Z
UID:10941-1694091600-1694095200@peninsulastatepark.org
SUMMARY:Open Door Bird Sanctuary: The Great Migration
DESCRIPTION:Migratory raptors make their trip twice a year\, learn how they prepare and what obstacles they’ll face and meet some of our raptors.
URL:https://peninsulastatepark.org/event/open-door-bird-sanctuary-the-great-migration/
LOCATION:Peninsula State Park – White Cedar Nature Center
END:VEVENT
BEGIN:VEVENT
DTSTART;TZID=America/Chicago:20230902T080000
DTEND;TZID=America/Chicago:20230902T090000
DTSTAMP:20260425T224742
CREATED:20230404T185310Z
LAST-MODIFIED:20230418T182624Z
UID:10982-1693641600-1693645200@peninsulastatepark.org
SUMMARY:Yoga on the Beach w/Kind Soul Yoga
DESCRIPTION:Surrounded by the beautiful setting of Nicolet Bay and Beach\, Janet will guide you with slow flowing yoga movements that incorporate several modifications\, longer holds and controlled breathwork.  This style is suited to most levels of physical ability as participants can comfortably adjust movements to their own capabilities. \nClasses will be held at Nicolet Beach from 8:00am until 9:00am\, weather permitting. \nThe cost of the one-hour class is $10 per participant.  Bring your own mat and hydration.  A limited number of mats will be available for rent. \nIn case of inclement weather Janet will hold the session at her studio (limited to the first 10 participants) located in the Top of the Hill Shops 9331 Spring Rd B24 in Fish Creek. http://www.kindsoulyoga.com
URL:https://peninsulastatepark.org/event/yoga-on-the-beach-9/
LOCATION:Peninsula State Park – Nicolet Beach\, 45.16459063279326\,-87.22407221948242
END:VEVENT
BEGIN:VEVENT
DTSTART;TZID=America/Chicago:20230831T190000
DTEND;TZID=America/Chicago:20230831T200000
DTSTAMP:20260425T224742
CREATED:20230330T190559Z
LAST-MODIFIED:20230330T190559Z
UID:10939-1693508400-1693512000@peninsulastatepark.org
SUMMARY:Campfire w/the Warden @ Welckers Camp Host Site
DESCRIPTION:
URL:https://peninsulastatepark.org/event/campfire-w-the-warden-welckers-camp-host-site/
END:VEVENT
BEGIN:VEVENT
DTSTART;TZID=America/Chicago:20230829T100000
DTEND;TZID=America/Chicago:20230829T143000
DTSTAMP:20260425T224742
CREATED:20230825T171256Z
LAST-MODIFIED:20230825T171539Z
UID:11563-1693303200-1693319400@peninsulastatepark.org
SUMMARY:Weborg Volunteer Day
DESCRIPTION:We are looking for volunteers to help do some maintenance work at Weborg Point Tuesday\, August 29 from 10am to 2:30pm. The goal of the day is to stain Weborg Shelter but if we can get enough volunteers we hope to paint some picnic boards and even do some brush removal along the pier!
URL:https://peninsulastatepark.org/event/weborg-volunteer-day/
LOCATION:Peninsula State Park – Weborg Point\, 9462 Shore Road\, Fish Creek\, 54212\, United States
END:VEVENT
BEGIN:VEVENT
DTSTART;TZID=America/Chicago:20230824T130000
DTEND;TZID=America/Chicago:20230824T140000
DTSTAMP:20260425T224742
CREATED:20230330T190453Z
LAST-MODIFIED:20230415T204640Z
UID:10934-1692882000-1692885600@peninsulastatepark.org
SUMMARY:Open Door Bird Sanctuary: Nature's Recyclers
DESCRIPTION:The Turkey Vulture is great at cleaning up the environment. Ugly? Heck no! They’re really cute! Join us and see for yourself!
URL:https://peninsulastatepark.org/event/open-door-bird-sanctuary-natures-recyclers-2/
LOCATION:Peninsula State Park – White Cedar Nature Center
END:VEVENT
BEGIN:VEVENT
DTSTART;VALUE=DATE:20230819
DTEND;VALUE=DATE:20230820
DTSTAMP:20260425T224742
CREATED:20230330T190419Z
LAST-MODIFIED:20230330T190419Z
UID:10932-1692403200-1692489599@peninsulastatepark.org
SUMMARY:Smokey Bear's Birthday!!
DESCRIPTION:
URL:https://peninsulastatepark.org/event/smokey-bears-birthday/
END:VEVENT
BEGIN:VEVENT
DTSTART;TZID=America/Chicago:20230817T190000
DTEND;TZID=America/Chicago:20230817T200000
DTSTAMP:20260425T224742
CREATED:20230330T190400Z
LAST-MODIFIED:20230330T190400Z
UID:10930-1692298800-1692302400@peninsulastatepark.org
SUMMARY:Campfire w/the Warden @ South Nicolet Camp Host Site
DESCRIPTION:
URL:https://peninsulastatepark.org/event/campfire-w-the-warden-south-nicolet-camp-host-site/
END:VEVENT
END:VCALENDAR