BEGIN:VCALENDAR
VERSION:2.0
PRODID:-//Friends of Peninsula State Park - ECPv6.15.20//NONSGML v1.0//EN
CALSCALE:GREGORIAN
METHOD:PUBLISH
X-ORIGINAL-URL:https://peninsulastatepark.org
X-WR-CALDESC:Events for Friends of Peninsula State Park
REFRESH-INTERVAL;VALUE=DURATION:PT1H
X-Robots-Tag:noindex
X-PUBLISHED-TTL:PT1H
BEGIN:VTIMEZONE
TZID:America/Chicago
BEGIN:DAYLIGHT
TZOFFSETFROM:-0600
TZOFFSETTO:-0500
TZNAME:CDT
DTSTART:20250309T080000
END:DAYLIGHT
BEGIN:STANDARD
TZOFFSETFROM:-0500
TZOFFSETTO:-0600
TZNAME:CST
DTSTART:20251102T070000
END:STANDARD
BEGIN:DAYLIGHT
TZOFFSETFROM:-0600
TZOFFSETTO:-0500
TZNAME:CDT
DTSTART:20260308T080000
END:DAYLIGHT
BEGIN:STANDARD
TZOFFSETFROM:-0500
TZOFFSETTO:-0600
TZNAME:CST
DTSTART:20261101T070000
END:STANDARD
BEGIN:DAYLIGHT
TZOFFSETFROM:-0600
TZOFFSETTO:-0500
TZNAME:CDT
DTSTART:20270314T080000
END:DAYLIGHT
BEGIN:STANDARD
TZOFFSETFROM:-0500
TZOFFSETTO:-0600
TZNAME:CST
DTSTART:20271107T070000
END:STANDARD
END:VTIMEZONE
BEGIN:VEVENT
DTSTART;TZID=America/Chicago:20260319T100000
DTEND;TZID=America/Chicago:20260319T140000
DTSTAMP:20260423T132119
CREATED:20260303T153531Z
LAST-MODIFIED:20260303T153531Z
UID:13178-1773914400-1773928800@peninsulastatepark.org
SUMMARY:PENINSULA PROTECTORS: March Painting Madness
DESCRIPTION:Help paint picnic boards and sign posts for the upcoming season while watching March Madness basketball!  \nContact Matt: matthew.ernst@wisconsin.gov \nTime: 10am – 2pm \nLocation: Maintenance Shop
URL:https://peninsulastatepark.org/event/peninsula-protectors-march-painting-madness/
LOCATION:WI
ATTACH;FMTTYPE=image/png:https://peninsulastatepark.org/wp-content/uploads/2024/01/ms-icon-310x310-1.png
END:VEVENT
BEGIN:VEVENT
DTSTART;TZID=America/Chicago:20260418T090000
DTEND;TZID=America/Chicago:20260418T130000
DTSTAMP:20260423T132119
CREATED:20260330T203522Z
LAST-MODIFIED:20260330T203522Z
UID:13232-1776502800-1776517200@peninsulastatepark.org
SUMMARY:Happy Little Trees 5k & Work. Play. Earth Day
DESCRIPTION:Happy Little Trees 5k & Work. Play. Earth Day!\n9am: 5K Run/Walk\n10am: Work day at Nicolet Beach \nJoin us for campground clean-up and picnic table repair around the Nicolet Beach Day Use area. Participate in a run/walk beforehand to help fund reforestation projects in state parks. See below for more info…
URL:https://peninsulastatepark.org/event/happy-little-trees-5k-work-play-earth-day/
LOCATION:Peninsula State Park – Nicolet Beach\, 45.16459063279326\,-87.22407221948242
ATTACH;FMTTYPE=image/png:https://peninsulastatepark.org/wp-content/uploads/2024/01/ms-icon-310x310-1.png
END:VEVENT
BEGIN:VEVENT
DTSTART;VALUE=DATE:20260527
DTEND;VALUE=DATE:20260531
DTSTAMP:20260423T132119
CREATED:20260331T182229Z
LAST-MODIFIED:20260408T172333Z
UID:13243-1779840000-1780185599@peninsulastatepark.org
SUMMARY:2026 RIDE THE PARK CELEBRATION: Boardwalk Construction
DESCRIPTION:Details COMING SOON!
URL:https://peninsulastatepark.org/event/2026-ride-the-park-celebration-boardwalk-construction/
LOCATION:WI
ATTACH;FMTTYPE=image/png:https://peninsulastatepark.org/wp-content/uploads/2024/01/ms-icon-310x310-1.png
END:VEVENT
BEGIN:VEVENT
DTSTART;TZID=America/Chicago:20260529T120000
DTEND;TZID=America/Chicago:20260529T123000
DTSTAMP:20260423T132119
CREATED:20260331T181349Z
LAST-MODIFIED:20260403T185600Z
UID:13234-1780056000-1780057800@peninsulastatepark.org
SUMMARY:2026 RIDE THE PARK CELEBRATION: Chris Holicek Memorial Dedication
DESCRIPTION:Details COMING SOON!
URL:https://peninsulastatepark.org/event/2026-ride-the-park-celebration-chris-holicek-memorial-dedication/
LOCATION:Peninsula State Park – Eagle Tower\, 45.163211456809854\,-87.19849467431641
ATTACH;FMTTYPE=image/jpeg:https://peninsulastatepark.org/wp-content/uploads/2025/07/2B265CED-9040-4522-9373-C0275CD2AFC2_1_105_c.jpeg
END:VEVENT
BEGIN:VEVENT
DTSTART;TZID=America/Chicago:20260530T093000
DTEND;TZID=America/Chicago:20260530T140000
DTSTAMP:20260423T132119
CREATED:20260331T181706Z
LAST-MODIFIED:20260331T181918Z
UID:13238-1780133400-1780149600@peninsulastatepark.org
SUMMARY:2026 RIDE THE PARK CELEBRATION: Merchandise Sale\, Raffle\, & Refreshments
DESCRIPTION:Details COMING SOON!
URL:https://peninsulastatepark.org/event/2026-ride-the-park-celebration-merchandise-sale/
LOCATION:Peninsula State Park – Winter Warming House (Lot 5)\, 9462 Shore Road\, Fish Creek\, WI\, 54212\, United States
ATTACH;FMTTYPE=image/png:https://peninsulastatepark.org/wp-content/uploads/2024/01/ms-icon-310x310-1.png
END:VEVENT
BEGIN:VEVENT
DTSTART;TZID=America/Chicago:20260530T093000
DTEND;TZID=America/Chicago:20260530T140000
DTSTAMP:20260423T132119
CREATED:20260331T182437Z
LAST-MODIFIED:20260331T182727Z
UID:13246-1780133400-1780149600@peninsulastatepark.org
SUMMARY:2026 RIDE THE PARK CELEBRATION: Bike Safety Exhibit
DESCRIPTION:Details COMING SOON!
URL:https://peninsulastatepark.org/event/2026-ride-the-park-celebration-bike-safety-exhibit/
LOCATION:Peninsula State Park – Winter Warming House (Lot 5)\, 9462 Shore Road\, Fish Creek\, WI\, 54212\, United States
ATTACH;FMTTYPE=image/jpeg:https://peninsulastatepark.org/wp-content/uploads/2026/01/Bike-Rodeo-4-scaled.jpg
END:VEVENT
BEGIN:VEVENT
DTSTART;TZID=America/Chicago:20260530T120000
DTEND;TZID=America/Chicago:20260530T123000
DTSTAMP:20260423T132119
CREATED:20260331T181538Z
LAST-MODIFIED:20260403T185654Z
UID:13236-1780142400-1780144200@peninsulastatepark.org
SUMMARY:2026 RIDE THE PARK CELEBRATION: Mountain Bike Trail Ribbon Cutting
DESCRIPTION:Details COMING SOON!
URL:https://peninsulastatepark.org/event/2026-ride-the-park-celebration-mountain-bike-trail-ribbon-cutting/
LOCATION:Peninsula State Park – Winter Warming House (Lot 5)\, 9462 Shore Road\, Fish Creek\, WI\, 54212\, United States
ATTACH;FMTTYPE=image/jpeg:https://peninsulastatepark.org/wp-content/uploads/2025/12/Rock-Solid-Crew-Peninsula-State-Park-20-S.jpeg
END:VEVENT
BEGIN:VEVENT
DTSTART;TZID=America/Chicago:20260530T123000
DTEND;TZID=America/Chicago:20260530T133000
DTSTAMP:20260423T132119
CREATED:20260403T185918Z
LAST-MODIFIED:20260403T185918Z
UID:13252-1780144200-1780147800@peninsulastatepark.org
SUMMARY:2026 RIDE THE PARK CELEBRATION: Group Bike Ride #1
DESCRIPTION:Details COMING SOON!
URL:https://peninsulastatepark.org/event/2026-ride-the-park-celebration-group-bike-ride-1/
LOCATION:Peninsula State Park – Winter Warming House (Lot 5)\, 9462 Shore Road\, Fish Creek\, WI\, 54212\, United States
ATTACH;FMTTYPE=image/jpeg:https://peninsulastatepark.org/wp-content/uploads/2025/12/Rock-Solid-Crew-Peninsula-State-Park-48-S.jpeg
END:VEVENT
BEGIN:VEVENT
DTSTART;TZID=America/Chicago:20260530T140000
DTEND;TZID=America/Chicago:20260530T150000
DTSTAMP:20260423T132119
CREATED:20260403T190021Z
LAST-MODIFIED:20260403T190021Z
UID:13254-1780149600-1780153200@peninsulastatepark.org
SUMMARY:2026 RIDE THE PARK CELEBRATION: Group Bike Ride #2
DESCRIPTION:Details COMING SOON!
URL:https://peninsulastatepark.org/event/2026-ride-the-park-celebration-group-bike-ride-2/
LOCATION:Peninsula State Park – Winter Warming House (Lot 5)\, 9462 Shore Road\, Fish Creek\, WI\, 54212\, United States
ATTACH;FMTTYPE=image/jpeg:https://peninsulastatepark.org/wp-content/uploads/2025/12/Rock-Solid-Crew-Peninsula-State-Park-48-S.jpeg
END:VEVENT
BEGIN:VEVENT
DTSTART;TZID=America/Chicago:20260619T110000
DTEND;TZID=America/Chicago:20260619T120000
DTSTAMP:20260423T132119
CREATED:20260313T145015Z
LAST-MODIFIED:20260313T145015Z
UID:13196-1781866800-1781870400@peninsulastatepark.org
SUMMARY:Wild Friends with Bay Beach Wildlife Sanctuary
DESCRIPTION:Join Bay Beach Wildlife Sanctuary naturalists to learn about and meet some of their wild friends with a live animal encounter.  Bay Beach Wildlife Sanctuary is a 535-acre urban wildlife refuge located in nearby Green Bay that houses a rehabilitation program for sick and injured animals.  Those on display in their exhibits and visiting our park are non-releasable due to injuries they sustained in the wild.
URL:https://peninsulastatepark.org/event/wild-friends-with-bay-beach-wildlife-sanctuary/2026-06-19/
LOCATION:Peninsula State Park – White Cedar Nature Center
ATTACH;FMTTYPE=image/jpeg:https://peninsulastatepark.org/wp-content/uploads/2024/05/PLPbaqw8_400x400.jpg
END:VEVENT
BEGIN:VEVENT
DTSTART;TZID=America/Chicago:20260717T110000
DTEND;TZID=America/Chicago:20260717T120000
DTSTAMP:20260423T132119
CREATED:20260313T145015Z
LAST-MODIFIED:20260313T145016Z
UID:13197-1784286000-1784289600@peninsulastatepark.org
SUMMARY:Wild Friends with Bay Beach Wildlife Sanctuary
DESCRIPTION:Join Bay Beach Wildlife Sanctuary naturalists to learn about and meet some of their wild friends with a live animal encounter.  Bay Beach Wildlife Sanctuary is a 535-acre urban wildlife refuge located in nearby Green Bay that houses a rehabilitation program for sick and injured animals.  Those on display in their exhibits and visiting our park are non-releasable due to injuries they sustained in the wild.
URL:https://peninsulastatepark.org/event/wild-friends-with-bay-beach-wildlife-sanctuary/2026-07-17/
LOCATION:Peninsula State Park – White Cedar Nature Center
ATTACH;FMTTYPE=image/jpeg:https://peninsulastatepark.org/wp-content/uploads/2024/05/PLPbaqw8_400x400.jpg
END:VEVENT
BEGIN:VEVENT
DTSTART;TZID=America/Chicago:20260725T130000
DTEND;TZID=America/Chicago:20260725T140000
DTSTAMP:20260423T132119
CREATED:20260313T145256Z
LAST-MODIFIED:20260313T145256Z
UID:13202-1784984400-1784988000@peninsulastatepark.org
SUMMARY:Reptile Hour with Archie’s Angels
DESCRIPTION:Join Archie’s Angels’ volunteers to learn about and meet some of their animal ambassadors with a live animal encounter. Archie’s Angels: Reptile Education\, Rescue & Rehabilitation is an organization dedicated to providing education about proper herpetological (reptile and amphibian) care and rescuing and rehabilitating reptiles and amphibians in need.
URL:https://peninsulastatepark.org/event/reptile-hour-with-archies-angels/2026-07-25/
LOCATION:Peninsula State Park – White Cedar Nature Center
ATTACH;FMTTYPE=image/jpeg:https://peninsulastatepark.org/wp-content/uploads/2025/06/ARCHIES-ANGELS-INC_-3.jpg
END:VEVENT
BEGIN:VEVENT
DTSTART;TZID=America/Chicago:20260731T110000
DTEND;TZID=America/Chicago:20260731T120000
DTSTAMP:20260423T132119
CREATED:20260313T145015Z
LAST-MODIFIED:20260313T145016Z
UID:13198-1785495600-1785499200@peninsulastatepark.org
SUMMARY:Wild Friends with Bay Beach Wildlife Sanctuary
DESCRIPTION:Join Bay Beach Wildlife Sanctuary naturalists to learn about and meet some of their wild friends with a live animal encounter.  Bay Beach Wildlife Sanctuary is a 535-acre urban wildlife refuge located in nearby Green Bay that houses a rehabilitation program for sick and injured animals.  Those on display in their exhibits and visiting our park are non-releasable due to injuries they sustained in the wild.
URL:https://peninsulastatepark.org/event/wild-friends-with-bay-beach-wildlife-sanctuary/2026-07-31/
LOCATION:Peninsula State Park – White Cedar Nature Center
ATTACH;FMTTYPE=image/jpeg:https://peninsulastatepark.org/wp-content/uploads/2024/05/PLPbaqw8_400x400.jpg
END:VEVENT
BEGIN:VEVENT
DTSTART;TZID=America/Chicago:20260814T110000
DTEND;TZID=America/Chicago:20260814T120000
DTSTAMP:20260423T132119
CREATED:20260313T145015Z
LAST-MODIFIED:20260313T145016Z
UID:13199-1786705200-1786708800@peninsulastatepark.org
SUMMARY:Wild Friends with Bay Beach Wildlife Sanctuary
DESCRIPTION:Join Bay Beach Wildlife Sanctuary naturalists to learn about and meet some of their wild friends with a live animal encounter.  Bay Beach Wildlife Sanctuary is a 535-acre urban wildlife refuge located in nearby Green Bay that houses a rehabilitation program for sick and injured animals.  Those on display in their exhibits and visiting our park are non-releasable due to injuries they sustained in the wild.
URL:https://peninsulastatepark.org/event/wild-friends-with-bay-beach-wildlife-sanctuary/2026-08-14/
LOCATION:Peninsula State Park – White Cedar Nature Center
ATTACH;FMTTYPE=image/jpeg:https://peninsulastatepark.org/wp-content/uploads/2024/05/PLPbaqw8_400x400.jpg
END:VEVENT
BEGIN:VEVENT
DTSTART;TZID=America/Chicago:20260822T130000
DTEND;TZID=America/Chicago:20260822T140000
DTSTAMP:20260423T132119
CREATED:20260313T145256Z
LAST-MODIFIED:20260313T145256Z
UID:13203-1787403600-1787407200@peninsulastatepark.org
SUMMARY:Reptile Hour with Archie’s Angels
DESCRIPTION:Join Archie’s Angels’ volunteers to learn about and meet some of their animal ambassadors with a live animal encounter. Archie’s Angels: Reptile Education\, Rescue & Rehabilitation is an organization dedicated to providing education about proper herpetological (reptile and amphibian) care and rescuing and rehabilitating reptiles and amphibians in need.
URL:https://peninsulastatepark.org/event/reptile-hour-with-archies-angels/2026-08-22/
LOCATION:Peninsula State Park – White Cedar Nature Center
ATTACH;FMTTYPE=image/jpeg:https://peninsulastatepark.org/wp-content/uploads/2025/06/ARCHIES-ANGELS-INC_-3.jpg
END:VEVENT
BEGIN:VEVENT
DTSTART;TZID=America/Chicago:20260828T110000
DTEND;TZID=America/Chicago:20260828T120000
DTSTAMP:20260423T132119
CREATED:20260313T145015Z
LAST-MODIFIED:20260313T145016Z
UID:13200-1787914800-1787918400@peninsulastatepark.org
SUMMARY:Wild Friends with Bay Beach Wildlife Sanctuary
DESCRIPTION:Join Bay Beach Wildlife Sanctuary naturalists to learn about and meet some of their wild friends with a live animal encounter.  Bay Beach Wildlife Sanctuary is a 535-acre urban wildlife refuge located in nearby Green Bay that houses a rehabilitation program for sick and injured animals.  Those on display in their exhibits and visiting our park are non-releasable due to injuries they sustained in the wild.
URL:https://peninsulastatepark.org/event/wild-friends-with-bay-beach-wildlife-sanctuary/2026-08-28/
LOCATION:Peninsula State Park – White Cedar Nature Center
ATTACH;FMTTYPE=image/jpeg:https://peninsulastatepark.org/wp-content/uploads/2024/05/PLPbaqw8_400x400.jpg
END:VEVENT
BEGIN:VEVENT
DTSTART;TZID=America/Chicago:20260912T130000
DTEND;TZID=America/Chicago:20260912T140000
DTSTAMP:20260423T132119
CREATED:20260313T145256Z
LAST-MODIFIED:20260313T145257Z
UID:13204-1789218000-1789221600@peninsulastatepark.org
SUMMARY:Reptile Hour with Archie’s Angels
DESCRIPTION:Join Archie’s Angels’ volunteers to learn about and meet some of their animal ambassadors with a live animal encounter. Archie’s Angels: Reptile Education\, Rescue & Rehabilitation is an organization dedicated to providing education about proper herpetological (reptile and amphibian) care and rescuing and rehabilitating reptiles and amphibians in need.
URL:https://peninsulastatepark.org/event/reptile-hour-with-archies-angels/2026-09-12/
LOCATION:Peninsula State Park – White Cedar Nature Center
ATTACH;FMTTYPE=image/jpeg:https://peninsulastatepark.org/wp-content/uploads/2025/06/ARCHIES-ANGELS-INC_-3.jpg
END:VEVENT
END:VCALENDAR