BEGIN:VCALENDAR
VERSION:2.0
PRODID:-//Friends of Peninsula State Park - ECPv6.15.20//NONSGML v1.0//EN
CALSCALE:GREGORIAN
METHOD:PUBLISH
X-ORIGINAL-URL:https://peninsulastatepark.org
X-WR-CALDESC:Events for Friends of Peninsula State Park
REFRESH-INTERVAL;VALUE=DURATION:PT1H
X-Robots-Tag:noindex
X-PUBLISHED-TTL:PT1H
BEGIN:VTIMEZONE
TZID:America/Chicago
BEGIN:DAYLIGHT
TZOFFSETFROM:-0600
TZOFFSETTO:-0500
TZNAME:CDT
DTSTART:20240310T080000
END:DAYLIGHT
BEGIN:STANDARD
TZOFFSETFROM:-0500
TZOFFSETTO:-0600
TZNAME:CST
DTSTART:20241103T070000
END:STANDARD
BEGIN:DAYLIGHT
TZOFFSETFROM:-0600
TZOFFSETTO:-0500
TZNAME:CDT
DTSTART:20250309T080000
END:DAYLIGHT
BEGIN:STANDARD
TZOFFSETFROM:-0500
TZOFFSETTO:-0600
TZNAME:CST
DTSTART:20251102T070000
END:STANDARD
BEGIN:DAYLIGHT
TZOFFSETFROM:-0600
TZOFFSETTO:-0500
TZNAME:CDT
DTSTART:20260308T080000
END:DAYLIGHT
BEGIN:STANDARD
TZOFFSETFROM:-0500
TZOFFSETTO:-0600
TZNAME:CST
DTSTART:20261101T070000
END:STANDARD
END:VTIMEZONE
BEGIN:VEVENT
DTSTART;TZID=America/Chicago:20250101T100000
DTEND;TZID=America/Chicago:20250101T110000
DTSTAMP:20260425T053758
CREATED:20241210T174726Z
LAST-MODIFIED:20241210T174815Z
UID:12418-1735725600-1735729200@peninsulastatepark.org
SUMMARY:Ring in 2025 – First Day Hike
DESCRIPTION:The Friends of Peninsula State Park will host their annual First Day Hike\, January 1\, 2025\, at Peninsula State Park. Meet at the White Cedar Nature Center at 10:00am. The guided hike will last about 30-45 minutes. There will also be an outdoor warming fire\, hot beverages and cookies available after the hike.   \nCome Join Us for our New Year tradition!!
URL:https://peninsulastatepark.org/event/ring-in-2025-first-day-hike/
LOCATION:Peninsula State Park – White Cedar Nature Center
ATTACH;FMTTYPE=image/jpeg:https://peninsulastatepark.org/wp-content/uploads/2024/01/1st-Day-Hike-2024.jpeg
END:VEVENT
BEGIN:VEVENT
DTSTART;TZID=America/Chicago:20250507T170000
DTEND;TZID=America/Chicago:20250507T190000
DTSTAMP:20260425T053758
CREATED:20250425T144515Z
LAST-MODIFIED:20250425T144515Z
UID:12559-1746637200-1746644400@peninsulastatepark.org
SUMMARY:Mountain Bike Trail Maintenance Volunteer Meeting
DESCRIPTION:May 7\, 5pm at the Maintenance Shop (9486 Shore Rd. Fish Creek\, WI) at Peninsula State Park \n Things you can do before the meeting:\n1.	Fill in an application/create a volunteer account within ‘Trail Maintenance’ on our volunteer portal MyImpactPage – Trail Maintenance\n2.	Download the Trailbot app from your app store\n3.	Fill out the two forms; Volunteer Agreement & Power Equipment Safety (we will have extra copies day of) \nLoose Agenda items:\n1.	Intros\n2.	Volunteer Account creation and safety protocols\n3.	Tools/Equipment available for volunteers\n4.	General Trail Maint tips and tricks\n5.	Logging Hours/Communication with Park Staff\n6.	Trailbot App usage\n7.	Questions and brainstorm ideas for maintenance and trail reroute/closure protocols
URL:https://peninsulastatepark.org/event/mountain-bike-trail-maintenance-volunteer-meeting/
LOCATION:WI
ATTACH;FMTTYPE=image/jpeg:https://peninsulastatepark.org/wp-content/uploads/2024/09/MBT-3-rotated.jpeg
END:VEVENT
BEGIN:VEVENT
DTSTART;TZID=America/Chicago:20250611T110000
DTEND;TZID=America/Chicago:20250611T120000
DTSTAMP:20260425T053758
CREATED:20250605T134154Z
LAST-MODIFIED:20250605T134154Z
UID:12639-1749639600-1749643200@peninsulastatepark.org
SUMMARY:Storytime: Mighty Wings w/the Author 🦋
DESCRIPTION:Both young\, not so young\, and those in between visitors to the Park will enjoy the butterfly facts and stories spun by our own resident educational contributor\, Debbie Clement.  \nJoin us for FREE on Wednesday mornings at 11am in June and July rain or shine at the Nature Center Amphitheater.
URL:https://peninsulastatepark.org/event/storytime-mighty-wings-w-the-author-%f0%9f%a6%8b-2/2025-06-11/
LOCATION:Peninsula State Park – White Cedar Nature Center
ATTACH;FMTTYPE=image/jpeg:https://peninsulastatepark.org/wp-content/uploads/2023/03/monarch.10.meiers-scaled.jpg
END:VEVENT
BEGIN:VEVENT
DTSTART;TZID=America/Chicago:20250612T130000
DTEND;TZID=America/Chicago:20250612T140000
DTSTAMP:20260425T053758
CREATED:20250606T151627Z
LAST-MODIFIED:20250606T151627Z
UID:12693-1749733200-1749736800@peninsulastatepark.org
SUMMARY:Raptor Talks: Nature’s Recycler
DESCRIPTION:Join Open Door Bird Sanctuary:  The Turkey Vulture is great at cleaning up the environment.  Ugly?  Heck no! They’re really cute!  (Live animal encounter)
URL:https://peninsulastatepark.org/event/raptor-talks-natures-recycler/
LOCATION:Peninsula State Park – White Cedar Nature Center
ATTACH;FMTTYPE=image/webp:https://peninsulastatepark.org/wp-content/uploads/2024/05/Open-Door-Bird-Sanctuary-LOGO-for-web.webp
END:VEVENT
BEGIN:VEVENT
DTSTART;TZID=America/Chicago:20250612T190000
DTEND;TZID=America/Chicago:20250612T200000
DTSTAMP:20260425T053758
CREATED:20250606T151115Z
LAST-MODIFIED:20250606T151115Z
UID:12682-1749754800-1749758400@peninsulastatepark.org
SUMMARY:Campfire with the Warden
DESCRIPTION:South Nicolet Campground – Camp Host Site 783 \nJoin our State Park Wardens at the camp host site and learn more about campfire building and how you can be safe in and around the park.
URL:https://peninsulastatepark.org/event/campfire-with-the-warden/2025-06-12/
LOCATION:WI
ATTACH;FMTTYPE=image/jpeg:https://peninsulastatepark.org/wp-content/uploads/2018/04/fire.jpg
END:VEVENT
BEGIN:VEVENT
DTSTART;TZID=America/Chicago:20250613T073000
DTEND;TZID=America/Chicago:20250613T083000
DTSTAMP:20260425T053758
CREATED:20250606T150457Z
LAST-MODIFIED:20250606T150457Z
UID:12667-1749799800-1749803400@peninsulastatepark.org
SUMMARY:Run with a Ranger
DESCRIPTION:Weekly Run with a Ranger on various trails throughout the park. Come out\, meet new people\, and learn more about what makes Peninsula State Park a special place! Most routes are about 5k (3mi) in distance with cutoffs for shorter routes.
URL:https://peninsulastatepark.org/event/run-with-a-ranger/2025-06-13/
LOCATION:Peninsula State Park – Winter Warming House (Lot 5)\, 9462 Shore Road\, Fish Creek\, WI\, 54212\, United States
END:VEVENT
BEGIN:VEVENT
DTSTART;TZID=America/Chicago:20250614T080000
DTEND;TZID=America/Chicago:20250614T090000
DTSTAMP:20260425T053758
CREATED:20250509T144804Z
LAST-MODIFIED:20250509T144804Z
UID:12577-1749888000-1749891600@peninsulastatepark.org
SUMMARY:Yoga in the Park
DESCRIPTION:Janet from Kind Soul Yoga will be offering park yoga practices again this summer! Per Janet\, “I’m looking forward to another beautiful summer in the park with thee most incredible yogis from around the world!!!! (last year we had 3 from Germany and England!!!)” \nPark practices are taking place Tuesdays and Saturdays (June 14th – September 30th) at 8am! Meet at the Nicolet Bay Beach area\, near the water\, just north of the Camp Store. The cost for this class is $10/cash & $12/credit. Mats can be rented for $3 or purchased new for $50. NO PRIOR REGISTRATION needed – just sign in when you arrive!  \n*The first Saturday of every month\, Kind Soul will donate 50% of the funds to the Friends of Peninsula State Park!!!
URL:https://peninsulastatepark.org/event/yoga-in-the-park/2025-06-14/
LOCATION:Peninsula State Park – Nicolet Beach\, 45.16459063279326\,-87.22407221948242
ATTACH;FMTTYPE=image/png:https://peninsulastatepark.org/wp-content/uploads/2023/05/Kind-Soul-Yoga2.png
END:VEVENT
BEGIN:VEVENT
DTSTART;TZID=America/Chicago:20250617T080000
DTEND;TZID=America/Chicago:20250617T090000
DTSTAMP:20260425T053758
CREATED:20250509T144804Z
LAST-MODIFIED:20250509T144804Z
UID:12578-1750147200-1750150800@peninsulastatepark.org
SUMMARY:Yoga in the Park
DESCRIPTION:Janet from Kind Soul Yoga will be offering park yoga practices again this summer! Per Janet\, “I’m looking forward to another beautiful summer in the park with thee most incredible yogis from around the world!!!! (last year we had 3 from Germany and England!!!)” \nPark practices are taking place Tuesdays and Saturdays (June 14th – September 30th) at 8am! Meet at the Nicolet Bay Beach area\, near the water\, just north of the Camp Store. The cost for this class is $10/cash & $12/credit. Mats can be rented for $3 or purchased new for $50. NO PRIOR REGISTRATION needed – just sign in when you arrive!  \n*The first Saturday of every month\, Kind Soul will donate 50% of the funds to the Friends of Peninsula State Park!!!
URL:https://peninsulastatepark.org/event/yoga-in-the-park/2025-06-17/
LOCATION:Peninsula State Park – Nicolet Beach\, 45.16459063279326\,-87.22407221948242
ATTACH;FMTTYPE=image/png:https://peninsulastatepark.org/wp-content/uploads/2023/05/Kind-Soul-Yoga2.png
END:VEVENT
BEGIN:VEVENT
DTSTART;TZID=America/Chicago:20250617T160000
DTEND;TZID=America/Chicago:20250617T170000
DTSTAMP:20260425T053758
CREATED:20250606T145410Z
LAST-MODIFIED:20250606T145410Z
UID:12653-1750176000-1750179600@peninsulastatepark.org
SUMMARY:Historical Traces Trek
DESCRIPTION:Join Dave Lea\, who has been exploring the park since the 1970’s\, on an exciting\, off-trail adventure finding the park’s historic sites. Wear sturdy boots and long pants to discover traces of the past.
URL:https://peninsulastatepark.org/event/historical-traces-trek/2025-06-17/
LOCATION:Peninsula State Park – White Cedar Nature Center
END:VEVENT
BEGIN:VEVENT
DTSTART;TZID=America/Chicago:20250618T110000
DTEND;TZID=America/Chicago:20250618T120000
DTSTAMP:20260425T053758
CREATED:20250605T134154Z
LAST-MODIFIED:20250605T134154Z
UID:12641-1750244400-1750248000@peninsulastatepark.org
SUMMARY:Storytime: Mighty Wings w/the Author 🦋
DESCRIPTION:Both young\, not so young\, and those in between visitors to the Park will enjoy the butterfly facts and stories spun by our own resident educational contributor\, Debbie Clement.  \nJoin us for FREE on Wednesday mornings at 11am in June and July rain or shine at the Nature Center Amphitheater.
URL:https://peninsulastatepark.org/event/storytime-mighty-wings-w-the-author-%f0%9f%a6%8b-2/2025-06-18/
LOCATION:Peninsula State Park – White Cedar Nature Center
ATTACH;FMTTYPE=image/jpeg:https://peninsulastatepark.org/wp-content/uploads/2023/03/monarch.10.meiers-scaled.jpg
END:VEVENT
BEGIN:VEVENT
DTSTART;TZID=America/Chicago:20250620T073000
DTEND;TZID=America/Chicago:20250620T083000
DTSTAMP:20260425T053758
CREATED:20250606T150610Z
LAST-MODIFIED:20250606T150610Z
UID:12670-1750404600-1750408200@peninsulastatepark.org
SUMMARY:Run with a Ranger
DESCRIPTION:Weekly Run with a Ranger on various trails throughout the park. Come out\, meet new people\, and learn more about what makes Peninsula State Park a special place! Most routes are about 5k (3mi) in distance with cutoffs for shorter routes.
URL:https://peninsulastatepark.org/event/run-with-a-ranger-2/2025-06-20/
LOCATION:Peninsula State Park – Nicolet Beach\, 45.16459063279326\,-87.22407221948242
END:VEVENT
BEGIN:VEVENT
DTSTART;TZID=America/Chicago:20250620T110000
DTEND;TZID=America/Chicago:20250620T120000
DTSTAMP:20260425T053758
CREATED:20250606T152457Z
LAST-MODIFIED:20250606T152457Z
UID:12707-1750417200-1750420800@peninsulastatepark.org
SUMMARY:Wild Friends
DESCRIPTION:Join Bay Beach Wildlife Sanctuary naturalists to learn about and meet some of their wild friends with a live animal encounter.  Bay Beach Wildlife Sanctuary is a 535-acre urban wildlife refuge located in nearby Green Bay that houses a rehabilitation program for sick and injured animals.  Those on display in their exhibits and visiting our park are non-releasable due to injuries they sustained in the wild.
URL:https://peninsulastatepark.org/event/wild-friends/2025-06-20/
LOCATION:Peninsula State Park – White Cedar Nature Center
ATTACH;FMTTYPE=image/jpeg:https://peninsulastatepark.org/wp-content/uploads/2024/05/Bay-Beach-Wildlife-Sanctuary.jpg
END:VEVENT
BEGIN:VEVENT
DTSTART;TZID=America/Chicago:20250621T080000
DTEND;TZID=America/Chicago:20250621T090000
DTSTAMP:20260425T053758
CREATED:20250509T144804Z
LAST-MODIFIED:20250509T144804Z
UID:12579-1750492800-1750496400@peninsulastatepark.org
SUMMARY:Yoga in the Park
DESCRIPTION:Janet from Kind Soul Yoga will be offering park yoga practices again this summer! Per Janet\, “I’m looking forward to another beautiful summer in the park with thee most incredible yogis from around the world!!!! (last year we had 3 from Germany and England!!!)” \nPark practices are taking place Tuesdays and Saturdays (June 14th – September 30th) at 8am! Meet at the Nicolet Bay Beach area\, near the water\, just north of the Camp Store. The cost for this class is $10/cash & $12/credit. Mats can be rented for $3 or purchased new for $50. NO PRIOR REGISTRATION needed – just sign in when you arrive!  \n*The first Saturday of every month\, Kind Soul will donate 50% of the funds to the Friends of Peninsula State Park!!!
URL:https://peninsulastatepark.org/event/yoga-in-the-park/2025-06-21/
LOCATION:Peninsula State Park – Nicolet Beach\, 45.16459063279326\,-87.22407221948242
ATTACH;FMTTYPE=image/png:https://peninsulastatepark.org/wp-content/uploads/2023/05/Kind-Soul-Yoga2.png
END:VEVENT
BEGIN:VEVENT
DTSTART;TZID=America/Chicago:20250624T080000
DTEND;TZID=America/Chicago:20250624T090000
DTSTAMP:20260425T053758
CREATED:20250509T144804Z
LAST-MODIFIED:20250509T144804Z
UID:12580-1750752000-1750755600@peninsulastatepark.org
SUMMARY:Yoga in the Park
DESCRIPTION:Janet from Kind Soul Yoga will be offering park yoga practices again this summer! Per Janet\, “I’m looking forward to another beautiful summer in the park with thee most incredible yogis from around the world!!!! (last year we had 3 from Germany and England!!!)” \nPark practices are taking place Tuesdays and Saturdays (June 14th – September 30th) at 8am! Meet at the Nicolet Bay Beach area\, near the water\, just north of the Camp Store. The cost for this class is $10/cash & $12/credit. Mats can be rented for $3 or purchased new for $50. NO PRIOR REGISTRATION needed – just sign in when you arrive!  \n*The first Saturday of every month\, Kind Soul will donate 50% of the funds to the Friends of Peninsula State Park!!!
URL:https://peninsulastatepark.org/event/yoga-in-the-park/2025-06-24/
LOCATION:Peninsula State Park – Nicolet Beach\, 45.16459063279326\,-87.22407221948242
ATTACH;FMTTYPE=image/png:https://peninsulastatepark.org/wp-content/uploads/2023/05/Kind-Soul-Yoga2.png
END:VEVENT
BEGIN:VEVENT
DTSTART;TZID=America/Chicago:20250625T110000
DTEND;TZID=America/Chicago:20250625T120000
DTSTAMP:20260425T053758
CREATED:20250605T134154Z
LAST-MODIFIED:20250605T134154Z
UID:12642-1750849200-1750852800@peninsulastatepark.org
SUMMARY:Storytime: Mighty Wings w/the Author 🦋
DESCRIPTION:Both young\, not so young\, and those in between visitors to the Park will enjoy the butterfly facts and stories spun by our own resident educational contributor\, Debbie Clement.  \nJoin us for FREE on Wednesday mornings at 11am in June and July rain or shine at the Nature Center Amphitheater.
URL:https://peninsulastatepark.org/event/storytime-mighty-wings-w-the-author-%f0%9f%a6%8b-2/2025-06-25/
LOCATION:Peninsula State Park – White Cedar Nature Center
ATTACH;FMTTYPE=image/jpeg:https://peninsulastatepark.org/wp-content/uploads/2023/03/monarch.10.meiers-scaled.jpg
END:VEVENT
BEGIN:VEVENT
DTSTART;TZID=America/Chicago:20250626T130000
DTEND;TZID=America/Chicago:20250626T140000
DTSTAMP:20260425T053758
CREATED:20250606T151731Z
LAST-MODIFIED:20250606T151731Z
UID:12695-1750942800-1750946400@peninsulastatepark.org
SUMMARY:Raptor Talks: The Great Migration
DESCRIPTION:Join Open Door Bird Sanctuary:  Migratory raptors make their trip twice a year\, learn how they prepare and what obstacles they’ll face.  (Live animal encounter)
URL:https://peninsulastatepark.org/event/raptor-talks-the-great-migration/
LOCATION:Peninsula State Park – White Cedar Nature Center
ATTACH;FMTTYPE=image/webp:https://peninsulastatepark.org/wp-content/uploads/2024/05/Open-Door-Bird-Sanctuary-LOGO-for-web.webp
END:VEVENT
BEGIN:VEVENT
DTSTART;TZID=America/Chicago:20250626T190000
DTEND;TZID=America/Chicago:20250626T200000
DTSTAMP:20260425T053758
CREATED:20250606T151227Z
LAST-MODIFIED:20250606T151227Z
UID:12685-1750964400-1750968000@peninsulastatepark.org
SUMMARY:Campfire with the Warden
DESCRIPTION:North Nicolet Campground – Camp Host Site 619 \nJoin our State Park Wardens at the camp host site and learn more about campfire building and how you can be safe in and around the park.
URL:https://peninsulastatepark.org/event/campfire-with-the-warden-2/2025-06-26/
LOCATION:WI
ATTACH;FMTTYPE=image/jpeg:https://peninsulastatepark.org/wp-content/uploads/2018/04/fire.jpg
END:VEVENT
BEGIN:VEVENT
DTSTART;TZID=America/Chicago:20250627T073000
DTEND;TZID=America/Chicago:20250627T083000
DTSTAMP:20260425T053758
CREATED:20250606T150744Z
LAST-MODIFIED:20250606T150744Z
UID:12674-1751009400-1751013000@peninsulastatepark.org
SUMMARY:Run with a Ranger
DESCRIPTION:Weekly Run with a Ranger on various trails throughout the park. Come out\, meet new people\, and learn more about what makes Peninsula State Park a special place! Most routes are about 5k (3mi) in distance with cutoffs for shorter routes. \nMeet at the Skyline parking lot!
URL:https://peninsulastatepark.org/event/run-with-a-ranger-3/2025-06-27/
LOCATION:Peninsula State Park\, 9462 Shore Road\, Fish Creek\, WI\, 54212\, United States
END:VEVENT
BEGIN:VEVENT
DTSTART;TZID=America/Chicago:20250628T080000
DTEND;TZID=America/Chicago:20250628T090000
DTSTAMP:20260425T053758
CREATED:20250509T144804Z
LAST-MODIFIED:20250509T144804Z
UID:12581-1751097600-1751101200@peninsulastatepark.org
SUMMARY:Yoga in the Park
DESCRIPTION:Janet from Kind Soul Yoga will be offering park yoga practices again this summer! Per Janet\, “I’m looking forward to another beautiful summer in the park with thee most incredible yogis from around the world!!!! (last year we had 3 from Germany and England!!!)” \nPark practices are taking place Tuesdays and Saturdays (June 14th – September 30th) at 8am! Meet at the Nicolet Bay Beach area\, near the water\, just north of the Camp Store. The cost for this class is $10/cash & $12/credit. Mats can be rented for $3 or purchased new for $50. NO PRIOR REGISTRATION needed – just sign in when you arrive!  \n*The first Saturday of every month\, Kind Soul will donate 50% of the funds to the Friends of Peninsula State Park!!!
URL:https://peninsulastatepark.org/event/yoga-in-the-park/2025-06-28/
LOCATION:Peninsula State Park – Nicolet Beach\, 45.16459063279326\,-87.22407221948242
ATTACH;FMTTYPE=image/png:https://peninsulastatepark.org/wp-content/uploads/2023/05/Kind-Soul-Yoga2.png
END:VEVENT
BEGIN:VEVENT
DTSTART;TZID=America/Chicago:20250628T120000
DTEND;TZID=America/Chicago:20250628T133000
DTSTAMP:20260425T053758
CREATED:20250606T145958Z
LAST-MODIFIED:20250606T145958Z
UID:12663-1751112000-1751117400@peninsulastatepark.org
SUMMARY:Touch A Truck
DESCRIPTION:Stop by and meet a Ranger\, learn all about their important job\, the tools of the trade\, and get a close look at some of the cool vehicles and equipment they get to use.
URL:https://peninsulastatepark.org/event/touch-a-truck/
LOCATION:Fish Creek Parking Lot /Picnic Area\, 9462 Shore Rd\, Fish Creek\, WI\, 54212\, United States
ATTACH;FMTTYPE=image/jpeg:https://peninsulastatepark.org/wp-content/uploads/2011/11/DSC03024.jpg
END:VEVENT
BEGIN:VEVENT
DTSTART;TZID=America/Chicago:20250629T110000
DTEND;TZID=America/Chicago:20250629T130000
DTSTAMP:20260425T053758
CREATED:20250606T145642Z
LAST-MODIFIED:20250606T145642Z
UID:12659-1751194800-1751202000@peninsulastatepark.org
SUMMARY:Exploring Your Parks & Camping 101
DESCRIPTION:Drop on by and learn some tips on how to enjoy our parks whether you are a regular visitor or newbie.  We will help you determine the best trails\, show you different types of outdoor activities available\, camping basics and how to set up a tent\, what to pack for the day and some camping necessities\, and staying safe while having a fun adventure.
URL:https://peninsulastatepark.org/event/exploring-your-parks-camping-101/2025-06-29/
LOCATION:Peninsula State Park – Park Headquarters\, 9462 Shore Road\, Fish Creek\, WI\, 54212\, United States
ATTACH;FMTTYPE=image/jpeg:https://peninsulastatepark.org/wp-content/uploads/2020/06/20200604_father_and_son_camping.jpg
END:VEVENT
BEGIN:VEVENT
DTSTART;TZID=America/Chicago:20250701T080000
DTEND;TZID=America/Chicago:20250701T090000
DTSTAMP:20260425T053758
CREATED:20250509T144804Z
LAST-MODIFIED:20250509T144804Z
UID:12582-1751356800-1751360400@peninsulastatepark.org
SUMMARY:Yoga in the Park
DESCRIPTION:Janet from Kind Soul Yoga will be offering park yoga practices again this summer! Per Janet\, “I’m looking forward to another beautiful summer in the park with thee most incredible yogis from around the world!!!! (last year we had 3 from Germany and England!!!)” \nPark practices are taking place Tuesdays and Saturdays (June 14th – September 30th) at 8am! Meet at the Nicolet Bay Beach area\, near the water\, just north of the Camp Store. The cost for this class is $10/cash & $12/credit. Mats can be rented for $3 or purchased new for $50. NO PRIOR REGISTRATION needed – just sign in when you arrive!  \n*The first Saturday of every month\, Kind Soul will donate 50% of the funds to the Friends of Peninsula State Park!!!
URL:https://peninsulastatepark.org/event/yoga-in-the-park/2025-07-01/
LOCATION:Peninsula State Park – Nicolet Beach\, 45.16459063279326\,-87.22407221948242
ATTACH;FMTTYPE=image/png:https://peninsulastatepark.org/wp-content/uploads/2023/05/Kind-Soul-Yoga2.png
END:VEVENT
BEGIN:VEVENT
DTSTART;TZID=America/Chicago:20250701T160000
DTEND;TZID=America/Chicago:20250701T170000
DTSTAMP:20260425T053758
CREATED:20250606T145410Z
LAST-MODIFIED:20250606T145411Z
UID:12654-1751385600-1751389200@peninsulastatepark.org
SUMMARY:Historical Traces Trek
DESCRIPTION:Join Dave Lea\, who has been exploring the park since the 1970’s\, on an exciting\, off-trail adventure finding the park’s historic sites. Wear sturdy boots and long pants to discover traces of the past.
URL:https://peninsulastatepark.org/event/historical-traces-trek/2025-07-01/
LOCATION:Peninsula State Park – White Cedar Nature Center
END:VEVENT
BEGIN:VEVENT
DTSTART;TZID=America/Chicago:20250702T110000
DTEND;TZID=America/Chicago:20250702T120000
DTSTAMP:20260425T053758
CREATED:20250605T134154Z
LAST-MODIFIED:20250605T134154Z
UID:12643-1751454000-1751457600@peninsulastatepark.org
SUMMARY:Storytime: Mighty Wings w/the Author 🦋
DESCRIPTION:Both young\, not so young\, and those in between visitors to the Park will enjoy the butterfly facts and stories spun by our own resident educational contributor\, Debbie Clement.  \nJoin us for FREE on Wednesday mornings at 11am in June and July rain or shine at the Nature Center Amphitheater.
URL:https://peninsulastatepark.org/event/storytime-mighty-wings-w-the-author-%f0%9f%a6%8b-2/2025-07-02/
LOCATION:Peninsula State Park – White Cedar Nature Center
ATTACH;FMTTYPE=image/jpeg:https://peninsulastatepark.org/wp-content/uploads/2023/03/monarch.10.meiers-scaled.jpg
END:VEVENT
BEGIN:VEVENT
DTSTART;TZID=America/Chicago:20250705T080000
DTEND;TZID=America/Chicago:20250705T090000
DTSTAMP:20260425T053758
CREATED:20250509T144804Z
LAST-MODIFIED:20250509T144804Z
UID:12583-1751702400-1751706000@peninsulastatepark.org
SUMMARY:Yoga in the Park
DESCRIPTION:Janet from Kind Soul Yoga will be offering park yoga practices again this summer! Per Janet\, “I’m looking forward to another beautiful summer in the park with thee most incredible yogis from around the world!!!! (last year we had 3 from Germany and England!!!)” \nPark practices are taking place Tuesdays and Saturdays (June 14th – September 30th) at 8am! Meet at the Nicolet Bay Beach area\, near the water\, just north of the Camp Store. The cost for this class is $10/cash & $12/credit. Mats can be rented for $3 or purchased new for $50. NO PRIOR REGISTRATION needed – just sign in when you arrive!  \n*The first Saturday of every month\, Kind Soul will donate 50% of the funds to the Friends of Peninsula State Park!!!
URL:https://peninsulastatepark.org/event/yoga-in-the-park/2025-07-05/
LOCATION:Peninsula State Park – Nicolet Beach\, 45.16459063279326\,-87.22407221948242
ATTACH;FMTTYPE=image/png:https://peninsulastatepark.org/wp-content/uploads/2023/05/Kind-Soul-Yoga2.png
END:VEVENT
BEGIN:VEVENT
DTSTART;TZID=America/Chicago:20250708T080000
DTEND;TZID=America/Chicago:20250708T090000
DTSTAMP:20260425T053758
CREATED:20250509T144804Z
LAST-MODIFIED:20250509T144804Z
UID:12584-1751961600-1751965200@peninsulastatepark.org
SUMMARY:Yoga in the Park
DESCRIPTION:Janet from Kind Soul Yoga will be offering park yoga practices again this summer! Per Janet\, “I’m looking forward to another beautiful summer in the park with thee most incredible yogis from around the world!!!! (last year we had 3 from Germany and England!!!)” \nPark practices are taking place Tuesdays and Saturdays (June 14th – September 30th) at 8am! Meet at the Nicolet Bay Beach area\, near the water\, just north of the Camp Store. The cost for this class is $10/cash & $12/credit. Mats can be rented for $3 or purchased new for $50. NO PRIOR REGISTRATION needed – just sign in when you arrive!  \n*The first Saturday of every month\, Kind Soul will donate 50% of the funds to the Friends of Peninsula State Park!!!
URL:https://peninsulastatepark.org/event/yoga-in-the-park/2025-07-08/
LOCATION:Peninsula State Park – Nicolet Beach\, 45.16459063279326\,-87.22407221948242
ATTACH;FMTTYPE=image/png:https://peninsulastatepark.org/wp-content/uploads/2023/05/Kind-Soul-Yoga2.png
END:VEVENT
BEGIN:VEVENT
DTSTART;TZID=America/Chicago:20250709T110000
DTEND;TZID=America/Chicago:20250709T120000
DTSTAMP:20260425T053758
CREATED:20250605T134154Z
LAST-MODIFIED:20250605T134154Z
UID:12644-1752058800-1752062400@peninsulastatepark.org
SUMMARY:Storytime: Mighty Wings w/the Author 🦋
DESCRIPTION:Both young\, not so young\, and those in between visitors to the Park will enjoy the butterfly facts and stories spun by our own resident educational contributor\, Debbie Clement.  \nJoin us for FREE on Wednesday mornings at 11am in June and July rain or shine at the Nature Center Amphitheater.
URL:https://peninsulastatepark.org/event/storytime-mighty-wings-w-the-author-%f0%9f%a6%8b-2/2025-07-09/
LOCATION:Peninsula State Park – White Cedar Nature Center
ATTACH;FMTTYPE=image/jpeg:https://peninsulastatepark.org/wp-content/uploads/2023/03/monarch.10.meiers-scaled.jpg
END:VEVENT
BEGIN:VEVENT
DTSTART;TZID=America/Chicago:20250710T130000
DTEND;TZID=America/Chicago:20250710T140000
DTSTAMP:20260425T053758
CREATED:20250606T151824Z
LAST-MODIFIED:20250606T151824Z
UID:12697-1752152400-1752156000@peninsulastatepark.org
SUMMARY:Raptor Talks: Change or Adapt
DESCRIPTION:Join Open Door Bird Sanctuary:  The world is changing and so must birds of prey.  Some changes are easy to make\, while some aren’t.  (Live animal encounter)
URL:https://peninsulastatepark.org/event/raptor-talks-change-or-adapt/
LOCATION:Peninsula State Park – White Cedar Nature Center
ATTACH;FMTTYPE=image/webp:https://peninsulastatepark.org/wp-content/uploads/2024/05/Open-Door-Bird-Sanctuary-LOGO-for-web.webp
END:VEVENT
BEGIN:VEVENT
DTSTART;TZID=America/Chicago:20250710T190000
DTEND;TZID=America/Chicago:20250710T200000
DTSTAMP:20260425T053758
CREATED:20250606T151340Z
LAST-MODIFIED:20250606T151340Z
UID:12688-1752174000-1752177600@peninsulastatepark.org
SUMMARY:Campfire with the Warden
DESCRIPTION:Welcker Campground – Camp Host Site 525 \nJoin our State Park Wardens at the camp host site and learn more about campfire building and how you can be safe in and around the park.
URL:https://peninsulastatepark.org/event/campfire-with-the-warden-3/2025-07-10/
LOCATION:WI
ATTACH;FMTTYPE=image/jpeg:https://peninsulastatepark.org/wp-content/uploads/2018/04/fire.jpg
END:VEVENT
BEGIN:VEVENT
DTSTART;TZID=America/Chicago:20250711T073000
DTEND;TZID=America/Chicago:20250711T083000
DTSTAMP:20260425T053758
CREATED:20250606T150610Z
LAST-MODIFIED:20250606T150610Z
UID:12671-1752219000-1752222600@peninsulastatepark.org
SUMMARY:Run with a Ranger
DESCRIPTION:Weekly Run with a Ranger on various trails throughout the park. Come out\, meet new people\, and learn more about what makes Peninsula State Park a special place! Most routes are about 5k (3mi) in distance with cutoffs for shorter routes.
URL:https://peninsulastatepark.org/event/run-with-a-ranger-2/2025-07-11/
LOCATION:Peninsula State Park – Nicolet Beach\, 45.16459063279326\,-87.22407221948242
END:VEVENT
END:VCALENDAR