BEGIN:VCALENDAR
VERSION:2.0
PRODID:-//Friends of Peninsula State Park - ECPv6.15.20//NONSGML v1.0//EN
CALSCALE:GREGORIAN
METHOD:PUBLISH
X-WR-CALNAME:Friends of Peninsula State Park
X-ORIGINAL-URL:https://peninsulastatepark.org
X-WR-CALDESC:Events for Friends of Peninsula State Park
REFRESH-INTERVAL;VALUE=DURATION:PT1H
X-Robots-Tag:noindex
X-PUBLISHED-TTL:PT1H
BEGIN:VTIMEZONE
TZID:America/Chicago
BEGIN:DAYLIGHT
TZOFFSETFROM:-0600
TZOFFSETTO:-0500
TZNAME:CDT
DTSTART:20240310T080000
END:DAYLIGHT
BEGIN:STANDARD
TZOFFSETFROM:-0500
TZOFFSETTO:-0600
TZNAME:CST
DTSTART:20241103T070000
END:STANDARD
BEGIN:DAYLIGHT
TZOFFSETFROM:-0600
TZOFFSETTO:-0500
TZNAME:CDT
DTSTART:20250309T080000
END:DAYLIGHT
BEGIN:STANDARD
TZOFFSETFROM:-0500
TZOFFSETTO:-0600
TZNAME:CST
DTSTART:20251102T070000
END:STANDARD
BEGIN:DAYLIGHT
TZOFFSETFROM:-0600
TZOFFSETTO:-0500
TZNAME:CDT
DTSTART:20260308T080000
END:DAYLIGHT
BEGIN:STANDARD
TZOFFSETFROM:-0500
TZOFFSETTO:-0600
TZNAME:CST
DTSTART:20261101T070000
END:STANDARD
BEGIN:DAYLIGHT
TZOFFSETFROM:-0600
TZOFFSETTO:-0500
TZNAME:CDT
DTSTART:20270314T080000
END:DAYLIGHT
BEGIN:STANDARD
TZOFFSETFROM:-0500
TZOFFSETTO:-0600
TZNAME:CST
DTSTART:20271107T070000
END:STANDARD
END:VTIMEZONE
BEGIN:VEVENT
DTSTART;TZID=America/Chicago:20260418T090000
DTEND;TZID=America/Chicago:20260418T130000
DTSTAMP:20260423T104359
CREATED:20260330T203522Z
LAST-MODIFIED:20260330T203522Z
UID:13232-1776502800-1776517200@peninsulastatepark.org
SUMMARY:Happy Little Trees 5k & Work. Play. Earth Day
DESCRIPTION:Happy Little Trees 5k & Work. Play. Earth Day!\n9am: 5K Run/Walk\n10am: Work day at Nicolet Beach \nJoin us for campground clean-up and picnic table repair around the Nicolet Beach Day Use area. Participate in a run/walk beforehand to help fund reforestation projects in state parks. See below for more info…
URL:https://peninsulastatepark.org/event/happy-little-trees-5k-work-play-earth-day/
LOCATION:Peninsula State Park – Nicolet Beach\, 45.16459063279326\,-87.22407221948242
ATTACH;FMTTYPE=image/png:https://peninsulastatepark.org/wp-content/uploads/2024/01/ms-icon-310x310-1.png
END:VEVENT
BEGIN:VEVENT
DTSTART;TZID=America/Chicago:20260319T100000
DTEND;TZID=America/Chicago:20260319T140000
DTSTAMP:20260423T104359
CREATED:20260303T153531Z
LAST-MODIFIED:20260303T153531Z
UID:13178-1773914400-1773928800@peninsulastatepark.org
SUMMARY:PENINSULA PROTECTORS: March Painting Madness
DESCRIPTION:Help paint picnic boards and sign posts for the upcoming season while watching March Madness basketball!  \nContact Matt: matthew.ernst@wisconsin.gov \nTime: 10am – 2pm \nLocation: Maintenance Shop
URL:https://peninsulastatepark.org/event/peninsula-protectors-march-painting-madness/
LOCATION:WI
ATTACH;FMTTYPE=image/png:https://peninsulastatepark.org/wp-content/uploads/2024/01/ms-icon-310x310-1.png
END:VEVENT
BEGIN:VEVENT
DTSTART;TZID=America/Chicago:20260207T170000
DTEND;TZID=America/Chicago:20260207T200000
DTSTAMP:20260423T104359
CREATED:20250113T183307Z
LAST-MODIFIED:20260116T150320Z
UID:12464-1770483600-1770494400@peninsulastatepark.org
SUMMARY:Annual Candlelight Hike
DESCRIPTION:Winter is a magical time in Peninsula State Park. Enjoy the serenity of hiking the Park in winter on the evening of Saturday\, February 7th. That’s the same night as the Fish Creek Winterfest! \nThe annual Candlelight Hike will start at 5:00pm\, beginning from the parking lot just past the Fish Creek main park entrance.  \n \nWe will also need volunteers to help with candle-lighting\, refreshments\, parking\, candle re-lighting and supplying food for guests and volunteers. \nIf you are interested in helping out\, please contact:​\nSally Pfeifer\n920-421-0808
URL:https://peninsulastatepark.org/event/annual-candlelight-hike/
LOCATION:Fish Creek Parking Lot /Picnic Area\, 9462 Shore Rd\, Fish Creek\, WI\, 54212\, United States
ATTACH;FMTTYPE=image/png:https://peninsulastatepark.org/wp-content/uploads/2017/01/CandlelightSkiPressPhoto.png
END:VEVENT
BEGIN:VEVENT
DTSTART;TZID=America/Chicago:20260101T093000
DTEND;TZID=America/Chicago:20260101T120000
DTSTAMP:20260423T104359
CREATED:20251203T152013Z
LAST-MODIFIED:20251203T152013Z
UID:13052-1767259800-1767268800@peninsulastatepark.org
SUMMARY:First Day Hike 2026
DESCRIPTION:First Day Hike 2026 lyer
URL:https://peninsulastatepark.org/event/first-day-hike-2026/
LOCATION:Peninsula State Park – White Cedar Nature Center
END:VEVENT
BEGIN:VEVENT
DTSTART;TZID=America/Chicago:20251119T083000
DTEND;TZID=America/Chicago:20251119T110000
DTSTAMP:20260423T104359
CREATED:20251104T163752Z
LAST-MODIFIED:20251104T163752Z
UID:13019-1763541000-1763550000@peninsulastatepark.org
SUMMARY:PENINSULA PROTECTORS: WINTER TRAIL MAINTENANCE
DESCRIPTION:MAINTENANCE SHOP \nWINTER TRAIL MAINTENANCE\nCLEARING\, TRIMMING\,\nTRAILS MAKING SURE THEY\nARE PREPPED FOR THE\nWINTER SEASON
URL:https://peninsulastatepark.org/event/peninsula-protectors-winter-trail-maintenance/2025-11-19/
LOCATION:WI
ATTACH;FMTTYPE=image/jpeg:https://peninsulastatepark.org/wp-content/uploads/2025/11/Vol_Nov_25-images-0-scaled.jpg
END:VEVENT
BEGIN:VEVENT
DTSTART;TZID=America/Chicago:20251115T100000
DTEND;TZID=America/Chicago:20251115T120000
DTSTAMP:20260423T104359
CREATED:20251104T163602Z
LAST-MODIFIED:20251104T163602Z
UID:13015-1763200800-1763208000@peninsulastatepark.org
SUMMARY:PENINSULA PROTECTORS: Winter Volunteer Meeting
DESCRIPTION:MAINTENANCE SHOP\nWinter Volunteer Meeting
URL:https://peninsulastatepark.org/event/peninsula-protectors-winter-volunteer-meeting/
LOCATION:WI
ATTACH;FMTTYPE=image/jpeg:https://peninsulastatepark.org/wp-content/uploads/2025/11/Vol_Nov_25-images-0-scaled.jpg
END:VEVENT
BEGIN:VEVENT
DTSTART;TZID=America/Chicago:20251112T083000
DTEND;TZID=America/Chicago:20251112T110000
DTSTAMP:20260423T104359
CREATED:20251104T163752Z
LAST-MODIFIED:20251104T163752Z
UID:13018-1762936200-1762945200@peninsulastatepark.org
SUMMARY:PENINSULA PROTECTORS: WINTER TRAIL MAINTENANCE
DESCRIPTION:MAINTENANCE SHOP \nWINTER TRAIL MAINTENANCE\nCLEARING\, TRIMMING\,\nTRAILS MAKING SURE THEY\nARE PREPPED FOR THE\nWINTER SEASON
URL:https://peninsulastatepark.org/event/peninsula-protectors-winter-trail-maintenance/2025-11-12/
LOCATION:WI
ATTACH;FMTTYPE=image/jpeg:https://peninsulastatepark.org/wp-content/uploads/2025/11/Vol_Nov_25-images-0-scaled.jpg
END:VEVENT
BEGIN:VEVENT
DTSTART;TZID=America/Chicago:20251105T083000
DTEND;TZID=America/Chicago:20251105T110000
DTSTAMP:20260423T104359
CREATED:20251104T163752Z
LAST-MODIFIED:20251104T163752Z
UID:13017-1762331400-1762340400@peninsulastatepark.org
SUMMARY:PENINSULA PROTECTORS: WINTER TRAIL MAINTENANCE
DESCRIPTION:MAINTENANCE SHOP \nWINTER TRAIL MAINTENANCE\nCLEARING\, TRIMMING\,\nTRAILS MAKING SURE THEY\nARE PREPPED FOR THE\nWINTER SEASON
URL:https://peninsulastatepark.org/event/peninsula-protectors-winter-trail-maintenance/2025-11-05/
LOCATION:WI
ATTACH;FMTTYPE=image/jpeg:https://peninsulastatepark.org/wp-content/uploads/2025/11/Vol_Nov_25-images-0-scaled.jpg
END:VEVENT
BEGIN:VEVENT
DTSTART;TZID=America/Chicago:20251030T080000
DTEND;TZID=America/Chicago:20251030T110000
DTSTAMP:20260423T104359
CREATED:20251001T185134Z
LAST-MODIFIED:20251002T152111Z
UID:12969-1761811200-1761822000@peninsulastatepark.org
SUMMARY:PENINSULA PROTECTORS: Chainsaw/Brush Clearing
DESCRIPTION:FELL TREES AND CLEAR BRUSH IN VARIOUS AREAS IN THE PARK. (MUST BE CHAINSAW CERTIFIED BY PARK STAFF TO OPERATE A CHAINSAW)
URL:https://peninsulastatepark.org/event/peninsula-protectors-chainsaw-brush-clearing/2025-10-30/
LOCATION:WI
ATTACH;FMTTYPE=image/jpeg:https://peninsulastatepark.org/wp-content/uploads/2025/10/Vol_Oct_25-1-images-0-scaled.jpg
END:VEVENT
BEGIN:VEVENT
DTSTART;TZID=America/Chicago:20251024T080000
DTEND;TZID=America/Chicago:20251024T110000
DTSTAMP:20260423T104359
CREATED:20251001T185134Z
LAST-MODIFIED:20251002T152111Z
UID:12968-1761292800-1761303600@peninsulastatepark.org
SUMMARY:PENINSULA PROTECTORS: Chainsaw/Brush Clearing
DESCRIPTION:FELL TREES AND CLEAR BRUSH IN VARIOUS AREAS IN THE PARK. (MUST BE CHAINSAW CERTIFIED BY PARK STAFF TO OPERATE A CHAINSAW)
URL:https://peninsulastatepark.org/event/peninsula-protectors-chainsaw-brush-clearing/2025-10-24/
LOCATION:WI
ATTACH;FMTTYPE=image/jpeg:https://peninsulastatepark.org/wp-content/uploads/2025/10/Vol_Oct_25-1-images-0-scaled.jpg
END:VEVENT
BEGIN:VEVENT
DTSTART;TZID=America/Chicago:20251016T080000
DTEND;TZID=America/Chicago:20251016T110000
DTSTAMP:20260423T104359
CREATED:20251001T185134Z
LAST-MODIFIED:20251002T152110Z
UID:12967-1760601600-1760612400@peninsulastatepark.org
SUMMARY:PENINSULA PROTECTORS: Chainsaw/Brush Clearing
DESCRIPTION:FELL TREES AND CLEAR BRUSH IN VARIOUS AREAS IN THE PARK. (MUST BE CHAINSAW CERTIFIED BY PARK STAFF TO OPERATE A CHAINSAW)
URL:https://peninsulastatepark.org/event/peninsula-protectors-chainsaw-brush-clearing/2025-10-16/
LOCATION:WI
ATTACH;FMTTYPE=image/jpeg:https://peninsulastatepark.org/wp-content/uploads/2025/10/Vol_Oct_25-1-images-0-scaled.jpg
END:VEVENT
BEGIN:VEVENT
DTSTART;TZID=America/Chicago:20251008T080000
DTEND;TZID=America/Chicago:20251008T110000
DTSTAMP:20260423T104359
CREATED:20251001T185134Z
LAST-MODIFIED:20251002T152110Z
UID:12966-1759910400-1759921200@peninsulastatepark.org
SUMMARY:PENINSULA PROTECTORS: Chainsaw/Brush Clearing
DESCRIPTION:FELL TREES AND CLEAR BRUSH IN VARIOUS AREAS IN THE PARK. (MUST BE CHAINSAW CERTIFIED BY PARK STAFF TO OPERATE A CHAINSAW)
URL:https://peninsulastatepark.org/event/peninsula-protectors-chainsaw-brush-clearing/2025-10-08/
LOCATION:WI
ATTACH;FMTTYPE=image/jpeg:https://peninsulastatepark.org/wp-content/uploads/2025/10/Vol_Oct_25-1-images-0-scaled.jpg
END:VEVENT
BEGIN:VEVENT
DTSTART;TZID=America/Chicago:20250930T080000
DTEND;TZID=America/Chicago:20250930T120000
DTSTAMP:20260423T104359
CREATED:20250910T173918Z
LAST-MODIFIED:20250910T173918Z
UID:12916-1759219200-1759233600@peninsulastatepark.org
SUMMARY:PENINSULA PROTECTORS: Trail Trimming Day
DESCRIPTION:HELP TRIM BACK THE VEGETATION THAT HAS GROWN OVER ON OUR TRAILS!
URL:https://peninsulastatepark.org/event/peninsula-protectors-trail-trimming-day/
LOCATION:WI
ATTACH;FMTTYPE=image/jpeg:https://peninsulastatepark.org/wp-content/uploads/2025/09/cid_6CD59D62-8B33-42BE-88A9-FDF37ABE8064-scaled.jpg
END:VEVENT
BEGIN:VEVENT
DTSTART;TZID=America/Chicago:20250930T080000
DTEND;TZID=America/Chicago:20250930T090000
DTSTAMP:20260423T104359
CREATED:20250509T144804Z
LAST-MODIFIED:20250509T144817Z
UID:12609-1759219200-1759222800@peninsulastatepark.org
SUMMARY:Yoga in the Park
DESCRIPTION:Janet from Kind Soul Yoga will be offering park yoga practices again this summer! Per Janet\, “I’m looking forward to another beautiful summer in the park with thee most incredible yogis from around the world!!!! (last year we had 3 from Germany and England!!!)” \nPark practices are taking place Tuesdays and Saturdays (June 14th – September 30th) at 8am! Meet at the Nicolet Bay Beach area\, near the water\, just north of the Camp Store. The cost for this class is $10/cash & $12/credit. Mats can be rented for $3 or purchased new for $50. NO PRIOR REGISTRATION needed – just sign in when you arrive!  \n*The first Saturday of every month\, Kind Soul will donate 50% of the funds to the Friends of Peninsula State Park!!!
URL:https://peninsulastatepark.org/event/yoga-in-the-park/2025-09-30/
LOCATION:Peninsula State Park – Nicolet Beach\, 45.16459063279326\,-87.22407221948242
ATTACH;FMTTYPE=image/png:https://peninsulastatepark.org/wp-content/uploads/2023/05/Kind-Soul-Yoga2.png
END:VEVENT
BEGIN:VEVENT
DTSTART;TZID=America/Chicago:20250927T080000
DTEND;TZID=America/Chicago:20250927T090000
DTSTAMP:20260423T104359
CREATED:20250509T144804Z
LAST-MODIFIED:20250509T144815Z
UID:12608-1758960000-1758963600@peninsulastatepark.org
SUMMARY:Yoga in the Park
DESCRIPTION:Janet from Kind Soul Yoga will be offering park yoga practices again this summer! Per Janet\, “I’m looking forward to another beautiful summer in the park with thee most incredible yogis from around the world!!!! (last year we had 3 from Germany and England!!!)” \nPark practices are taking place Tuesdays and Saturdays (June 14th – September 30th) at 8am! Meet at the Nicolet Bay Beach area\, near the water\, just north of the Camp Store. The cost for this class is $10/cash & $12/credit. Mats can be rented for $3 or purchased new for $50. NO PRIOR REGISTRATION needed – just sign in when you arrive!  \n*The first Saturday of every month\, Kind Soul will donate 50% of the funds to the Friends of Peninsula State Park!!!
URL:https://peninsulastatepark.org/event/yoga-in-the-park/2025-09-27/
LOCATION:Peninsula State Park – Nicolet Beach\, 45.16459063279326\,-87.22407221948242
ATTACH;FMTTYPE=image/png:https://peninsulastatepark.org/wp-content/uploads/2023/05/Kind-Soul-Yoga2.png
END:VEVENT
BEGIN:VEVENT
DTSTART;TZID=America/Chicago:20250924T120000
DTEND;TZID=America/Chicago:20250924T150000
DTSTAMP:20260423T104359
CREATED:20250910T172825Z
LAST-MODIFIED:20250910T173704Z
UID:12905-1758715200-1758726000@peninsulastatepark.org
SUMMARY:PENINSULA PROTECTORS: Trail Building Day
DESCRIPTION:HELP BUILD A REROUTE OF NICOLET BAY TRAIL USING HAND TOOLS!
URL:https://peninsulastatepark.org/event/peninsula-protectors-trail-building-day/2025-09-24/
LOCATION:Peninsula State Park – White Cedar Nature Center
ATTACH;FMTTYPE=image/jpeg:https://peninsulastatepark.org/wp-content/uploads/2025/09/cid_6CD59D62-8B33-42BE-88A9-FDF37ABE8064-scaled.jpg
END:VEVENT
BEGIN:VEVENT
DTSTART;TZID=America/Chicago:20250923T080000
DTEND;TZID=America/Chicago:20250923T090000
DTSTAMP:20260423T104359
CREATED:20250509T144804Z
LAST-MODIFIED:20250509T144815Z
UID:12607-1758614400-1758618000@peninsulastatepark.org
SUMMARY:Yoga in the Park
DESCRIPTION:Janet from Kind Soul Yoga will be offering park yoga practices again this summer! Per Janet\, “I’m looking forward to another beautiful summer in the park with thee most incredible yogis from around the world!!!! (last year we had 3 from Germany and England!!!)” \nPark practices are taking place Tuesdays and Saturdays (June 14th – September 30th) at 8am! Meet at the Nicolet Bay Beach area\, near the water\, just north of the Camp Store. The cost for this class is $10/cash & $12/credit. Mats can be rented for $3 or purchased new for $50. NO PRIOR REGISTRATION needed – just sign in when you arrive!  \n*The first Saturday of every month\, Kind Soul will donate 50% of the funds to the Friends of Peninsula State Park!!!
URL:https://peninsulastatepark.org/event/yoga-in-the-park/2025-09-23/
LOCATION:Peninsula State Park – Nicolet Beach\, 45.16459063279326\,-87.22407221948242
ATTACH;FMTTYPE=image/png:https://peninsulastatepark.org/wp-content/uploads/2023/05/Kind-Soul-Yoga2.png
END:VEVENT
BEGIN:VEVENT
DTSTART;TZID=America/Chicago:20250920T090000
DTEND;TZID=America/Chicago:20250920T120000
DTSTAMP:20260423T104359
CREATED:20250910T173534Z
LAST-MODIFIED:20250910T173625Z
UID:12911-1758358800-1758369600@peninsulastatepark.org
SUMMARY:PENINSULA PROTECTORS: Shelter Site Prep
DESCRIPTION:CLEAR BRUSH\, DEAD TREES\, AND PREP AROUND THE PARKING LOT FOR THE NEW OUTDOOR GATHERING AREA AND SHELTER!
URL:https://peninsulastatepark.org/event/peninsula-protectors-shelter-site-prep/
LOCATION:Peninsula State Park – Winter Warming House (Lot 5)\, 9462 Shore Road\, Fish Creek\, WI\, 54212\, United States
ATTACH;FMTTYPE=image/jpeg:https://peninsulastatepark.org/wp-content/uploads/2025/09/cid_6CD59D62-8B33-42BE-88A9-FDF37ABE8064-scaled.jpg
END:VEVENT
BEGIN:VEVENT
DTSTART;TZID=America/Chicago:20250920T080000
DTEND;TZID=America/Chicago:20250920T090000
DTSTAMP:20260423T104359
CREATED:20250509T144804Z
LAST-MODIFIED:20250509T144815Z
UID:12606-1758355200-1758358800@peninsulastatepark.org
SUMMARY:Yoga in the Park
DESCRIPTION:Janet from Kind Soul Yoga will be offering park yoga practices again this summer! Per Janet\, “I’m looking forward to another beautiful summer in the park with thee most incredible yogis from around the world!!!! (last year we had 3 from Germany and England!!!)” \nPark practices are taking place Tuesdays and Saturdays (June 14th – September 30th) at 8am! Meet at the Nicolet Bay Beach area\, near the water\, just north of the Camp Store. The cost for this class is $10/cash & $12/credit. Mats can be rented for $3 or purchased new for $50. NO PRIOR REGISTRATION needed – just sign in when you arrive!  \n*The first Saturday of every month\, Kind Soul will donate 50% of the funds to the Friends of Peninsula State Park!!!
URL:https://peninsulastatepark.org/event/yoga-in-the-park/2025-09-20/
LOCATION:Peninsula State Park – Nicolet Beach\, 45.16459063279326\,-87.22407221948242
ATTACH;FMTTYPE=image/png:https://peninsulastatepark.org/wp-content/uploads/2023/05/Kind-Soul-Yoga2.png
END:VEVENT
BEGIN:VEVENT
DTSTART;TZID=America/Chicago:20250916T120000
DTEND;TZID=America/Chicago:20250916T150000
DTSTAMP:20260423T104359
CREATED:20250910T172825Z
LAST-MODIFIED:20250910T173704Z
UID:12903-1758024000-1758034800@peninsulastatepark.org
SUMMARY:PENINSULA PROTECTORS: Trail Building Day
DESCRIPTION:HELP BUILD A REROUTE OF NICOLET BAY TRAIL USING HAND TOOLS!
URL:https://peninsulastatepark.org/event/peninsula-protectors-trail-building-day/2025-09-16/
LOCATION:Peninsula State Park – White Cedar Nature Center
ATTACH;FMTTYPE=image/jpeg:https://peninsulastatepark.org/wp-content/uploads/2025/09/cid_6CD59D62-8B33-42BE-88A9-FDF37ABE8064-scaled.jpg
END:VEVENT
BEGIN:VEVENT
DTSTART;TZID=America/Chicago:20250916T080000
DTEND;TZID=America/Chicago:20250916T090000
DTSTAMP:20260423T104359
CREATED:20250509T144804Z
LAST-MODIFIED:20250509T144815Z
UID:12605-1758009600-1758013200@peninsulastatepark.org
SUMMARY:Yoga in the Park
DESCRIPTION:Janet from Kind Soul Yoga will be offering park yoga practices again this summer! Per Janet\, “I’m looking forward to another beautiful summer in the park with thee most incredible yogis from around the world!!!! (last year we had 3 from Germany and England!!!)” \nPark practices are taking place Tuesdays and Saturdays (June 14th – September 30th) at 8am! Meet at the Nicolet Bay Beach area\, near the water\, just north of the Camp Store. The cost for this class is $10/cash & $12/credit. Mats can be rented for $3 or purchased new for $50. NO PRIOR REGISTRATION needed – just sign in when you arrive!  \n*The first Saturday of every month\, Kind Soul will donate 50% of the funds to the Friends of Peninsula State Park!!!
URL:https://peninsulastatepark.org/event/yoga-in-the-park/2025-09-16/
LOCATION:Peninsula State Park – Nicolet Beach\, 45.16459063279326\,-87.22407221948242
ATTACH;FMTTYPE=image/png:https://peninsulastatepark.org/wp-content/uploads/2023/05/Kind-Soul-Yoga2.png
END:VEVENT
BEGIN:VEVENT
DTSTART;TZID=America/Chicago:20250913T080000
DTEND;TZID=America/Chicago:20250913T090000
DTSTAMP:20260423T104359
CREATED:20250509T144804Z
LAST-MODIFIED:20250509T144815Z
UID:12604-1757750400-1757754000@peninsulastatepark.org
SUMMARY:Yoga in the Park
DESCRIPTION:Janet from Kind Soul Yoga will be offering park yoga practices again this summer! Per Janet\, “I’m looking forward to another beautiful summer in the park with thee most incredible yogis from around the world!!!! (last year we had 3 from Germany and England!!!)” \nPark practices are taking place Tuesdays and Saturdays (June 14th – September 30th) at 8am! Meet at the Nicolet Bay Beach area\, near the water\, just north of the Camp Store. The cost for this class is $10/cash & $12/credit. Mats can be rented for $3 or purchased new for $50. NO PRIOR REGISTRATION needed – just sign in when you arrive!  \n*The first Saturday of every month\, Kind Soul will donate 50% of the funds to the Friends of Peninsula State Park!!!
URL:https://peninsulastatepark.org/event/yoga-in-the-park/2025-09-13/
LOCATION:Peninsula State Park – Nicolet Beach\, 45.16459063279326\,-87.22407221948242
ATTACH;FMTTYPE=image/png:https://peninsulastatepark.org/wp-content/uploads/2023/05/Kind-Soul-Yoga2.png
END:VEVENT
BEGIN:VEVENT
DTSTART;TZID=America/Chicago:20250909T080000
DTEND;TZID=America/Chicago:20250909T090000
DTSTAMP:20260423T104359
CREATED:20250509T144804Z
LAST-MODIFIED:20250509T144815Z
UID:12603-1757404800-1757408400@peninsulastatepark.org
SUMMARY:Yoga in the Park
DESCRIPTION:Janet from Kind Soul Yoga will be offering park yoga practices again this summer! Per Janet\, “I’m looking forward to another beautiful summer in the park with thee most incredible yogis from around the world!!!! (last year we had 3 from Germany and England!!!)” \nPark practices are taking place Tuesdays and Saturdays (June 14th – September 30th) at 8am! Meet at the Nicolet Bay Beach area\, near the water\, just north of the Camp Store. The cost for this class is $10/cash & $12/credit. Mats can be rented for $3 or purchased new for $50. NO PRIOR REGISTRATION needed – just sign in when you arrive!  \n*The first Saturday of every month\, Kind Soul will donate 50% of the funds to the Friends of Peninsula State Park!!!
URL:https://peninsulastatepark.org/event/yoga-in-the-park/2025-09-09/
LOCATION:Peninsula State Park – Nicolet Beach\, 45.16459063279326\,-87.22407221948242
ATTACH;FMTTYPE=image/png:https://peninsulastatepark.org/wp-content/uploads/2023/05/Kind-Soul-Yoga2.png
END:VEVENT
BEGIN:VEVENT
DTSTART;TZID=America/Chicago:20250906T080000
DTEND;TZID=America/Chicago:20250906T090000
DTSTAMP:20260423T104359
CREATED:20250509T144804Z
LAST-MODIFIED:20250509T144815Z
UID:12602-1757145600-1757149200@peninsulastatepark.org
SUMMARY:Yoga in the Park
DESCRIPTION:Janet from Kind Soul Yoga will be offering park yoga practices again this summer! Per Janet\, “I’m looking forward to another beautiful summer in the park with thee most incredible yogis from around the world!!!! (last year we had 3 from Germany and England!!!)” \nPark practices are taking place Tuesdays and Saturdays (June 14th – September 30th) at 8am! Meet at the Nicolet Bay Beach area\, near the water\, just north of the Camp Store. The cost for this class is $10/cash & $12/credit. Mats can be rented for $3 or purchased new for $50. NO PRIOR REGISTRATION needed – just sign in when you arrive!  \n*The first Saturday of every month\, Kind Soul will donate 50% of the funds to the Friends of Peninsula State Park!!!
URL:https://peninsulastatepark.org/event/yoga-in-the-park/2025-09-06/
LOCATION:Peninsula State Park – Nicolet Beach\, 45.16459063279326\,-87.22407221948242
ATTACH;FMTTYPE=image/png:https://peninsulastatepark.org/wp-content/uploads/2023/05/Kind-Soul-Yoga2.png
END:VEVENT
BEGIN:VEVENT
DTSTART;TZID=America/Chicago:20250904T190000
DTEND;TZID=America/Chicago:20250904T200000
DTSTAMP:20260423T104359
CREATED:20250606T151227Z
LAST-MODIFIED:20250606T151227Z
UID:12686-1757012400-1757016000@peninsulastatepark.org
SUMMARY:Campfire with the Warden
DESCRIPTION:North Nicolet Campground – Camp Host Site 619 \nJoin our State Park Wardens at the camp host site and learn more about campfire building and how you can be safe in and around the park.
URL:https://peninsulastatepark.org/event/campfire-with-the-warden-2/2025-09-04/
LOCATION:WI
ATTACH;FMTTYPE=image/jpeg:https://peninsulastatepark.org/wp-content/uploads/2018/04/fire.jpg
END:VEVENT
BEGIN:VEVENT
DTSTART;TZID=America/Chicago:20250904T130000
DTEND;TZID=America/Chicago:20250904T140000
DTSTAMP:20260423T104359
CREATED:20250606T152249Z
LAST-MODIFIED:20250606T152249Z
UID:12705-1756990800-1756994400@peninsulastatepark.org
SUMMARY:Raptor Talks: City Slickers
DESCRIPTION:Join Open Door Bird Sanctuary for:  Urban Raptors?  Learn about the raptors that you don’t normally think of as living in the city.  (Live animal encounter)
URL:https://peninsulastatepark.org/event/raptor-talks-city-slickers/
LOCATION:Peninsula State Park – White Cedar Nature Center
ATTACH;FMTTYPE=image/webp:https://peninsulastatepark.org/wp-content/uploads/2024/05/Open-Door-Bird-Sanctuary-LOGO-for-web.webp
END:VEVENT
BEGIN:VEVENT
DTSTART;TZID=America/Chicago:20250902T080000
DTEND;TZID=America/Chicago:20250902T090000
DTSTAMP:20260423T104359
CREATED:20250509T144804Z
LAST-MODIFIED:20250509T144815Z
UID:12601-1756800000-1756803600@peninsulastatepark.org
SUMMARY:Yoga in the Park
DESCRIPTION:Janet from Kind Soul Yoga will be offering park yoga practices again this summer! Per Janet\, “I’m looking forward to another beautiful summer in the park with thee most incredible yogis from around the world!!!! (last year we had 3 from Germany and England!!!)” \nPark practices are taking place Tuesdays and Saturdays (June 14th – September 30th) at 8am! Meet at the Nicolet Bay Beach area\, near the water\, just north of the Camp Store. The cost for this class is $10/cash & $12/credit. Mats can be rented for $3 or purchased new for $50. NO PRIOR REGISTRATION needed – just sign in when you arrive!  \n*The first Saturday of every month\, Kind Soul will donate 50% of the funds to the Friends of Peninsula State Park!!!
URL:https://peninsulastatepark.org/event/yoga-in-the-park/2025-09-02/
LOCATION:Peninsula State Park – Nicolet Beach\, 45.16459063279326\,-87.22407221948242
ATTACH;FMTTYPE=image/png:https://peninsulastatepark.org/wp-content/uploads/2023/05/Kind-Soul-Yoga2.png
END:VEVENT
BEGIN:VEVENT
DTSTART;TZID=America/Chicago:20250830T080000
DTEND;TZID=America/Chicago:20250830T090000
DTSTAMP:20260423T104359
CREATED:20250509T144804Z
LAST-MODIFIED:20250509T144814Z
UID:12600-1756540800-1756544400@peninsulastatepark.org
SUMMARY:Yoga in the Park
DESCRIPTION:Janet from Kind Soul Yoga will be offering park yoga practices again this summer! Per Janet\, “I’m looking forward to another beautiful summer in the park with thee most incredible yogis from around the world!!!! (last year we had 3 from Germany and England!!!)” \nPark practices are taking place Tuesdays and Saturdays (June 14th – September 30th) at 8am! Meet at the Nicolet Bay Beach area\, near the water\, just north of the Camp Store. The cost for this class is $10/cash & $12/credit. Mats can be rented for $3 or purchased new for $50. NO PRIOR REGISTRATION needed – just sign in when you arrive!  \n*The first Saturday of every month\, Kind Soul will donate 50% of the funds to the Friends of Peninsula State Park!!!
URL:https://peninsulastatepark.org/event/yoga-in-the-park/2025-08-30/
LOCATION:Peninsula State Park – Nicolet Beach\, 45.16459063279326\,-87.22407221948242
ATTACH;FMTTYPE=image/png:https://peninsulastatepark.org/wp-content/uploads/2023/05/Kind-Soul-Yoga2.png
END:VEVENT
BEGIN:VEVENT
DTSTART;TZID=America/Chicago:20250829T110000
DTEND;TZID=America/Chicago:20250829T120000
DTSTAMP:20260423T104359
CREATED:20250606T152457Z
LAST-MODIFIED:20250606T152458Z
UID:12711-1756465200-1756468800@peninsulastatepark.org
SUMMARY:Wild Friends
DESCRIPTION:Join Bay Beach Wildlife Sanctuary naturalists to learn about and meet some of their wild friends with a live animal encounter.  Bay Beach Wildlife Sanctuary is a 535-acre urban wildlife refuge located in nearby Green Bay that houses a rehabilitation program for sick and injured animals.  Those on display in their exhibits and visiting our park are non-releasable due to injuries they sustained in the wild.
URL:https://peninsulastatepark.org/event/wild-friends/2025-08-29/
LOCATION:Peninsula State Park – White Cedar Nature Center
ATTACH;FMTTYPE=image/jpeg:https://peninsulastatepark.org/wp-content/uploads/2024/05/Bay-Beach-Wildlife-Sanctuary.jpg
END:VEVENT
BEGIN:VEVENT
DTSTART;TZID=America/Chicago:20250829T073000
DTEND;TZID=America/Chicago:20250829T083000
DTSTAMP:20260423T104359
CREATED:20250606T150744Z
LAST-MODIFIED:20250606T150744Z
UID:12675-1756452600-1756456200@peninsulastatepark.org
SUMMARY:Run with a Ranger
DESCRIPTION:Weekly Run with a Ranger on various trails throughout the park. Come out\, meet new people\, and learn more about what makes Peninsula State Park a special place! Most routes are about 5k (3mi) in distance with cutoffs for shorter routes. \nMeet at the Skyline parking lot!
URL:https://peninsulastatepark.org/event/run-with-a-ranger-3/2025-08-29/
LOCATION:Peninsula State Park\, 9462 Shore Road\, Fish Creek\, WI\, 54212\, United States
END:VEVENT
END:VCALENDAR