BEGIN:VCALENDAR
VERSION:2.0
PRODID:-//Friends of Peninsula State Park - ECPv6.15.20//NONSGML v1.0//EN
CALSCALE:GREGORIAN
METHOD:PUBLISH
X-WR-CALNAME:Friends of Peninsula State Park
X-ORIGINAL-URL:https://peninsulastatepark.org
X-WR-CALDESC:Events for Friends of Peninsula State Park
REFRESH-INTERVAL;VALUE=DURATION:PT1H
X-Robots-Tag:noindex
X-PUBLISHED-TTL:PT1H
BEGIN:VTIMEZONE
TZID:America/Chicago
BEGIN:DAYLIGHT
TZOFFSETFROM:-0600
TZOFFSETTO:-0500
TZNAME:CDT
DTSTART:20240310T080000
END:DAYLIGHT
BEGIN:STANDARD
TZOFFSETFROM:-0500
TZOFFSETTO:-0600
TZNAME:CST
DTSTART:20241103T070000
END:STANDARD
BEGIN:DAYLIGHT
TZOFFSETFROM:-0600
TZOFFSETTO:-0500
TZNAME:CDT
DTSTART:20250309T080000
END:DAYLIGHT
BEGIN:STANDARD
TZOFFSETFROM:-0500
TZOFFSETTO:-0600
TZNAME:CST
DTSTART:20251102T070000
END:STANDARD
BEGIN:DAYLIGHT
TZOFFSETFROM:-0600
TZOFFSETTO:-0500
TZNAME:CDT
DTSTART:20260308T080000
END:DAYLIGHT
BEGIN:STANDARD
TZOFFSETFROM:-0500
TZOFFSETTO:-0600
TZNAME:CST
DTSTART:20261101T070000
END:STANDARD
END:VTIMEZONE
BEGIN:VEVENT
DTSTART;TZID=America/Chicago:20251119T083000
DTEND;TZID=America/Chicago:20251119T110000
DTSTAMP:20260423T134333
CREATED:20251104T163752Z
LAST-MODIFIED:20251104T163752Z
UID:13019-1763541000-1763550000@peninsulastatepark.org
SUMMARY:PENINSULA PROTECTORS: WINTER TRAIL MAINTENANCE
DESCRIPTION:MAINTENANCE SHOP \nWINTER TRAIL MAINTENANCE\nCLEARING\, TRIMMING\,\nTRAILS MAKING SURE THEY\nARE PREPPED FOR THE\nWINTER SEASON
URL:https://peninsulastatepark.org/event/peninsula-protectors-winter-trail-maintenance/2025-11-19/
ATTACH;FMTTYPE=image/jpeg:https://peninsulastatepark.org/wp-content/uploads/2025/11/Vol_Nov_25-images-0-scaled.jpg
END:VEVENT
BEGIN:VEVENT
DTSTART;TZID=America/Chicago:20251112T083000
DTEND;TZID=America/Chicago:20251112T110000
DTSTAMP:20260423T134333
CREATED:20251104T163752Z
LAST-MODIFIED:20251104T163752Z
UID:13018-1762936200-1762945200@peninsulastatepark.org
SUMMARY:PENINSULA PROTECTORS: WINTER TRAIL MAINTENANCE
DESCRIPTION:MAINTENANCE SHOP \nWINTER TRAIL MAINTENANCE\nCLEARING\, TRIMMING\,\nTRAILS MAKING SURE THEY\nARE PREPPED FOR THE\nWINTER SEASON
URL:https://peninsulastatepark.org/event/peninsula-protectors-winter-trail-maintenance/2025-11-12/
ATTACH;FMTTYPE=image/jpeg:https://peninsulastatepark.org/wp-content/uploads/2025/11/Vol_Nov_25-images-0-scaled.jpg
END:VEVENT
BEGIN:VEVENT
DTSTART;TZID=America/Chicago:20251105T083000
DTEND;TZID=America/Chicago:20251105T110000
DTSTAMP:20260423T134333
CREATED:20251104T163752Z
LAST-MODIFIED:20251104T163752Z
UID:13017-1762331400-1762340400@peninsulastatepark.org
SUMMARY:PENINSULA PROTECTORS: WINTER TRAIL MAINTENANCE
DESCRIPTION:MAINTENANCE SHOP \nWINTER TRAIL MAINTENANCE\nCLEARING\, TRIMMING\,\nTRAILS MAKING SURE THEY\nARE PREPPED FOR THE\nWINTER SEASON
URL:https://peninsulastatepark.org/event/peninsula-protectors-winter-trail-maintenance/2025-11-05/
ATTACH;FMTTYPE=image/jpeg:https://peninsulastatepark.org/wp-content/uploads/2025/11/Vol_Nov_25-images-0-scaled.jpg
END:VEVENT
END:VCALENDAR